BEGIN:VCALENDAR
VERSION:2.0
PRODID:-//Alliance Française Zoetermeer - ECPv6.15.20//NONSGML v1.0//EN
CALSCALE:GREGORIAN
METHOD:PUBLISH
X-ORIGINAL-URL:https://www.alliance-francaise.nl/zoetermeer
X-WR-CALDESC:Evenementen voor Alliance Française Zoetermeer
REFRESH-INTERVAL;VALUE=DURATION:PT1H
X-Robots-Tag:noindex
X-PUBLISHED-TTL:PT1H
BEGIN:VTIMEZONE
TZID:Europe/Paris
BEGIN:DAYLIGHT
TZOFFSETFROM:+0100
TZOFFSETTO:+0200
TZNAME:CEST
DTSTART:20230326T010000
END:DAYLIGHT
BEGIN:STANDARD
TZOFFSETFROM:+0200
TZOFFSETTO:+0100
TZNAME:CET
DTSTART:20231029T010000
END:STANDARD
BEGIN:DAYLIGHT
TZOFFSETFROM:+0100
TZOFFSETTO:+0200
TZNAME:CEST
DTSTART:20240331T010000
END:DAYLIGHT
BEGIN:STANDARD
TZOFFSETFROM:+0200
TZOFFSETTO:+0100
TZNAME:CET
DTSTART:20241027T010000
END:STANDARD
BEGIN:DAYLIGHT
TZOFFSETFROM:+0100
TZOFFSETTO:+0200
TZNAME:CEST
DTSTART:20250330T010000
END:DAYLIGHT
BEGIN:STANDARD
TZOFFSETFROM:+0200
TZOFFSETTO:+0100
TZNAME:CET
DTSTART:20251026T010000
END:STANDARD
END:VTIMEZONE
BEGIN:VEVENT
DTSTART;TZID=Europe/Paris:20240905T190000
DTEND;TZID=Europe/Paris:20240905T203000
DTSTAMP:20260422T084527
CREATED:20240402T152035Z
LAST-MODIFIED:20240819T121930Z
UID:4539-1725562800-1725568200@www.alliance-francaise.nl
SUMMARY:Informatieavond
DESCRIPTION:Welkom op onze informatieavond voor een niveautest\, informatie en inschrijvingen. \nHier krijgt je onder het genot van een kop koffie of thee meer informatie over ons aanbod cursussen en kun je kennismaken met een aantal docenten. Wij kunnen indien nodig een test doen om jouw niveau te bepalen zodat je in de juiste groep wordt ingedeeld. \nOp deze avond wachten hoeft niet want op deze website is inschrijven ook mogelijk en u kunt zelf online uw niveau testen. \nVoor de groepsindeling gebruiken wij de niveau-indeling voor talen van het Europees Referentiekader (ERK). Blijkt tijdens de cursus het niveau waarvoor je bent ingedeeld te laag of te hoog te zijn\, dan is wisselen op elk moment in het jaar mogelijk.
URL:https://www.alliance-francaise.nl/zoetermeer/event/informatieavond/
LOCATION:Picasso Lyceum\, Paletsingel 38c\, Zoetermeer\, 2718 NT\, Netherlands
CATEGORIES:Info avond
ATTACH;FMTTYPE=image/jpeg:https://www.alliance-francaise.nl/zoetermeer/wp-content/uploads/sites/28/2022/04/20220407_213247_faded-scaled.jpg
END:VEVENT
BEGIN:VEVENT
DTSTART;VALUE=DATE:20240909
DTEND;VALUE=DATE:20240910
DTSTAMP:20260422T084527
CREATED:20240329T113530Z
LAST-MODIFIED:20240421T130312Z
UID:4476-1725840000-1725926399@www.alliance-francaise.nl
SUMMARY:Aanvang jaarcursus online
DESCRIPTION:Dit bestaat uit 25 lessen van 60 minuten via Teams/ Zoom. Maximaal vier cursisten per groep.\nAandacht voor spreken\, luisteren\, lezen en schrijven\, Franse cultuur\, actualiteit en meer. Op onze website is hier meer informatie over te vinden.\nTijd\, lesmateriaal\, docent et cetera worden drie dagen voorafgaand deze cursus bekend gemaakt per mail.
URL:https://www.alliance-francaise.nl/zoetermeer/event/aanvang-jaarcursus-online/
LOCATION:Picasso Lyceum\, Paletsingel 38c\, Zoetermeer\, 2718 NT\, Netherlands
CATEGORIES:Lessen op locatie
END:VEVENT
BEGIN:VEVENT
DTSTART;TZID=Europe/Paris:20240910T190000
DTEND;TZID=Europe/Paris:20240910T200000
DTSTAMP:20260422T084527
CREATED:20240329T113643Z
LAST-MODIFIED:20240421T130030Z
UID:4478-1725994800-1725998400@www.alliance-francaise.nl
SUMMARY:Aanvang DELF-DALF cursus online
DESCRIPTION:Dit bestaat uit 12 lessen van 60 minuten via Teams/ Zoom. Maximaal vier cursisten per groep.\nAandacht voor spreken\, luisteren\, lezen en schrijven. Op onze website is hier meer informatie over te vinden.\nTijd\, lesmateriaal\, docent et cetera worden drie dagen voorafgaand deze cursus bekend gemaakt per mail.
URL:https://www.alliance-francaise.nl/zoetermeer/event/aanvang-delf-dalf-cursus-online/
LOCATION:Online via Microsoft Teams
CATEGORIES:Online cursus
END:VEVENT
BEGIN:VEVENT
DTSTART;TZID=Europe/Paris:20240912T190000
DTEND;TZID=Europe/Paris:20240912T190000
DTSTAMP:20260422T084527
CREATED:20240329T113806Z
LAST-MODIFIED:20240421T130329Z
UID:4480-1726167600-1726167600@www.alliance-francaise.nl
SUMMARY:Aanvang jaarcursus op locatie
DESCRIPTION:Dit bestaat uit 25 lessen van 90 minuten op locatie. Maximaal 14 cursisten per groep.\nAandacht voor spreken\, luisteren\, lezen en schrijven\, Franse cultuur\, actualiteit en meer. Op onze website is hier meer informatie over te vinden.\nTijd\, lesmateriaal\, docent et cetera worden drie dagen voorafgaand deze cursus bekend gemaakt per mail.
URL:https://www.alliance-francaise.nl/zoetermeer/event/aanvang-jaarcursus-op-locatie/
LOCATION:Picasso Lyceum\, Paletsingel 38c\, Zoetermeer\, 2718 NT\, Netherlands
CATEGORIES:Lessen op locatie
END:VEVENT
END:VCALENDAR