BEGIN:VCALENDAR
VERSION:2.0
PRODID:-//Alliance Française Zoetermeer - ECPv6.15.20//NONSGML v1.0//EN
CALSCALE:GREGORIAN
METHOD:PUBLISH
X-WR-CALNAME:Alliance Française Zoetermeer
X-ORIGINAL-URL:https://www.alliance-francaise.nl/zoetermeer
X-WR-CALDESC:Evenementen voor Alliance Française Zoetermeer
REFRESH-INTERVAL;VALUE=DURATION:PT1H
X-Robots-Tag:noindex
X-PUBLISHED-TTL:PT1H
BEGIN:VTIMEZONE
TZID:Europe/Paris
BEGIN:DAYLIGHT
TZOFFSETFROM:+0100
TZOFFSETTO:+0200
TZNAME:CEST
DTSTART:20230326T010000
END:DAYLIGHT
BEGIN:STANDARD
TZOFFSETFROM:+0200
TZOFFSETTO:+0100
TZNAME:CET
DTSTART:20231029T010000
END:STANDARD
BEGIN:DAYLIGHT
TZOFFSETFROM:+0100
TZOFFSETTO:+0200
TZNAME:CEST
DTSTART:20240331T010000
END:DAYLIGHT
BEGIN:STANDARD
TZOFFSETFROM:+0200
TZOFFSETTO:+0100
TZNAME:CET
DTSTART:20241027T010000
END:STANDARD
BEGIN:DAYLIGHT
TZOFFSETFROM:+0100
TZOFFSETTO:+0200
TZNAME:CEST
DTSTART:20250330T010000
END:DAYLIGHT
BEGIN:STANDARD
TZOFFSETFROM:+0200
TZOFFSETTO:+0100
TZNAME:CET
DTSTART:20251026T010000
END:STANDARD
END:VTIMEZONE
BEGIN:VEVENT
DTSTART;TZID=Europe/Paris:20240215T200000
DTEND;TZID=Europe/Paris:20240215T220000
DTSTAMP:20260422T195135
CREATED:20231027T063847Z
LAST-MODIFIED:20240421T130137Z
UID:3278-1708027200-1708034400@www.alliance-francaise.nl
SUMMARY:Soirée "Tuinen van Parijs van Louis XII tot nu."
DESCRIPTION:Wim Dammers verzorgt deze donderdag de lezing “Tuinen van Parijs van Louis XIII tot nu”.\nDe lezing geeft een overzicht van de tuinontwikkeling in Parijs\, vanaf de tijd van de Franse koningen tot nu\, aan de hand van een selectie van het Parijse openbare groen. Het accent ligt bij de invloed van Haussmann\, die immers de stad heeft ontwikkeld naar de vorm\, zoals wij hem nu nog kennen. Ook restanten van Wereldtentoonstellingen\, die na de tentoon¬stel¬ling vaak in parken werden opgesteld komen aan de orde. De lezing wordt afgesloten met een tuinenpuzzel.\nWim Dammers noemt zichzelf een “amateur de Paris”. Hij heeft Parijs tientallen keren bezocht en er diverse keren groepen rondgeleid. Hij kent de geschiedenis van de stad en hij deelt zijn enthousiasme graag met anderen. \nGraag aanmelden voor deelname met naam via:\nculture.zoetermeer@afpb.nl
URL:https://www.alliance-francaise.nl/zoetermeer/event/soiree-culturelle/
LOCATION:Parochieel Centrum de Kapelaan\, Nicolaasplein 2\, Zoetermeer\, Nederland
CATEGORIES:Soirée
ATTACH;FMTTYPE=image/jpeg:https://www.alliance-francaise.nl/zoetermeer/wp-content/uploads/sites/28/2023/10/DSCN4051A.jpg
END:VEVENT
END:VCALENDAR