BEGIN:VCALENDAR
VERSION:2.0
PRODID:-//Alliance Française Zoetermeer - ECPv6.15.20//NONSGML v1.0//EN
CALSCALE:GREGORIAN
METHOD:PUBLISH
X-ORIGINAL-URL:https://www.alliance-francaise.nl/zoetermeer
X-WR-CALDESC:Evenementen voor Alliance Française Zoetermeer
REFRESH-INTERVAL;VALUE=DURATION:PT1H
X-Robots-Tag:noindex
X-PUBLISHED-TTL:PT1H
BEGIN:VTIMEZONE
TZID:Europe/Paris
BEGIN:DAYLIGHT
TZOFFSETFROM:+0100
TZOFFSETTO:+0200
TZNAME:CEST
DTSTART:20230326T010000
END:DAYLIGHT
BEGIN:STANDARD
TZOFFSETFROM:+0200
TZOFFSETTO:+0100
TZNAME:CET
DTSTART:20231029T010000
END:STANDARD
BEGIN:DAYLIGHT
TZOFFSETFROM:+0100
TZOFFSETTO:+0200
TZNAME:CEST
DTSTART:20240331T010000
END:DAYLIGHT
BEGIN:STANDARD
TZOFFSETFROM:+0200
TZOFFSETTO:+0100
TZNAME:CET
DTSTART:20241027T010000
END:STANDARD
BEGIN:DAYLIGHT
TZOFFSETFROM:+0100
TZOFFSETTO:+0200
TZNAME:CEST
DTSTART:20250330T010000
END:DAYLIGHT
BEGIN:STANDARD
TZOFFSETFROM:+0200
TZOFFSETTO:+0100
TZNAME:CET
DTSTART:20251026T010000
END:STANDARD
BEGIN:DAYLIGHT
TZOFFSETFROM:+0100
TZOFFSETTO:+0200
TZNAME:CEST
DTSTART:20260329T010000
END:DAYLIGHT
BEGIN:STANDARD
TZOFFSETFROM:+0200
TZOFFSETTO:+0100
TZNAME:CET
DTSTART:20261025T010000
END:STANDARD
BEGIN:DAYLIGHT
TZOFFSETFROM:+0100
TZOFFSETTO:+0200
TZNAME:CEST
DTSTART:20270328T010000
END:DAYLIGHT
BEGIN:STANDARD
TZOFFSETFROM:+0200
TZOFFSETTO:+0100
TZNAME:CET
DTSTART:20271031T010000
END:STANDARD
END:VTIMEZONE
BEGIN:VEVENT
DTSTART;TZID=Europe/Paris:20241121T190000
DTEND;TZID=Europe/Paris:20241121T194500
DTSTAMP:20260423T002439
CREATED:20240329T113922Z
LAST-MODIFIED:20240421T130022Z
UID:4482-1732215600-1732218300@www.alliance-francaise.nl
SUMMARY:Algemene ledenvergadering
DESCRIPTION:Cursisten en leden zijn welkom op onze algemene ledenvergadering.\n(Gratis parkeerplaats)
URL:https://www.alliance-francaise.nl/zoetermeer/event/algemene-ledenvergadering/
LOCATION:Parochieel Centrum de Kapelaan\, Nicolaasplein 2\, Zoetermeer\, Nederland
CATEGORIES:ALV
END:VEVENT
BEGIN:VEVENT
DTSTART;TZID=Europe/Paris:20241121T200000
DTEND;TZID=Europe/Paris:20241121T220000
DTSTAMP:20260423T002439
CREATED:20240329T114043Z
LAST-MODIFIED:20241126T071140Z
UID:4484-1732219200-1732226400@www.alliance-francaise.nl
SUMMARY:Soirée culturelle - Parijs en de harp
DESCRIPTION:Parijs en de harp \nDoor Regina Ederveen \nRegina Ederveen brengt op haar harpen een uniek concertprogramma. Zij neemt je mee met Middeleeuwse harpmuziek\, romantische muziek en krachtige\, opzwepende harpklanken\, waarin Parijs telkens centraal staat. Zij speelt op de Bretonse reisharp én de gouden pedaalharp\, die een prachtige klank hebben. Regina praat het programma aan elkaar met informatieve en humorvolle anekdotes over het muziekleven in Parijs\, boeiende componisten en harpisten die niet zo braaf waren als wij zouden denken. En bovenal… Regina’s live harpmuziek heeft de hoofdrol! Een spectaculair concertprogramma dat u meeneemt van de harp rechtstreeks naar uw hart! \nTe bezoeken door iedereen en ook geïnteresseerden van buitenaf zijn welkom en graag van te voren aanmelden.\nToegang gratis. Drankjes kunnen alleen contant worden betaald.\nMeldt u aan via DEZE LINK \n 
URL:https://www.alliance-francaise.nl/zoetermeer/event/soiree-culturelle-2/
LOCATION:Parochieel Centrum de Kapelaan\, Nicolaasplein 2\, Zoetermeer\, Nederland
CATEGORIES:Soirée
ATTACH;FMTTYPE=image/png:https://www.alliance-francaise.nl/zoetermeer/wp-content/uploads/sites/28/2024/08/Regina-Ederveen-soiree-culturelle-21-11-24.png
END:VEVENT
BEGIN:VEVENT
DTSTART;TZID=Europe/Paris:20250107T190000
DTEND;TZID=Europe/Paris:20250107T200000
DTSTAMP:20260423T002439
CREATED:20240329T114147Z
LAST-MODIFIED:20240329T132132Z
UID:4486-1736276400-1736280000@www.alliance-francaise.nl
SUMMARY:Aanvang DELF-DALF cursus online
DESCRIPTION:Dit bestaat uit 12 lessen van 60 minuten via Teams/ Zoom. Maximaal vier cursisten per groep.\nAandacht voor spreken\, luisteren\, lezen en schrijven\, Franse cultuur\, actualiteit en meer gericht op onderwerpen die praktisch zijn voor vakantie in een Franstalig land. Op onze website is hier meer informatie over te vinden.\nTijd\, lesmateriaal\, docent et cetera worden drie dagen voorafgaand deze cursus bekend gemaakt per mail.
URL:https://www.alliance-francaise.nl/zoetermeer/event/aanvang-delf-dalf-cursus-online-2/
LOCATION:Online via Microsoft Teams
CATEGORIES:Online cursus
END:VEVENT
BEGIN:VEVENT
DTSTART;TZID=Europe/Paris:20250206T200000
DTEND;TZID=Europe/Paris:20250206T220000
DTSTAMP:20260423T002439
CREATED:20240329T114421Z
LAST-MODIFIED:20250204T185656Z
UID:4490-1738872000-1738879200@www.alliance-francaise.nl
SUMMARY:Soirée culturelle - La pâtisserie française dans toute sa splendeur
DESCRIPTION:Door Violaine Fournier. \nNooit eerder heeft men zo gesmuld van het Franse gebak als heden ten dage: alle beroemde chefs-koks strijden om de meest verfijnde zoete gerechten aan te bieden in hun gerenommeerde etablissementen. Ze gaan zich te buiten aan creativiteit om genot te verenigen met ook de ‘dieetvoeding’… Tijdens deze lezing toont Violaine enkele korte video’s en komt met keukengerei speciaal voor gebak. Ze laat ons raden waarvoor het dient en zegt het Franse woord ervoor. De lezing is informatief (historisch\, een beetje technisch\, artistiek) maar ook ludiek\, interactief en humoristisch. \nNa afloop een kleine proeverij. \nDe lezing wordt gehouden in eenvoudig Frans. \nTe bezoeken door iedereen en ook geïnteresseerden van buitenaf zijn welkom en graag van te voren aanmelden.\nToegang gratis. Drankjes kunnen alleen contant worden betaald.\nMeldt u aan via DEZE LINK
URL:https://www.alliance-francaise.nl/zoetermeer/event/soiree-culturelle-la-patisserie-francaise/
LOCATION:Parochieel Centrum de Kapelaan\, Nicolaasplein 2\, Zoetermeer\, Nederland
CATEGORIES:Soirée
ATTACH;FMTTYPE=image/png:https://www.alliance-francaise.nl/zoetermeer/wp-content/uploads/sites/28/2024/03/la-patisserie-francaise.png
END:VEVENT
BEGIN:VEVENT
DTSTART;TZID=Europe/Paris:20250410T200000
DTEND;TZID=Europe/Paris:20250410T220000
DTSTAMP:20260423T002439
CREATED:20240329T114622Z
LAST-MODIFIED:20250310T201426Z
UID:4493-1744315200-1744322400@www.alliance-francaise.nl
SUMMARY:Soirée de clôture
DESCRIPTION:Ter afsluiting van het cursusjaar eindigen we met deze gezellige en leerzame quiz over van alles wat iets met Frans of Frankrijk te maken heeft. Er wordt rekening gehouden met alle niveaus van onze cursisten. \nTe bezoeken door iedereen en ook geïnteresseerden van buitenaf zijn welkom en graag van te voren aanmelden.\nToegang gratis. Drankjes kunnen alleen contant worden betaald.\nMeldt u aan via DEZE LINK
URL:https://www.alliance-francaise.nl/zoetermeer/event/soiree-de-cloture-2/
LOCATION:Parochieel Centrum de Kapelaan\, Nicolaasplein 2\, Zoetermeer\, Nederland
CATEGORIES:Soirée
ATTACH;FMTTYPE=image/jpeg:https://www.alliance-francaise.nl/zoetermeer/wp-content/uploads/sites/28/2024/08/20240425_193103-scaled.jpg
END:VEVENT
BEGIN:VEVENT
DTSTART;TZID=Europe/Paris:20250904T190000
DTEND;TZID=Europe/Paris:20250904T203000
DTSTAMP:20260423T002439
CREATED:20250508T105729Z
LAST-MODIFIED:20250830T154616Z
UID:5970-1757012400-1757017800@www.alliance-francaise.nl
SUMMARY:Informatieavond
DESCRIPTION:Welkom op onze informatieavond voor een niveautest\, informatie en inschrijvingen. \nHier krijgt je onder het genot van een kop koffie of thee meer informatie over ons aanbod cursussen en kun je kennismaken met een aantal docenten. Wij kunnen indien nodig een test doen om jouw niveau te bepalen zodat je in de juiste groep wordt ingedeeld. \nOp deze avond wachten hoeft niet want op deze website is inschrijven ook mogelijk en u kunt zelf online uw niveau testen. \nVoor de groepsindeling gebruiken wij de niveau-indeling voor talen van het Europees Referentiekader (ERK). Blijkt tijdens de cursus het niveau waarvoor je bent ingedeeld te laag of te hoog te zijn\, dan is wisselen op elk moment in het jaar mogelijk.
URL:https://www.alliance-francaise.nl/zoetermeer/event/informatieavond-copy/
LOCATION:Picasso Lyceum\, Paletsingel 38c\, Zoetermeer\, 2718 NT\, Netherlands
CATEGORIES:Info avond
ATTACH;FMTTYPE=image/jpeg:https://www.alliance-francaise.nl/zoetermeer/wp-content/uploads/sites/28/2022/04/20220407_213247_faded-scaled.jpg
END:VEVENT
BEGIN:VEVENT
DTSTART;VALUE=DATE:20250908
DTEND;VALUE=DATE:20250909
DTSTAMP:20260423T002439
CREATED:20250508T110445Z
LAST-MODIFIED:20250830T154538Z
UID:5975-1757289600-1757375999@www.alliance-francaise.nl
SUMMARY:Aanvang jaarcursus online
DESCRIPTION:Dit bestaat uit 25 lessen van 60 minuten via Teams/ Zoom. Maximaal vier cursisten per groep.\nAandacht voor spreken\, luisteren\, lezen en schrijven\, Franse cultuur\, actualiteit en meer. Op onze website is hier meer informatie over te vinden.\nTijd\, lesmateriaal\, docent et cetera worden drie dagen voorafgaand deze cursus bekend gemaakt per mail.
URL:https://www.alliance-francaise.nl/zoetermeer/event/aanvang-jaarcursus-online-2/
CATEGORIES:Lessen op locatie
END:VEVENT
BEGIN:VEVENT
DTSTART;TZID=Europe/Paris:20250911T190000
DTEND;TZID=Europe/Paris:20250911T190000
DTSTAMP:20260423T002439
CREATED:20250508T105953Z
LAST-MODIFIED:20250830T154654Z
UID:5973-1757617200-1757617200@www.alliance-francaise.nl
SUMMARY:Aanvang jaarcursus op locatie
DESCRIPTION:Dit bestaat uit 25 lessen van 90 minuten op locatie. Maximaal 14 cursisten per groep.\nAandacht voor spreken\, luisteren\, lezen en schrijven\, Franse cultuur\, actualiteit en meer. Op onze website is hier meer informatie over te vinden.\nTijd\, lesmateriaal\, docent et cetera worden drie dagen voorafgaand deze cursus bekend gemaakt per mail.
URL:https://www.alliance-francaise.nl/zoetermeer/event/aanvang-jaarcursus-op-locatie-2/
LOCATION:Picasso Lyceum\, Paletsingel 38c\, Zoetermeer\, 2718 NT\, Netherlands
CATEGORIES:Lessen op locatie
END:VEVENT
BEGIN:VEVENT
DTSTART;TZID=Europe/Paris:20251120T200000
DTEND;TZID=Europe/Paris:20251120T220000
DTSTAMP:20260423T002439
CREATED:20250508T104952Z
LAST-MODIFIED:20251027T113114Z
UID:5964-1763668800-1763676000@www.alliance-francaise.nl
SUMMARY:Soirée culturelle
DESCRIPTION:In lang vervlogen tijden trokken ze van kasteel naar kasteel: de troubadours en minstrelen. Met hun liederen – romantisch\, sprankelend of ondeugend – vermaakten deze Middeleeuwse muzikanten hun publiek. Trouw aan deze eeuwenoude traditie wil óók MÉNESTREL het publiek boeien. Op kleine podia of in de open lucht\, brengen Ale Dijkstra en Mathieu Hermans parels van het Franse chanson tot leven\, met klassiekers van Brassens\, Brel\, Piaf\, Trenet\, Aznavour\,\nMoustaki\, Fugain\, Ferrat etc. etc \n19:30 uur Inloop\n20:00 uur Soirée\n22:00 uur Einde \nJe kunt je aanmelden via deze LINK of scan de QR-code. \n 
URL:https://www.alliance-francaise.nl/zoetermeer/event/soiree/
LOCATION:Parochieel Centrum de Kapelaan\, Nicolaasplein 2\, Zoetermeer\, Nederland
CATEGORIES:Soirée
ATTACH;FMTTYPE=image/png:https://www.alliance-francaise.nl/zoetermeer/wp-content/uploads/sites/28/2025/05/MENESTREL.png
END:VEVENT
BEGIN:VEVENT
DTSTART;TZID=Europe/Paris:20260105T190000
DTEND;TZID=Europe/Paris:20260105T220000
DTSTAMP:20260423T002439
CREATED:20240329T114257Z
LAST-MODIFIED:20250918T103004Z
UID:4488-1767639600-1767650400@www.alliance-francaise.nl
SUMMARY:Aanvang vakantiecursus op locatie
DESCRIPTION:KLIK HIER voor meer informatie
URL:https://www.alliance-francaise.nl/zoetermeer/event/aanvang-vakantiecursus-op-locatie/
LOCATION:Picasso Lyceum\, Paletsingel 38c\, Zoetermeer\, 2718 NT\, Netherlands
CATEGORIES:Lessen op locatie
END:VEVENT
BEGIN:VEVENT
DTSTART;TZID=Europe/Paris:20260108T201500
DTEND;TZID=Europe/Paris:20260108T204500
DTSTAMP:20260423T002439
CREATED:20250508T104732Z
LAST-MODIFIED:20251215T075105Z
UID:5962-1767903300-1767905100@www.alliance-francaise.nl
SUMMARY:Algemene ledenvergadering
DESCRIPTION:Cursisten en leden zijn welkom op onze algemene ledenvergadering. \n  \nKlik hier om je aan te melden
URL:https://www.alliance-francaise.nl/zoetermeer/event/algemene-ledenvergadering-2/
LOCATION:Picasso Lyceum\, Paletsingel 38c\, Zoetermeer\, 2718 NT\, Netherlands
CATEGORIES:ALV
END:VEVENT
BEGIN:VEVENT
DTSTART;TZID=Europe/Paris:20260205T200000
DTEND;TZID=Europe/Paris:20260205T220000
DTSTAMP:20260423T002439
CREATED:20250508T105334Z
LAST-MODIFIED:20251221T095706Z
UID:5966-1770321600-1770328800@www.alliance-francaise.nl
SUMMARY:Soirée  Astérix et Obélix
DESCRIPTION:Jaap TOORENAAR\nQue Toutatis t’entende\nOver de verstopte grappen in de verhalen van Asterix en Obelix \n65 Jaar geleden\, verscheen in een splinternieuw tijdschrift\, Le Pilote\, de eerste bladzijde van Astérix le Gaulois . Het werd het begin van de meest succesvolle serie stripverhalen met uitzondering van Donald Duck. \nDrs. Jaap Toorenaar is docent klassieke talen aan het Stedelijk Gymnasium te Leiden. Tijden lang schreef hij in de schoolkrant over de strips van Asterix; uiteindelijk leidden deze teksten tot een boek met als titel Asterix\, de Vrolijke Wetenschap. In 2003 won hij met zijn kennis over Asterix een quiz op de Duitse tv en was toen 6000 euro rijker. In 2006 mocht hij in Parijs aan de maker Uderzo toelichten\, waarom hij een Orde van de Nederlandse Leeuw toegekend had gekregen. \nIn deze presentatie zal hij aan de hand van veel voorbeelden toelichten\, hoeveel humor er schuil gaat in deze strip\, waar zowel kinderen als volwassenen om kunnen lachen. Net als in zijn boek gaat hij steeds uit van het Franse origineel en onderzoekt hij of met name de vele woordgrappen van Goscinny wel vertaalbaar zijn. Daarbij komen briljante vondsten en blunders aan de orde. Hoofddoel van de lezing is\, dat er veel gelachen gaat worden\, maar wel met niveau! \nEn – gekker moet het niet worden – de docent wil ook nog graag huiswerk opgeven! Hij hoopt dat de vele bezoekers Astérix\, le Tour de Gaule in het Frans van tevoren hebben gelezen. Maar mocht u daar niet aan toe komen\, dan bent u toch gewoon welkom\, hoor! \n  \nKlik hier om je aan te melden
URL:https://www.alliance-francaise.nl/zoetermeer/event/soiree-2/
LOCATION:Parochieel Centrum de Kapelaan\, Nicolaasplein 2\, Zoetermeer\, Nederland
CATEGORIES:Soirée
END:VEVENT
BEGIN:VEVENT
DTSTART;TZID=Europe/Paris:20260409T200000
DTEND;TZID=Europe/Paris:20260409T220000
DTSTAMP:20260423T002439
CREATED:20250508T105410Z
LAST-MODIFIED:20260316T161847Z
UID:5968-1775764800-1775772000@www.alliance-francaise.nl
SUMMARY:Soirée Clôture
DESCRIPTION:« Musiquiz » – Jeu questionnaire présenté par Berry van de Wouw \nVous le connaissez sans doute comme conférencier et peut-être également comme l’auteur du livre “Zing het echte Frans“. Les règles du quiz sont très simples : vous entendez le début d’une chanson. Le premier qui donne le nom correct de l’artiste ou le titre de la chanson gagne 1 point. Les questions peuvent aussi porter sur la vidéo. Ensuite\, nous regardons la vidéo ensemble. Il y aura un beau prix bien sûr pour le gagnant\, mais ce qui compte vraiment\, c’est de passer une soirée musicale conviviale ! \nU kent hem ongetwijfeld als conférencier en misschien ook wel als schrijver van het boek “Zing het echte Frans“. De regels van de quiz zijn simpel: U hoort het begin van een Frans chanson. De eerste persoon die de juiste naam van de artiest of de titel van het chanson weet te noemen\, krijgt 1 punt. De vraag kan ook over de video gaan. Daarna kijken we samen naar de videoclip. Uiteraard wordt de winnaar/winnares beloond met een mooie prijs\, maar wat vooral telt\, is dat iedereen een gezellige muzikale avond beleeft! \nKlik of scan de QR-code om je aan te melden.
URL:https://www.alliance-francaise.nl/zoetermeer/event/soiree-3/
LOCATION:Parochieel Centrum de Kapelaan\, Nicolaasplein 2\, Zoetermeer\, Nederland
CATEGORIES:Soirée
ATTACH;FMTTYPE=image/jpeg:https://www.alliance-francaise.nl/zoetermeer/wp-content/uploads/sites/28/2025/05/Berry-van-de-Wouw1.jpg
END:VEVENT
END:VCALENDAR