BEGIN:VCALENDAR
VERSION:2.0
PRODID:-//Alliance Française Zoetermeer - ECPv6.15.20//NONSGML v1.0//EN
CALSCALE:GREGORIAN
METHOD:PUBLISH
X-WR-CALNAME:Alliance Française Zoetermeer
X-ORIGINAL-URL:https://www.alliance-francaise.nl/zoetermeer
X-WR-CALDESC:Evenementen voor Alliance Française Zoetermeer
REFRESH-INTERVAL;VALUE=DURATION:PT1H
X-Robots-Tag:noindex
X-PUBLISHED-TTL:PT1H
BEGIN:VTIMEZONE
TZID:Europe/Paris
BEGIN:DAYLIGHT
TZOFFSETFROM:+0100
TZOFFSETTO:+0200
TZNAME:CEST
DTSTART:20230326T010000
END:DAYLIGHT
BEGIN:STANDARD
TZOFFSETFROM:+0200
TZOFFSETTO:+0100
TZNAME:CET
DTSTART:20231029T010000
END:STANDARD
BEGIN:DAYLIGHT
TZOFFSETFROM:+0100
TZOFFSETTO:+0200
TZNAME:CEST
DTSTART:20240331T010000
END:DAYLIGHT
BEGIN:STANDARD
TZOFFSETFROM:+0200
TZOFFSETTO:+0100
TZNAME:CET
DTSTART:20241027T010000
END:STANDARD
BEGIN:DAYLIGHT
TZOFFSETFROM:+0100
TZOFFSETTO:+0200
TZNAME:CEST
DTSTART:20250330T010000
END:DAYLIGHT
BEGIN:STANDARD
TZOFFSETFROM:+0200
TZOFFSETTO:+0100
TZNAME:CET
DTSTART:20251026T010000
END:STANDARD
END:VTIMEZONE
BEGIN:VEVENT
DTSTART;VALUE=DATE:20240116
DTEND;VALUE=DATE:20240117
DTSTAMP:20260422T224618
CREATED:20231027T063652Z
LAST-MODIFIED:20240421T130300Z
UID:3276-1705363200-1705449599@www.alliance-francaise.nl
SUMMARY:DELF/DALF Examentraining  of vakantiecursus.
DESCRIPTION:Per 16 januari 2024 zullen weer online lessen Frans van start gaan. Via Microsoft Teams zal de docent met native achtergrond zowel zichzelf als de deelnemers in beeld brengen. Voor de online lessen is het mogelijk te kiezen voor twee type cursussen: de vakantiecursus of een cursus ter voorbereiding van het examen DELF/DALF op niveau A1\, A2\, B1\, B2\, C1 of C2. \nTijdens deze digitale lessen zal er afhankelijk van de gekozen cursus aandacht zijn voor bijvoorbeeld de taalvaardigheden\, Franse cultuur en grammatica. Voor de DELF/DALF Examencursus maken we gebruik van een papieren boek en voor de vakantiecursus krijgt u materiaal aangeboden die u ook deels kunt uitprinten indien gewenst. Meer informatie over inhoud\, lesmateriaal\, kosten en inschrijvingen kunt vinden op onze website. \nDeze online cursus zal worden aangeboden op dinsdagavond in de periode van januari t/m april 2024 (data: 16\, 23\, 30 januari\, 6\, 13\, 27 februari\, 5\, 12\, 19\, 26 maart\, 2\, 9\, 16 april). Tijdens de voorjaarsvakantie is er geen les. De lestijden\, de link voor de les\, et cetera worden in de week voorafgaand de cursus bekend gemaakt per mail. \nAANMELDEN OF MEER INFORMATIE\n  \nGeen interesse voor online lessen maar liever fysiek? Naast de online lessen is het voor geïnteresseerden altijd mogelijk om in te stromen in een van de fysieke lessen van de jaarcursussen die worden aangeboden op de donderdagavond op niveau A1 t/m C1. \n 
URL:https://www.alliance-francaise.nl/zoetermeer/event/aanvang-vakantiecursus-en-delf-dalfcursus/
LOCATION:Online via Microsoft Teams
CATEGORIES:Lessen op locatie
ATTACH;FMTTYPE=image/jpeg:https://www.alliance-francaise.nl/zoetermeer/wp-content/uploads/sites/28/2023/10/Training-Microsoft-Teams.jpg
END:VEVENT
END:VCALENDAR