BEGIN:VCALENDAR
VERSION:2.0
PRODID:-//Alliance Française Zoetermeer - ECPv6.15.20//NONSGML v1.0//EN
CALSCALE:GREGORIAN
METHOD:PUBLISH
X-WR-CALNAME:Alliance Française Zoetermeer
X-ORIGINAL-URL:https://www.alliance-francaise.nl/zoetermeer
X-WR-CALDESC:Evenementen voor Alliance Française Zoetermeer
REFRESH-INTERVAL;VALUE=DURATION:PT1H
X-Robots-Tag:noindex
X-PUBLISHED-TTL:PT1H
BEGIN:VTIMEZONE
TZID:Europe/Paris
BEGIN:DAYLIGHT
TZOFFSETFROM:+0100
TZOFFSETTO:+0200
TZNAME:CEST
DTSTART:20230326T010000
END:DAYLIGHT
BEGIN:STANDARD
TZOFFSETFROM:+0200
TZOFFSETTO:+0100
TZNAME:CET
DTSTART:20231029T010000
END:STANDARD
BEGIN:DAYLIGHT
TZOFFSETFROM:+0100
TZOFFSETTO:+0200
TZNAME:CEST
DTSTART:20240331T010000
END:DAYLIGHT
BEGIN:STANDARD
TZOFFSETFROM:+0200
TZOFFSETTO:+0100
TZNAME:CET
DTSTART:20241027T010000
END:STANDARD
BEGIN:DAYLIGHT
TZOFFSETFROM:+0100
TZOFFSETTO:+0200
TZNAME:CEST
DTSTART:20250330T010000
END:DAYLIGHT
BEGIN:STANDARD
TZOFFSETFROM:+0200
TZOFFSETTO:+0100
TZNAME:CET
DTSTART:20251026T010000
END:STANDARD
END:VTIMEZONE
BEGIN:VEVENT
DTSTART;TZID=Europe/Paris:20240111T201500
DTEND;TZID=Europe/Paris:20240111T210000
DTSTAMP:20260422T224629
CREATED:20240108T110346Z
LAST-MODIFIED:20240421T130145Z
UID:4082-1705004100-1705006800@www.alliance-francaise.nl
SUMMARY:Epiphanie (Driekoningen)
DESCRIPTION:Wij vinden het leuk om dit nieuwe jaar samen met alle leden en docenten te openen en willen wij jullie graag kennis laten maken met een traditie\, die vooral bekend is in Frankrijk: het feest van Epiphanie (Driekoningen). \nDe bijeenkomst zal plaatsvinden op het Picasso Lyceum\, in de ruimte waar in het verleden ook de culturele soirées plaatsvonden. De inloop begint om 20:15 uur en om 20:30 uur start de presentatie\, die zal worden gegeven door onze gastvrouw Evelyne Turk over de oorsprong en ontwikkeling van dit feest. Ook zullen wij jullie laten zien hoe de fèves (de bonen van de galettes) er uit zien en uiteraard is er voor iedereen de mogelijkheid om een stukje te proeven! De galettes des rois worden vers gemaakt door de Franse bakker Michel uit Den Haag. Na de presentatie en het proeven van de galettes kunnen de cursisten\, die nog lestijd hebben\, naar de lokalen om hun lessen te volgen tot 22:00 uur.
URL:https://www.alliance-francaise.nl/zoetermeer/event/epiphanie-driekoningen/
LOCATION:Picasso Lyceum\, Paletsingel 38c\, Zoetermeer\, 2718 NT\, Netherlands
CATEGORIES:Soirée
ATTACH;FMTTYPE=image/jpeg:https://www.alliance-francaise.nl/zoetermeer/wp-content/uploads/sites/28/2024/01/fiche-sur-lepiphanie-fte-des-rois-et-de-la-galette-des-rois.jpg
END:VEVENT
END:VCALENDAR