BEGIN:VCALENDAR
VERSION:2.0
PRODID:-//Alliance Francaise Utrecht - ECPv6.15.20//NONSGML v1.0//EN
CALSCALE:GREGORIAN
METHOD:PUBLISH
X-ORIGINAL-URL:https://www.alliance-francaise.nl/utrecht
X-WR-CALDESC:Events for Alliance Francaise Utrecht
REFRESH-INTERVAL;VALUE=DURATION:PT1H
X-Robots-Tag:noindex
X-PUBLISHED-TTL:PT1H
BEGIN:VTIMEZONE
TZID:Europe/Amsterdam
BEGIN:DAYLIGHT
TZOFFSETFROM:+0100
TZOFFSETTO:+0200
TZNAME:CEST
DTSTART:20240331T010000
END:DAYLIGHT
BEGIN:STANDARD
TZOFFSETFROM:+0200
TZOFFSETTO:+0100
TZNAME:CET
DTSTART:20241027T010000
END:STANDARD
BEGIN:DAYLIGHT
TZOFFSETFROM:+0100
TZOFFSETTO:+0200
TZNAME:CEST
DTSTART:20250330T010000
END:DAYLIGHT
BEGIN:STANDARD
TZOFFSETFROM:+0200
TZOFFSETTO:+0100
TZNAME:CET
DTSTART:20251026T010000
END:STANDARD
BEGIN:DAYLIGHT
TZOFFSETFROM:+0100
TZOFFSETTO:+0200
TZNAME:CEST
DTSTART:20260329T010000
END:DAYLIGHT
BEGIN:STANDARD
TZOFFSETFROM:+0200
TZOFFSETTO:+0100
TZNAME:CET
DTSTART:20261025T010000
END:STANDARD
END:VTIMEZONE
BEGIN:VEVENT
DTSTART;TZID=Europe/Amsterdam:20250411T170000
DTEND;TZID=Europe/Amsterdam:20250411T190000
DTSTAMP:20260421T210430
CREATED:20250129T123246Z
LAST-MODIFIED:20250319T161338Z
UID:21910-1744390800-1744398000@www.alliance-francaise.nl
SUMMARY:Photographie / Fotografie - Ik doe ik leer #3
DESCRIPTION:Ik doe ik leer n°3 \nNous découvrons ensemble la photographie argentique : comment développer des photographies ? Les salles de l’Alliance se transforment en chambre noire ! A partir du A1.\nL’atelier est mené par Clémence\, artiste photographe du collectif HKK. \nSamen ontdekken we zilverfotografie: hoe ontwikkel je foto’s? De Alliance kamers worden omgetoverd tot een donkere kamer! Vanaf niveau A1.\nDe workshop wordt geleid door fotografen van het HKK collectief\, Clémence.\n \nTicket individuel : 40 euros. \nLieu / Plaats : Pieterskerkhof 5\, 3512JR Utrecht \n  \nPrésentation de HKK \nHet Kleinste Kamertje est un collectif\, et un espace\, dedié à la photographie argentique\, basé à Utrecht. Notre collectif se compose de 4 personnes: Clémence (FR)\, Gwen (CO)\, Ioannis (GR) et Sebastian (UK). La mission de Het Kleinste Kamertje est d’acceuillir une communauté de photographes et d’ amateurs de photographie argentique\, interessés par l’ apprentissage et la pratique des secrets du développement en chambre noire et de la photographie. \nPour cette occasion\, Het Kleinste Kamertje est heureux de collaborer avec l’ Alliance Francaise et de proposer un cours d’ introduction à la photographie argentique en Français. Pour cette occasion\, HKK proposera de découvrir les bases de la photographie argentique via l’ expérience du Photobooth Analogique. Le Photobooth est un photomaton portatif\, constitué de notre appareil photo grand format Intrepid- que nous utilisons pour enseigner aux participants\, sur place\, comment une photo passe de l’ objectif au négatif puis au positif. Lors de cet événement\, HKK transforme également le lieu d’ apprentissage en chambre noire grand format!
URL:https://www.alliance-francaise.nl/utrecht/events/photographie-fotografie-ik-doe-ik-leer-3/
LOCATION:Pieterskerkhof 5\, Pieterskerkhof 5\, Utrecht\, Netherlands
CATEGORIES:Cultuur,Frans spreken
ATTACH;FMTTYPE=image/jpeg:https://www.alliance-francaise.nl/utrecht/wp-content/uploads/sites/6/2025/02/Cineforum-France-oct-2024-5.jpg
ORGANIZER;CN="AFU":MAILTO:culture.utrecht@afpb.nl
END:VEVENT
END:VCALENDAR