BEGIN:VCALENDAR
VERSION:2.0
PRODID:-//Alliance Francaise Utrecht - ECPv6.15.20//NONSGML v1.0//EN
CALSCALE:GREGORIAN
METHOD:PUBLISH
X-WR-CALNAME:Alliance Francaise Utrecht
X-ORIGINAL-URL:https://www.alliance-francaise.nl/utrecht
X-WR-CALDESC:Events for Alliance Francaise Utrecht
REFRESH-INTERVAL;VALUE=DURATION:PT1H
X-Robots-Tag:noindex
X-PUBLISHED-TTL:PT1H
BEGIN:VTIMEZONE
TZID:Europe/Amsterdam
BEGIN:DAYLIGHT
TZOFFSETFROM:+0100
TZOFFSETTO:+0200
TZNAME:CEST
DTSTART:20240331T010000
END:DAYLIGHT
BEGIN:STANDARD
TZOFFSETFROM:+0200
TZOFFSETTO:+0100
TZNAME:CET
DTSTART:20241027T010000
END:STANDARD
BEGIN:DAYLIGHT
TZOFFSETFROM:+0100
TZOFFSETTO:+0200
TZNAME:CEST
DTSTART:20250330T010000
END:DAYLIGHT
BEGIN:STANDARD
TZOFFSETFROM:+0200
TZOFFSETTO:+0100
TZNAME:CET
DTSTART:20251026T010000
END:STANDARD
BEGIN:DAYLIGHT
TZOFFSETFROM:+0100
TZOFFSETTO:+0200
TZNAME:CEST
DTSTART:20260329T010000
END:DAYLIGHT
BEGIN:STANDARD
TZOFFSETFROM:+0200
TZOFFSETTO:+0100
TZNAME:CET
DTSTART:20261025T010000
END:STANDARD
END:VTIMEZONE
BEGIN:VEVENT
DTSTART;TZID=Europe/Amsterdam:20250611T100000
DTEND;TZID=Europe/Amsterdam:20250611T110000
DTSTAMP:20260421T192731
CREATED:20250214T115223Z
LAST-MODIFIED:20250415T073644Z
UID:22025-1749636000-1749639600@www.alliance-francaise.nl
SUMMARY:Café poussette - 11.06
DESCRIPTION:Êtes-vous un jeune parent francophone à Utrecht ? Nous avons une excellente nouvelle pour vous ! \nL’Alliance Française Utrecht (AFU) en collaboration avec l’association En Famille\, vous invite à partager un moment convivial autour d’un café ou d’un thé et gâteaux entre parents et jeunes enfants (moins de 3 ans). \nCes rencontres se déroulent au Pieterskerkhof 5\, de 10h à 11h\, et cela un mercredi par mois. \nHolly\, notre professeure\, présente diverses activités\, comptines et histoires pour vos tout-petits. Puis\, vous êtes libres de rester et de discuter avec les autres parents participants. \nVenez créer des souvenirs inoubliables avec vos enfants en partageant et en apprenant dans l’ambiance chaleureuse et féconde de notre communauté. \nTickets
URL:https://www.alliance-francaise.nl/utrecht/events/cafe-poussette-19-03/
LOCATION:AFU\, Pieterskerkhof 5\, Utrecht\, Utrecht\, 3512JR\, Netherlands
CATEGORIES:Frans spreken
ATTACH;FMTTYPE=image/png:https://www.alliance-francaise.nl/utrecht/wp-content/uploads/sites/6/2024/05/Visuels-cours-site-1.png
ORGANIZER;CN="AFU":MAILTO:culture.utrecht@afpb.nl
END:VEVENT
END:VCALENDAR