BEGIN:VCALENDAR
VERSION:2.0
PRODID:-//Alliance Francaise Utrecht - ECPv6.15.20//NONSGML v1.0//EN
CALSCALE:GREGORIAN
METHOD:PUBLISH
X-ORIGINAL-URL:https://www.alliance-francaise.nl/utrecht
X-WR-CALDESC:Events for Alliance Francaise Utrecht
REFRESH-INTERVAL;VALUE=DURATION:PT1H
X-Robots-Tag:noindex
X-PUBLISHED-TTL:PT1H
BEGIN:VTIMEZONE
TZID:Europe/Amsterdam
BEGIN:DAYLIGHT
TZOFFSETFROM:+0100
TZOFFSETTO:+0200
TZNAME:CEST
DTSTART:20240331T010000
END:DAYLIGHT
BEGIN:STANDARD
TZOFFSETFROM:+0200
TZOFFSETTO:+0100
TZNAME:CET
DTSTART:20241027T010000
END:STANDARD
BEGIN:DAYLIGHT
TZOFFSETFROM:+0100
TZOFFSETTO:+0200
TZNAME:CEST
DTSTART:20250330T010000
END:DAYLIGHT
BEGIN:STANDARD
TZOFFSETFROM:+0200
TZOFFSETTO:+0100
TZNAME:CET
DTSTART:20251026T010000
END:STANDARD
BEGIN:DAYLIGHT
TZOFFSETFROM:+0100
TZOFFSETTO:+0200
TZNAME:CEST
DTSTART:20260329T010000
END:DAYLIGHT
BEGIN:STANDARD
TZOFFSETFROM:+0200
TZOFFSETTO:+0100
TZNAME:CET
DTSTART:20261025T010000
END:STANDARD
END:VTIMEZONE
BEGIN:VEVENT
DTSTART;TZID=Europe/Amsterdam:20250909T113000
DTEND;TZID=Europe/Amsterdam:20250909T123000
DTSTAMP:20260420T023354
CREATED:20250802T075900Z
LAST-MODIFIED:20250802T075900Z
UID:24507-1757417400-1757421000@www.alliance-francaise.nl
SUMMARY:Café conversation
DESCRIPTION:Rejoignez-nous pour un café du matin en français animé par Cora ! Un moment convivial en prévision mais également l’occasion parfaite de pratiquer votre français en tant qu’apprenants et de rencontrer des francophones installés à Utrecht. \nKom naar een Frans ochtendcafé onder leiding van Cora! Het is de perfecte gelegenheid om als cursist uw Frans te oefenen en andere Franstaligen te ontmoeten die in Utrecht wonen. \nGratis voor onze leden/studenten\, alleen drankjes zijn voor eigen rekening\, en €6 voor niet-leden*\, betaling ter plekke. \nVanaf niveau A2. \n11:30 – 12:30 \nKlik hier om je in te schrijven. Inscription ici \n 
URL:https://www.alliance-francaise.nl/utrecht/events/cafe-conversation-9/
LOCATION:Café Slachtstraat\, Slachtstraat 5\, Utrecht
CATEGORIES:Frans spreken
ATTACH;FMTTYPE=image/jpeg:https://www.alliance-francaise.nl/utrecht/wp-content/uploads/sites/6/2025/05/visuel-cafe-25-26-sans-date.jpg
END:VEVENT
BEGIN:VEVENT
DTSTART;TZID=Europe/Amsterdam:20250925T183000
DTEND;TZID=Europe/Amsterdam:20250925T193000
DTSTAMP:20260420T023354
CREATED:20250802T080717Z
LAST-MODIFIED:20250802T080717Z
UID:24509-1758825000-1758828600@www.alliance-francaise.nl
SUMMARY:Apéro conversation
DESCRIPTION:Retrouvez-nous pour un nouvel apéro conversation ! De 18h30 à 19h30. \nKom bij ons voor een ander aperitiefgesprek! Van 18.30 tot 19.30. \nCliquez pour vous inscrire/Klik hier om je in te schrijven : Ici! \nA partir du niveau A2.\nGratuit pour les membres et les élèves de nos cours de français.\n6 euros pour les autres à payer sur place par transfert avec QRcode.\nBoissons à votre charge. \nVanaf niveau A2.\nGratis voor onze leden/studenten.\n6€ voor niet-leden\, betaling ter plaatse met QR code.\nDrankjes zijn op eigen kosten. 
URL:https://www.alliance-francaise.nl/utrecht/events/apero-conversation-9/
LOCATION:Café Slachtstraat\, Slachtstraat 5\, Utrecht
CATEGORIES:Frans spreken
ATTACH;FMTTYPE=image/jpeg:https://www.alliance-francaise.nl/utrecht/wp-content/uploads/sites/6/2025/05/visuel-apero-25-26-sans-date.jpg
END:VEVENT
END:VCALENDAR