BEGIN:VCALENDAR
VERSION:2.0
PRODID:-//Alliance Francaise Utrecht - ECPv6.15.20//NONSGML v1.0//EN
CALSCALE:GREGORIAN
METHOD:PUBLISH
X-WR-CALNAME:Alliance Francaise Utrecht
X-ORIGINAL-URL:https://www.alliance-francaise.nl/utrecht
X-WR-CALDESC:Events for Alliance Francaise Utrecht
REFRESH-INTERVAL;VALUE=DURATION:PT1H
X-Robots-Tag:noindex
X-PUBLISHED-TTL:PT1H
BEGIN:VTIMEZONE
TZID:Europe/Amsterdam
BEGIN:DAYLIGHT
TZOFFSETFROM:+0100
TZOFFSETTO:+0200
TZNAME:CEST
DTSTART:20250330T010000
END:DAYLIGHT
BEGIN:STANDARD
TZOFFSETFROM:+0200
TZOFFSETTO:+0100
TZNAME:CET
DTSTART:20251026T010000
END:STANDARD
BEGIN:DAYLIGHT
TZOFFSETFROM:+0100
TZOFFSETTO:+0200
TZNAME:CEST
DTSTART:20260329T010000
END:DAYLIGHT
BEGIN:STANDARD
TZOFFSETFROM:+0200
TZOFFSETTO:+0100
TZNAME:CET
DTSTART:20261025T010000
END:STANDARD
BEGIN:DAYLIGHT
TZOFFSETFROM:+0100
TZOFFSETTO:+0200
TZNAME:CEST
DTSTART:20270328T010000
END:DAYLIGHT
BEGIN:STANDARD
TZOFFSETFROM:+0200
TZOFFSETTO:+0100
TZNAME:CET
DTSTART:20271031T010000
END:STANDARD
END:VTIMEZONE
BEGIN:VEVENT
DTSTART;TZID=Europe/Amsterdam:20260308T133000
DTEND;TZID=Europe/Amsterdam:20260308T153000
DTSTAMP:20260421T135440
CREATED:20250602T134534Z
LAST-MODIFIED:20250602T134636Z
UID:23860-1772976600-1772983800@www.alliance-francaise.nl
SUMMARY:Sous le ciel d'Alice - Film du dimanche
DESCRIPTION:Film de Chloé Mazlo – 1h30 \nDans les années 50\, la jeune Alice quitte la Suisse pour le Liban. Là-bas\, elle a un coup de foudre pour Joseph\, un astrophysicien malicieux qui rêve d’envoyer le premier libanais dans l’espace. Après quelques années de dolce vita\, la guerre civile s’immisce dans leur paradis… (synopsis d’Allociné) \nGratuit pour les membres et les élèves de l’AFU\n6 euros pour le public extérieur\nFilm en français et en arabe avec des sous-titres en français\nAttention : la salle est au premier étage\, pas d’ascenseur. \nInscriptions ici\nRegistratie er \nIn de jaren 1950 vertrekt de jonge Alice vanuit Zwitserland naar Libanon. Daar wordt ze op het eerste gezicht verliefd op Joseph\, een ondeugende astrofysicus die ervan droomt om de eerste Libanees de ruimte in te sturen. Na een paar jaar dolce vita\, dringt een burgeroorlog hun paradijs binnen… \nGratis voor AFU-leden en cursisten\n6 euro voor alle anderen.\nFilm in het Frans met Franse ondertiteling.\nLet op: de plaatsen zijn beperkt en er is een trap om de zaal te bereiken.
URL:https://www.alliance-francaise.nl/utrecht/events/sous-le-ciel-dalice-film-du-dimanche/
CATEGORIES:Cinema,Cultuur,Frans spreken
ATTACH;FMTTYPE=image/png:https://www.alliance-francaise.nl/utrecht/wp-content/uploads/sites/6/2025/06/Film-dimanche-08.03.26.png
END:VEVENT
BEGIN:VEVENT
DTSTART;TZID=Europe/Amsterdam:20260310T113000
DTEND;TZID=Europe/Amsterdam:20260310T123000
DTSTAMP:20260421T135440
CREATED:20250514T134738Z
LAST-MODIFIED:20250514T134738Z
UID:23352-1773142200-1773145800@www.alliance-francaise.nl
SUMMARY:Café conversation
DESCRIPTION:Rejoignez-nous pour un café du matin en français animé par Cora ! Un moment convivial en prévision mais également l’occasion parfaite de pratiquer votre français en tant qu’apprenants et de rencontrer des francophones installés à Utrecht. \nKom naar een Frans ochtendcafé onder leiding van Cora! Het is de perfecte gelegenheid om als cursist uw Frans te oefenen en andere Franstaligen te ontmoeten die in Utrecht wonen. \nGratis voor onze leden/studenten\, alleen drankjes zijn voor eigen rekening\, en €6 voor niet-leden*\, betaling ter plekke. \nVanaf niveau A2. \n11:30 – 12:30 \nKlik hier om je in te schrijven. Inscription ici \n  \n 
URL:https://www.alliance-francaise.nl/utrecht/events/cafe-conversation-5/
LOCATION:Slachtstraat Filmtheater\, Slachtstraat 5\, Utrecht\, 3512 BC\, Netherlands
CATEGORIES:Frans spreken
ATTACH;FMTTYPE=image/jpeg:https://www.alliance-francaise.nl/utrecht/wp-content/uploads/sites/6/2025/05/visuel-cafe-25-26-sans-date.jpg
END:VEVENT
BEGIN:VEVENT
DTSTART;TZID=Europe/Amsterdam:20260310T153000
DTEND;TZID=Europe/Amsterdam:20260310T163000
DTSTAMP:20260421T135440
CREATED:20260225T142045Z
LAST-MODIFIED:20260225T142133Z
UID:25784-1773156600-1773160200@www.alliance-francaise.nl
SUMMARY:Conte plurilingue - 10.03 français + nederlands
DESCRIPTION:Het “meertalige verhaal” nodigt kinderen uit om vertrouwd te raken met talen en hun nieuwe klanken. Ze zullen hun nieuwsgierigheid ontwikkelen. Alle verhalen zijn in het Frans en Nederlands. De kinderen spelen meertalige spelletjes. In elke workshop komen drie van de volgende talen aan bod: Arabisch\, Nederlands\, Engels\, Frans en Spaans. \nLe “conte plurilingue” invite les enfants à se familiariser avec les langues et leurs nouvelles sonorités. Ils développeront leur curiosité. Toutes les histoires sont en français et en néerlandais.\nLes enfants jouent à des jeux multilingues. Chaque atelier couvre trois des langues suivantes : anglais\, arabe\, espagnol\, français et néerlandais. \n\nThe “multilingual tale” invites children to familiarise themselves with languages and their new sounds. They will develop their curiosity. All the stories will be in French and other languages. The children will play multilingual games. Each workshop will feature three of the following languages: Arabic\, Dutch\, English\, French and Spanish. \n\n  \nGratis / Gratuit / Free\nInscription : https://forms.gle/9xCFHWtnGe8uLhMz9  \n  \n\n\n– mardi 10 mars : français et néerlandais avec Griet\n– mardi 24 mars : français et néerlandais avec Griet\n– mardi 7 avril : français et néerlandais avec Griet\n\n\nLieu / Plaats / Location : Pieterskerkhof 5\, 3512 JR Utrecht
URL:https://www.alliance-francaise.nl/utrecht/events/conte-plurilingue-10-03-francais-nederlands/
LOCATION:AFU\, Pieterskerkhof 5\, Utrecht\, Utrecht\, 3512JR\, Netherlands
CATEGORIES:Frans spreken
ATTACH;FMTTYPE=image/jpeg:https://www.alliance-francaise.nl/utrecht/wp-content/uploads/sites/6/2024/07/Mascotte-clementinelatron-1.jpg
ORGANIZER;CN="AFU":MAILTO:culture.utrecht@afpb.nl
END:VEVENT
BEGIN:VEVENT
DTSTART;TZID=Europe/Amsterdam:20260311T190000
DTEND;TZID=Europe/Amsterdam:20260311T210000
DTSTAMP:20260421T135440
CREATED:20260302T121523Z
LAST-MODIFIED:20260302T121523Z
UID:25821-1773255600-1773262800@www.alliance-francaise.nl
SUMMARY:Cinéforum France : Amour apocalypse (Peak Everything)
DESCRIPTION:Peak Everything (Amour apocalyse\, en français) le nouveau film de la réalisatrice canadienne primée Anne Émond\, explore avec finesse l’amour et les liens inattendus.Adam\, propriétaire d’un chenil et éco-anxieux\, mène une vie solitaire et inquiète.Un appel au service après-vente d’une lampe de luminothérapie le met en contact avec Tina\, à la voix douce et apaisante.Cette rencontre bouleverse son quotidien… et fait naître un amour aussi imprévu que puissant. \nPeak Everything\, de nieuwe film van de bekroonde Canadese regisseur Anne Émond\, verkent op gevoelige en verfijnde wijze de liefde en onverwachte bandenAdam\, eigenaar van een hondenkennel en geplaagd door eco-angst\, leidt een eenzaam en bezorgd leven.Wanneer hij de klantendienst van zijn nieuwe lichttherapielamp belt\, komt hij in contact met Tina\, met haar zachte en geruststellende stem.Die onverwachte ontmoeting zet zijn wereld op zijn kop en laat een even verrassende als krachtige liefde ontluiken. \nSlachtstraat : https://slachtstraat.nl/films/peak-everything/
URL:https://www.alliance-francaise.nl/utrecht/events/cineforum-france-amour-apocalypse-peak-everything/
LOCATION:Café Slachtstraat\, Slachtstraat 5\, Utrecht
CATEGORIES:Cinema
ATTACH;FMTTYPE=image/jpeg:https://www.alliance-francaise.nl/utrecht/wp-content/uploads/sites/6/2026/03/Francophonie-2026-2.jpg
ORGANIZER;CN="AFU":MAILTO:culture.utrecht@afpb.nl
END:VEVENT
BEGIN:VEVENT
DTSTART;TZID=Europe/Amsterdam:20260313T193000
DTEND;TZID=Europe/Amsterdam:20260313T210000
DTSTAMP:20260421T135440
CREATED:20260217T154359Z
LAST-MODIFIED:20260218T133008Z
UID:25764-1773430200-1773435600@www.alliance-francaise.nl
SUMMARY:Assemblée générale de l'AFU
DESCRIPTION:Het bestuur van de Alliance Française Utrecht (AFU) heeft het genoegen u uit te nodigen voor de jaarlijkse Algemene Ledenvergadering (ALV) op 13 maart 2026 om 19.30 uur op Pieterskerkhof 5\, 3512 JR Utrecht  . Vanaf 19.00 uur bent u welkom en staan koffie en thee voor u klaar. Wij verwachten dat de ALV om 20.30 uur ten einde zal zijn. \n  \nInscription : https://forms.gle/mfAjSh39bQ7FkAHQ9 
URL:https://www.alliance-francaise.nl/utrecht/events/assemblee-generale-de-lafu-2/
LOCATION:Pieterskerkhof 5\, Pieterskerkhof 5\, Utrecht\, 3512 JR Utrecht\, Netherlands
ATTACH;FMTTYPE=image/png:https://www.alliance-francaise.nl/utrecht/wp-content/uploads/sites/6/2026/02/Copie-de-Carre-2025-2026-5.png
ORGANIZER;CN="AFU":MAILTO:culture.utrecht@afpb.nl
END:VEVENT
BEGIN:VEVENT
DTSTART;TZID=Europe/Amsterdam:20260324T153000
DTEND;TZID=Europe/Amsterdam:20260324T163000
DTSTAMP:20260421T135440
CREATED:20260225T142259Z
LAST-MODIFIED:20260225T142259Z
UID:25787-1774366200-1774369800@www.alliance-francaise.nl
SUMMARY:Conte plurilingue - 24.03 français + nederlands
DESCRIPTION:Het “meertalige verhaal” nodigt kinderen uit om vertrouwd te raken met talen en hun nieuwe klanken. Ze zullen hun nieuwsgierigheid ontwikkelen. Alle verhalen zijn in het Frans en Nederlands. De kinderen spelen meertalige spelletjes. In elke workshop komen drie van de volgende talen aan bod: Arabisch\, Nederlands\, Engels\, Frans en Spaans. \nLe “conte plurilingue” invite les enfants à se familiariser avec les langues et leurs nouvelles sonorités. Ils développeront leur curiosité. Toutes les histoires sont en français et en néerlandais.\nLes enfants jouent à des jeux multilingues. Chaque atelier couvre trois des langues suivantes : anglais\, arabe\, espagnol\, français et néerlandais. \n\nThe “multilingual tale” invites children to familiarise themselves with languages and their new sounds. They will develop their curiosity. All the stories will be in French and other languages. The children will play multilingual games. Each workshop will feature three of the following languages: Arabic\, Dutch\, English\, French and Spanish. \n\n  \nGratis / Gratuit / Free\nInscription : https://forms.gle/9xCFHWtnGe8uLhMz9  \n  \n\n\n– mardi 10 mars : français et néerlandais avec Griet\n– mardi 24 mars : français et néerlandais avec Griet\n– mardi 7 avril : français et néerlandais avec Griet\n\n\nLieu / Plaats / Location : Pieterskerkhof 5\, 3512 JR Utrecht
URL:https://www.alliance-francaise.nl/utrecht/events/conte-plurilingue-24-03-francais-nederlands/
LOCATION:AFU\, Pieterskerkhof 5\, Utrecht\, Utrecht\, 3512JR\, Netherlands
CATEGORIES:Frans spreken
ATTACH;FMTTYPE=image/jpeg:https://www.alliance-francaise.nl/utrecht/wp-content/uploads/sites/6/2024/07/Mascotte-clementinelatron-1.jpg
ORGANIZER;CN="AFU":MAILTO:culture.utrecht@afpb.nl
END:VEVENT
BEGIN:VEVENT
DTSTART;TZID=Europe/Amsterdam:20260326T183000
DTEND;TZID=Europe/Amsterdam:20260326T193000
DTSTAMP:20260421T135440
CREATED:20250514T132756Z
LAST-MODIFIED:20250514T132756Z
UID:23332-1774549800-1774553400@www.alliance-francaise.nl
SUMMARY:Apéro conversation
DESCRIPTION:Retrouvez-nous pour un nouvel apéro conversation ! De 18h30 à 19h30. \nKom bij ons voor een ander aperitiefgesprek! Van 18.30 tot 19.30. \nCliquez pour vous inscrire/Klik hier om je in te schrijven : Ici! \nA partir du niveau A2.\nGratuit pour les membres et les élèves de nos cours de français.\n6 euros pour les autres à payer sur place par transfert avec QRcode.\nBoissons à votre charge. \nVanaf niveau A2.\nGratis voor onze leden/studenten.\n6€ voor niet-leden\, betaling ter plaatse met QR code.\nDrankjes zijn op eigen kosten.  \n 
URL:https://www.alliance-francaise.nl/utrecht/events/apero-conversation-6/
LOCATION:Slachtstraat Filmtheater\, Slachtstraat 5\, Utrecht\, 3512 BC\, Netherlands
CATEGORIES:Feest,Frans spreken
ATTACH;FMTTYPE=image/jpeg:https://www.alliance-francaise.nl/utrecht/wp-content/uploads/sites/6/2025/05/visuel-apero-25-26-sans-date.jpg
END:VEVENT
BEGIN:VEVENT
DTSTART;TZID=Europe/Amsterdam:20260327T190000
DTEND;TZID=Europe/Amsterdam:20260327T220000
DTSTAMP:20260421T135440
CREATED:20260302T085736Z
LAST-MODIFIED:20260305T122610Z
UID:25809-1774638000-1774648800@www.alliance-francaise.nl
SUMMARY:Soirée Francophonie
DESCRIPTION:Le 27 mars\, nous célébrons la francophonie à l’occasion d’une soirée spéciale placée sous le signe du partage et de la découverte. \nÀ 19h\, nous aurons l’honneur d’accueillir Ieme van der Poel\, professeure émérite de l’Université d’Amsterdam\, qui nous parlera de la littérature francophone de la diaspora marocaine et proposera un parallèle avec la littérature néerlandophone marocaine. \nLa soirée se poursuivra autour d’une dégustation de boissons et de pâtisseries marocaines\, un moment convivial pour prolonger les échanges. \nEnfin\, à partir de 20h30\, la scène sera ouverte aux musiciens désireux de partager leur talent avec le public. N’hésitez pas à venir avec vos instruments et votre belle voix pour faire vibrer la soirée ! \nPrix pour les membres : 12 euros. \nPrix pour les non membres : 15 euros.  \nLieu : In de 3 Krone\, Oudegracht 227\, 3511 NJ Utrecht \nOp 27 maart vieren wij de francofonie met een bijzondere avond in het teken van ontmoeting en ontdekking. \nOm 19.00 uur verwelkomen wij met veel plezier Ieme van der Poel\, emeritus hoogleraar aan de Universiteit van Amsterdam. Zij zal spreken over de Franstalige literatuur van de Marokkaanse diaspora en een interessante vergelijking maken met de Nederlandstalige Marokkaanse literatuur. \nNa de lezing kunt u genieten van Marokkaanse thee en zoetigheden — een gezellig moment om samen na te praten en ideeën uit te wisselen. \nVanaf 20.30 uur is het podium vrij voor muzikanten die hun talent met het publiek willen delen. Neem gerust uw instrument mee of laat uw stem horen en draag bij aan een sfeervolle avond! \nPrijs voor leden: 12 euro. \nPrijs voor niet leden: 15 euro.  \nAdres: In de 3 Krone\, Oudegracht 227\, 3511 NJ Utrecht
URL:https://www.alliance-francaise.nl/utrecht/events/soiree-francophonie/
LOCATION:In de 3 Krone\, Oudegracht 227\, 3511 NJ Utrecht
ATTACH;FMTTYPE=image/png:https://www.alliance-francaise.nl/utrecht/wp-content/uploads/sites/6/2026/03/Francophonie-2026-carree-1.png
END:VEVENT
END:VCALENDAR