BEGIN:VCALENDAR
VERSION:2.0
PRODID:-//Alliance Francaise Utrecht - ECPv6.15.20//NONSGML v1.0//EN
CALSCALE:GREGORIAN
METHOD:PUBLISH
X-ORIGINAL-URL:https://www.alliance-francaise.nl/utrecht
X-WR-CALDESC:Events for Alliance Francaise Utrecht
REFRESH-INTERVAL;VALUE=DURATION:PT1H
X-Robots-Tag:noindex
X-PUBLISHED-TTL:PT1H
BEGIN:VTIMEZONE
TZID:Europe/Amsterdam
BEGIN:DAYLIGHT
TZOFFSETFROM:+0100
TZOFFSETTO:+0200
TZNAME:CEST
DTSTART:20240331T010000
END:DAYLIGHT
BEGIN:STANDARD
TZOFFSETFROM:+0200
TZOFFSETTO:+0100
TZNAME:CET
DTSTART:20241027T010000
END:STANDARD
BEGIN:DAYLIGHT
TZOFFSETFROM:+0100
TZOFFSETTO:+0200
TZNAME:CEST
DTSTART:20250330T010000
END:DAYLIGHT
BEGIN:STANDARD
TZOFFSETFROM:+0200
TZOFFSETTO:+0100
TZNAME:CET
DTSTART:20251026T010000
END:STANDARD
BEGIN:DAYLIGHT
TZOFFSETFROM:+0100
TZOFFSETTO:+0200
TZNAME:CEST
DTSTART:20260329T010000
END:DAYLIGHT
BEGIN:STANDARD
TZOFFSETFROM:+0200
TZOFFSETTO:+0100
TZNAME:CET
DTSTART:20261025T010000
END:STANDARD
END:VTIMEZONE
BEGIN:VEVENT
DTSTART;TZID=Europe/Amsterdam:20251209T113000
DTEND;TZID=Europe/Amsterdam:20251209T123000
DTSTAMP:20260421T210246
CREATED:20250514T134503Z
LAST-MODIFIED:20250514T134503Z
UID:23345-1765279800-1765283400@www.alliance-francaise.nl
SUMMARY:Café conversation
DESCRIPTION:Rejoignez-nous pour un café du matin en français animé par Cora ! Un moment convivial en prévision mais également l’occasion parfaite de pratiquer votre français en tant qu’apprenants et de rencontrer des francophones installés à Utrecht. \nKom naar een Frans ochtendcafé onder leiding van Cora! Het is de perfecte gelegenheid om als cursist uw Frans te oefenen en andere Franstaligen te ontmoeten die in Utrecht wonen. \nGratis voor onze leden/studenten\, alleen drankjes zijn voor eigen rekening\, en €6 voor niet-leden*\, betaling ter plekke. \nVanaf niveau A2. \n11:30 – 12:30 \nKlik hier om je in te schrijven. Inscription ici \n  \n 
URL:https://www.alliance-francaise.nl/utrecht/events/cafe-conversation-2/
LOCATION:Slachtstraat Filmtheater\, Slachtstraat 5\, Utrecht\, 3512 BC\, Netherlands
CATEGORIES:Frans spreken
ATTACH;FMTTYPE=image/jpeg:https://www.alliance-francaise.nl/utrecht/wp-content/uploads/sites/6/2025/05/visuel-cafe-25-26-sans-date.jpg
END:VEVENT
BEGIN:VEVENT
DTSTART;TZID=Europe/Amsterdam:20251214T140000
DTEND;TZID=Europe/Amsterdam:20251214T160000
DTSTAMP:20260421T210246
CREATED:20251104T075441Z
LAST-MODIFIED:20251129T084946Z
UID:25161-1765720800-1765728000@www.alliance-francaise.nl
SUMMARY:Fête de Noël 14h-16h
DESCRIPTION:Domplein 4-5\, Utrecht\n(juste à gauche du bâtiment de Cervantes / direct links van het Cervantes-gebouw) \nOuverture des portes à 13h45 / Deuren open om 13.45 uur\n14h- Discours d’ouverture de la Présidente\, Ineke Herweijer\n14h15-14h45 Concert de musique classique par Héloïse Godefroi\, violoncelliste et chanteuse lyrique\n15h Animation / Présentation du voyage à Compiègne 2026 et retour sur le voyage à Reims 2025\n15h15 Spectacle de la chorale\n15h30 Bûche et accordéon\n16h Fin de l’événement \nEr is een lift in het gebouw naar de 1ste verdieping / Il y a un ascenseur vers le premier étage.  \nGratuit pour les membres / Gratis voor leden\n10 euros pour les accompagnants des membres (paiement sur place\, tikkie ou espèces) / 10 euro voor begeleiders van leden (betaling ter plaatse\, tikkie of contant) \nInscription : https://forms.gle/ymo55u1hM151UMW16 \n 
URL:https://www.alliance-francaise.nl/utrecht/events/fete-de-noel/
CATEGORIES:Feest
ATTACH;FMTTYPE=image/png:https://www.alliance-francaise.nl/utrecht/wp-content/uploads/sites/6/2025/11/Carre-2025-2026.png
ORGANIZER;CN="AFU":MAILTO:culture.utrecht@afpb.nl
END:VEVENT
END:VCALENDAR