BEGIN:VCALENDAR
VERSION:2.0
PRODID:-//Alliance Francaise Utrecht - ECPv6.15.20//NONSGML v1.0//EN
CALSCALE:GREGORIAN
METHOD:PUBLISH
X-WR-CALNAME:Alliance Francaise Utrecht
X-ORIGINAL-URL:https://www.alliance-francaise.nl/utrecht
X-WR-CALDESC:Events for Alliance Francaise Utrecht
REFRESH-INTERVAL;VALUE=DURATION:PT1H
X-Robots-Tag:noindex
X-PUBLISHED-TTL:PT1H
BEGIN:VTIMEZONE
TZID:Europe/Amsterdam
BEGIN:DAYLIGHT
TZOFFSETFROM:+0100
TZOFFSETTO:+0200
TZNAME:CEST
DTSTART:20240331T010000
END:DAYLIGHT
BEGIN:STANDARD
TZOFFSETFROM:+0200
TZOFFSETTO:+0100
TZNAME:CET
DTSTART:20241027T010000
END:STANDARD
BEGIN:DAYLIGHT
TZOFFSETFROM:+0100
TZOFFSETTO:+0200
TZNAME:CEST
DTSTART:20250330T010000
END:DAYLIGHT
BEGIN:STANDARD
TZOFFSETFROM:+0200
TZOFFSETTO:+0100
TZNAME:CET
DTSTART:20251026T010000
END:STANDARD
BEGIN:DAYLIGHT
TZOFFSETFROM:+0100
TZOFFSETTO:+0200
TZNAME:CEST
DTSTART:20260329T010000
END:DAYLIGHT
BEGIN:STANDARD
TZOFFSETFROM:+0200
TZOFFSETTO:+0100
TZNAME:CET
DTSTART:20261025T010000
END:STANDARD
END:VTIMEZONE
BEGIN:VEVENT
DTSTART;TZID=Europe/Amsterdam:20250312T190000
DTEND;TZID=Europe/Amsterdam:20250312T210000
DTSTAMP:20260422T115421
CREATED:20250214T114125Z
LAST-MODIFIED:20250214T114833Z
UID:22020-1741806000-1741813200@www.alliance-francaise.nl
SUMMARY:Cinéforum France - En fanfare
DESCRIPTION:Thibaut est un chef d’orchestre prospère\, Jimmy joue dans la fanfare locale. Ils sont frères mais ne se connaissent pas. Jusqu’à ce que Thibaut cherche un donneur de moelle osseuse. Et il le trouve. L’adoption a rendu leurs vies complètement différentes\, mais leur amour de la musique les rapproche. Lorsque Thibaut découvre le talent musical de Jimmy\, les deux frères ont plus en commun qu’ils ne le pensaient. \nThibaut is een succesvol dirigent\, Jimmy speelt bij de plaatselijke fanfare. Ze zijn broers\, maar weten niet van elkaars bestaan. Tot Thibaut een beenmergdonor zoekt. En vindt. Door adoptie zijn hun levens totaal verschillend verlopen\, maar hun liefde voor muziek brengt ze nader tot elkaar. Wanneer Thibaut het muzikale talent van Jimmy ontdekt\, blijken de broers meer met elkaar gemeen te hebben dan gedacht. \n9€ voor AFU-leden en studenten\n19.00 uur
URL:https://www.alliance-francaise.nl/utrecht/events/cineforum-france-en-fanfare/
CATEGORIES:Cinema
ATTACH;FMTTYPE=image/png:https://www.alliance-francaise.nl/utrecht/wp-content/uploads/sites/6/2025/02/Cineforum-France-mars-2025.png
END:VEVENT
BEGIN:VEVENT
DTSTART;VALUE=DATE:20250313
DTEND;VALUE=DATE:20250321
DTSTAMP:20260422T115421
CREATED:20250214T120236Z
LAST-MODIFIED:20250214T120236Z
UID:22027-1741824000-1742515199@www.alliance-francaise.nl
SUMMARY:Festival PA'DAM
DESCRIPTION:L’Alliance Française d’Amsterdam organise un festival de musique francophone du 13 au 20 mars 2025. \nMarie-Flore – Concert au Tolhuistuin (Paradiso Noord\, Amsterdam)\nAutrice-compositrice et multi-instrumentiste\, elle joue une musique pop aux influences diverses comme The Velvet Underground\, Leonard Cohen\, Gainsbourg\, Dua Lipa… \nGeorge Ka – Concert à Bitterzoet\nRévélée au grand public avec son premier EP\, George Ka tourne avec son nouvel album. Elle a déjà partagé ses morceaux lors de deux concerts qui affichaient complet au Point Ephémère et à La Maroquinerie à Paris. \nTickets
URL:https://www.alliance-francaise.nl/utrecht/events/festival-padam/
CATEGORIES:Cultuur
ATTACH;FMTTYPE=image/png:https://www.alliance-francaise.nl/utrecht/wp-content/uploads/sites/6/2025/02/PADAM-25-image-carree-sur-fond-blanc.png
END:VEVENT
BEGIN:VEVENT
DTSTART;TZID=Europe/Amsterdam:20250314T170000
DTEND;TZID=Europe/Amsterdam:20250314T190000
DTSTAMP:20260422T115421
CREATED:20250120T165610Z
LAST-MODIFIED:20250129T122709Z
UID:21809-1741971600-1741978800@www.alliance-francaise.nl
SUMMARY:Cuisine / Koken - Ik doe ik leer #2
DESCRIPTION:Ik doe ik leer n°2 \nNous cuisinerons ensemble en suivant une recette en français. Cet atelier de 2 heures est réalisé en français facile. Il est pensé dans une démarche pédagogique pour pratiquer son français en participant à une activité artistique : Ik doe ik leer (je fais\, j’apprends). A partir du A1. \nWe koken samen volgens een recept in het Frans. Deze 2 uur durende workshop is in eenvoudig Frans. Het is bedoeld om je te helpen je Frans te oefenen door deel te nemen aan een artistieke activiteit: Ik doe ik leer. Vanaf niveau A1. \nTicket individuel : 20 euros. \nLieu / Plaats : Podium Oost\, Utrecht.
URL:https://www.alliance-francaise.nl/utrecht/events/cuisine-koken-ik-doe-ik-leer-2/
LOCATION:Podium Oost\, Oudwijkerdwarsstraat 148\, Utrecht\, 3581 LJ\, Netherlands
CATEGORIES:Cultuur,Frans spreken,Workshops
ATTACH;FMTTYPE=image/png:https://www.alliance-francaise.nl/utrecht/wp-content/uploads/sites/6/2025/01/Ik-doe-ik-leer-Cuisine-14.03.25-1.png
END:VEVENT
BEGIN:VEVENT
DTSTART;TZID=Europe/Amsterdam:20250321T190000
DTEND;TZID=Europe/Amsterdam:20250321T210000
DTSTAMP:20260422T115421
CREATED:20250214T142126Z
LAST-MODIFIED:20250214T142126Z
UID:22036-1742583600-1742590800@www.alliance-francaise.nl
SUMMARY:Assemblée Générale - Algemene Ledenvergadering
DESCRIPTION:Het bestuur van de Alliance Française Utrecht (AFU) heeft het genoegen u uit te nodigen voor de jaarlijkse Algemene Ledenvergadering (ALV) op 21 maart 2025 om 19.00 uur in de Buurthuis In de 3 Krone (Oudegracht 227\, 3511 NJ Utrecht). Vanaf 19.00 uur bent u welkom en staan koffie en thee voor u klaar. Wij verwachten dat de ALV om 20.30 uur ten einde zal zijn. Daarna is gelegenheid om met elkaar een glas wijn te drinken. \nAan de ALV zal goedkeuring worden gevraagd over de punten van de agenda. Deze punten worden tijdens de vergadering toegelicht. Voor de duidelijkheid vermelden we nog dat alleen leden van de vereniging mogen stemmen. \nIndien u bij de ALV aanwezig wenst te zijn\, klik op deze link.\nHet bestuur hoopt op een grote opkomst bij de ALV en een gezellig samenzijn.
URL:https://www.alliance-francaise.nl/utrecht/events/assemblee-generale-algemene-ledenvergadering/
LOCATION:Pieterskerkhof 5\, Pieterskerkhof 5\, Utrecht\, 3512 JR Utrecht\, Netherlands
ATTACH;FMTTYPE=image/png:https://www.alliance-francaise.nl/utrecht/wp-content/uploads/sites/6/2025/02/Fete-de-Noel-dec-2024-2.png
END:VEVENT
BEGIN:VEVENT
DTSTART;TZID=Europe/Amsterdam:20250323T153000
DTEND;TZID=Europe/Amsterdam:20250323T203000
DTSTAMP:20260422T115421
CREATED:20240724T061648Z
LAST-MODIFIED:20250319T163420Z
UID:20598-1742743800-1742761800@www.alliance-francaise.nl
SUMMARY:Après-midi francophonie
DESCRIPTION:Le mois de mars est celui de la francophonie\, et comme l’an dernier\, nous vous proposons de la fêter avec une après-midi dédiée ! Réservez cet évènement dans votre agenda.\n \nMaart is de maand van La Francophonie\, en net als vorig jaar vieren we dat met een speciale middag! Zet dit evenement in je agenda.  \nKlik hier om je in te schrijven. \n  \nPlaats : Alliance Française Utrecht – Pieterskerkhof 5\, 3512 JR Utrecht\n15h30-16h30 : Cuisinons ensemble\nNous préparons ensemble des gâteaux qui seront servis en dessert lors du dîner francophone du soir. L’atelier sera animé en français par un professeur francophone. A partir du niveau A1/A2.\n8€ membres-étudiant / 12€ public : Paiement sur place avec QRcode.\n15:30-16:30: Samen koken\nWe gaan samen taarten bakken die ‘s avonds als dessert worden geserveerd tijdens het Franstalige diner. De workshop wordt in het Frans gegeven door een Franstalige docent. Vanaf niveau A1/A2.\n8€ leden-cursissen / 12€ publiek\nBetaling ter plaatse met QR-code.\nInscription /Klik hier om je in te schrijven. \n16h30-18h Courts-métrages francophones\nLes courts-métrages sont réalisés par des réalisatrices et réalisateurs francophones.\n+ 18h-18h30 Conversation autour des courts-métrages francophones\nGratuit pour les membres / 6€ public : Paiement sur place avec QRcode.\n16.30-18.00 uur Franstalige korte films\nDe korte films zijn gemaakt door Franstalige regisseurs. De films worden in het Frans ondertiteld.\n+ 18u-18u30 Gesprek over de Franstalige kortfilms\nGratis voor studenten / €6 voor het grote publiek : Betaling ter plaatse met QR-code.\nInscription/Klik hier om je in te schrijven. \nFilms :\n– Cataracte\, Laëtitia de Montalambert et Faustine Crespy\, 2020\, France\, 13 min\n– A coeur perdu\, Sarah Saidan\, 2022\, France et Iran\, 14 minutes\n– Mouton\, Zeina Abirached\, 2012\, France et Liban\, 3 minutes\n– Les visites\, Erwann Bournet\, 2021\, Nouvelle-Calédonie\, 5 minutes\n– L’héritage à nous autres\, Mikaël Espinasse\, 2019\, Louisiane Etats-Unis\, 15 minutes \n18h30-20h Dîner francophone / Franstalig diner\nDîner avec Buffet libanais préparé par le restaurant d’Utrecht Za’atar. Diner met Libanees buffet bereid door het Utrechtse restaurant Za’atar.\n21€ leden-cursissen / 26€ publiek\n21€ membres-étudiants / 26€ public\nTickets WINKEL \n \nPlaats : Alliance Française Utrecht – Pieterskerkhof 5\, 3512 JR Utrecht
URL:https://www.alliance-francaise.nl/utrecht/events/apres-midi-francophonie/
LOCATION:Pieterskerkhof 5\, Pieterskerkhof 5\, Utrecht\, Netherlands
CATEGORIES:Cultuur,Feest,Feestavonden - Soirées festives
ATTACH;FMTTYPE=image/png:https://www.alliance-francaise.nl/utrecht/wp-content/uploads/sites/6/2024/07/Francophonie-23.03.25.png
END:VEVENT
BEGIN:VEVENT
DTSTART;TZID=Europe/Amsterdam:20250325T163000
DTEND;TZID=Europe/Amsterdam:20250325T173000
DTSTAMP:20260422T115421
CREATED:20250123T161227Z
LAST-MODIFIED:20250221T115514Z
UID:21882-1742920200-1742923800@www.alliance-francaise.nl
SUMMARY:Conte plurilingue - 25.03 - néerlandais\, français
DESCRIPTION:Het “meertalige verhaal” nodigt kinderen uit om vertrouwd te raken met talen en hun nieuwe klanken. Ze zullen hun nieuwsgierigheid ontwikkelen. Alle verhalen zijn in het Frans en Nederlands. De kinderen spelen meertalige spelletjes. In elke workshop komen drie van de volgende talen aan bod: Arabisch\, Nederlands\, Engels\, Frans en Spaans. \nLe “conte plurilingue” invite les enfants à se familiariser avec les langues et leurs nouvelles sonorités. Ils développeront leur curiosité. Toutes les histoires sont en français et en néerlandais.\nLes enfants jouent à des jeux multilingues. Chaque atelier couvre trois des langues suivantes : anglais\, arabe\, espagnol\, français et néerlandais. \n\nThe “multilingual tale” invites children to familiarise themselves with languages and their new sounds. They will develop their curiosity. All the stories will be in French and other languages. The children will play multilingual games. Each workshop will feature three of the following languages: Arabic\, Dutch\, English\, French and Spanish. \n\n  \nGratis / Gratuit / Free \nInscrijven verplicht / Inscription obligatoire / Registration mandatory (clic!) \n  \n– mardi 25/03/25 néerlandais\, français\, anglais (Robin)\n–  jeudi 17/04/25 français\, espagnol\, portugais (Lola)\n– samedi 17/05/25 français\, arabe\, néerlandais (Chaymaa)\n\nLieu / Plaats / Location : Pieterskerkhof 5\, 3512 JR Utrecht
URL:https://www.alliance-francaise.nl/utrecht/events/conte-plurilingue-25-03/
LOCATION:AFU\, Pieterskerkhof 5\, Utrecht\, Utrecht\, 3512JR\, Netherlands
CATEGORIES:Frans spreken
ATTACH;FMTTYPE=image/png:https://www.alliance-francaise.nl/utrecht/wp-content/uploads/sites/6/2025/01/Carre-2024-2025.png
ORGANIZER;CN="AFU":MAILTO:culture.utrecht@afpb.nl
END:VEVENT
END:VCALENDAR