BEGIN:VCALENDAR
VERSION:2.0
PRODID:-//Alliance Francaise Utrecht - ECPv6.15.20//NONSGML v1.0//EN
CALSCALE:GREGORIAN
METHOD:PUBLISH
X-WR-CALNAME:Alliance Francaise Utrecht
X-ORIGINAL-URL:https://www.alliance-francaise.nl/utrecht
X-WR-CALDESC:Events for Alliance Francaise Utrecht
REFRESH-INTERVAL;VALUE=DURATION:PT1H
X-Robots-Tag:noindex
X-PUBLISHED-TTL:PT1H
BEGIN:VTIMEZONE
TZID:Europe/Amsterdam
BEGIN:DAYLIGHT
TZOFFSETFROM:+0100
TZOFFSETTO:+0200
TZNAME:CEST
DTSTART:20240331T010000
END:DAYLIGHT
BEGIN:STANDARD
TZOFFSETFROM:+0200
TZOFFSETTO:+0100
TZNAME:CET
DTSTART:20241027T010000
END:STANDARD
BEGIN:DAYLIGHT
TZOFFSETFROM:+0100
TZOFFSETTO:+0200
TZNAME:CEST
DTSTART:20250330T010000
END:DAYLIGHT
BEGIN:STANDARD
TZOFFSETFROM:+0200
TZOFFSETTO:+0100
TZNAME:CET
DTSTART:20251026T010000
END:STANDARD
BEGIN:DAYLIGHT
TZOFFSETFROM:+0100
TZOFFSETTO:+0200
TZNAME:CEST
DTSTART:20260329T010000
END:DAYLIGHT
BEGIN:STANDARD
TZOFFSETFROM:+0200
TZOFFSETTO:+0100
TZNAME:CET
DTSTART:20261025T010000
END:STANDARD
END:VTIMEZONE
BEGIN:VEVENT
DTSTART;TZID=Europe/Amsterdam:20250209T133000
DTEND;TZID=Europe/Amsterdam:20250209T153000
DTSTAMP:20260422T133236
CREATED:20241118T140819Z
LAST-MODIFIED:20241118T145344Z
UID:21422-1739107800-1739115000@www.alliance-francaise.nl
SUMMARY:Le film du dimanche - De Gaulle
DESCRIPTION:Mai 1940. La guerre s’intensifie\, l’armée française s’effondre\, les Allemands seront bientôt à Paris. La panique gagne le gouvernement qui envisage d’accepter la défaite. Un homme\, Charles de Gaulle\, fraîchement promu général\, veut infléchir le cours de l’Histoire. Sa femme\, Yvonne de Gaulle\, est son premier soutien\, mais très vite les évènements les séparent. Yvonne et ses enfants se lancent sur les routes de l’exode. Charles rejoint Londres. Il veut faire entendre une autre voix : celle de la Résistance. \nInscriptions ici\nRegistratie er \nMei 1940. De oorlog wordt heviger\, het Franse leger stort in en de Duitsers zullen snel in Parijs zijn. De regering raakt in paniek en overweegt de nederlaag te accepteren. Eén man\, Charles de Gaulle\, net gepromoveerd tot generaal\, wilde de loop van de geschiedenis veranderen. Zijn vrouw\, Yvonne de Gaulle\, was zijn eerste supporter\, maar de gebeurtenissen scheiden hen al snel. Yvonne en haar kinderen vertrokken op de exodusweg. Charles ging naar Londen. Hij wilde een andere stem laten horen: die van het verzet. \nGratis voor AFU-leden en studenten die Frans studeren.\n6 euro voor alle anderen.\nFilm in het Frans met Franse ondertiteling.\nLet op: de plaatsen zijn beperkt en er is een trap om de zaal te bereiken.
URL:https://www.alliance-francaise.nl/utrecht/events/le-film-du-dimanche-de-gaulle/
LOCATION:AFU\, Pieterskerkhof 5\, Utrecht\, Utrecht\, 3512JR\, Netherlands
CATEGORIES:Cinema
ATTACH;FMTTYPE=image/png:https://www.alliance-francaise.nl/utrecht/wp-content/uploads/sites/6/2024/11/Film-dimanche-9fevrier.png
END:VEVENT
BEGIN:VEVENT
DTSTART;TZID=Europe/Amsterdam:20250211T113000
DTEND;TZID=Europe/Amsterdam:20250211T123000
DTSTAMP:20260422T133236
CREATED:20240723T121822Z
LAST-MODIFIED:20241017T115618Z
UID:20589-1739273400-1739277000@www.alliance-francaise.nl
SUMMARY:Café conversation en français
DESCRIPTION:Rejoignez-nous pour un café du matin en français animé par Cora ! Un moment convivial en prévision mais également l’occasion parfaite de pratiquer votre français en tant qu’apprenants et de rencontrer des francophones installés à Utrecht. \nKom naar een Frans ochtendcafé onder leiding van Cora! Het is de perfecte gelegenheid om als cursist uw Frans te oefenen en andere Franstaligen te ontmoeten die in Utrecht wonen. \nGratis voor onze leden/studenten\, alleen drankjes zijn voor eigen rekening\, en €6 voor niet-leden*\, betaling ter plekke. \nVanaf niveau A2. \n11:30 – 12:30 \nKlik hier om je in te schrijven. \n 
URL:https://www.alliance-francaise.nl/utrecht/events/cafe-conversation-en-francais-6/
LOCATION:Café Slachtstraat\, Slachtstraat 5\, Utrecht
CATEGORIES:Frans spreken
ATTACH;FMTTYPE=image/png:https://www.alliance-francaise.nl/utrecht/wp-content/uploads/sites/6/2024/10/Cafe-conversation-fev-2024.png
ORGANIZER;CN="AFU":MAILTO:culture.utrecht@afpb.nl
END:VEVENT
BEGIN:VEVENT
DTSTART;TZID=Europe/Amsterdam:20250211T190000
DTEND;TZID=Europe/Amsterdam:20250211T190000
DTSTAMP:20260422T133236
CREATED:20241209T133020Z
LAST-MODIFIED:20241209T133643Z
UID:21601-1739300400-1739300400@www.alliance-francaise.nl
SUMMARY:Concert "Les moulins de mon cœur"
DESCRIPTION:Une représentation de notre chorale “Les moulins de mon cœur” emmenée par Britta Maria se tiendra le 11 février. Classiques de la chanson française ou chansons plus contemporaines\, venez chanter avec nous et n’hésitez pas à en parler autour de vous. \n  \nZal ons koor “Les moulins de mon coeur” onder leiding van Britta Maria op 11 februari een optreden verzorgen. Van Franse klassiekers tot meer hedendaagse nummers\, kom en zing met ons mee\, en aarzel niet om het woord te verspreiden.  \nInformatie:  \nTijd: 19.00 – 21.00 uur\, gevolgd door een gezellige borrel. \nAdres: USG\, Ina Boudier-Bakkerlaan 7\, in het auditorium. \nGratis voor onze leden en studenten. Registreer hier (Google Form) \nLeden/cursisten kunnen elk 2 gasten en kinderen sponsoren. Registreer begeleiders op het Google-Form. \nVoor extra gasten 6€. Registreer hier
URL:https://www.alliance-francaise.nl/utrecht/events/concert-les-moulins-de-mon-coeur/
LOCATION:USG\, Ina Boudier-Bakkerlaan 7
CATEGORIES:Feestavonden - Soirées festives
ATTACH;FMTTYPE=image/png:https://www.alliance-francaise.nl/utrecht/wp-content/uploads/sites/6/2024/12/Visuels-cours-site-2.png
ORGANIZER;CN="AFU":MAILTO:culture.utrecht@afpb.nl
END:VEVENT
BEGIN:VEVENT
DTSTART;TZID=Europe/Amsterdam:20250212T190000
DTEND;TZID=Europe/Amsterdam:20250212T210000
DTSTAMP:20260422T133236
CREATED:20250123T154307Z
LAST-MODIFIED:20250123T154347Z
UID:21875-1739386800-1739394000@www.alliance-francaise.nl
SUMMARY:Cinéforum France - Miséricorde
DESCRIPTION:Jérémie revient à Saint-Martial pour l’enterrement de son ancien patron boulanger. Il s’installe quelques jours chez Martine\, sa veuve. Cependant\, entre une disparition mystérieuse\, un voisin menaçant et un abbé aux intentions étranges\, son court séjour au village prend une tournure inattendue. \nJérémie keert terug naar Saint-Martial voor de begrafenis van zijn vroegere bakkersbaas. Hij verblijft een paar dagen bij zijn weduwe\, Martine. Maar met een mysterieuze verdwijning\, een bedreigende buurman en een abt met vreemde bedoelingen neemt zijn korte verblijf in het dorp een onverwachte wending. \n9€ voor AFU-leden en cursisten.
URL:https://www.alliance-francaise.nl/utrecht/events/cineforum-france-misericorde/
LOCATION:Café Slachtstraat\, Slachtstraat 5\, Utrecht
CATEGORIES:Cinema
ATTACH;FMTTYPE=image/png:https://www.alliance-francaise.nl/utrecht/wp-content/uploads/sites/6/2025/01/Cineforum-France-fev-2025.png
END:VEVENT
BEGIN:VEVENT
DTSTART;TZID=Europe/Amsterdam:20250214T180000
DTEND;TZID=Europe/Amsterdam:20250214T200000
DTSTAMP:20260422T133236
CREATED:20250120T165117Z
LAST-MODIFIED:20250121T150438Z
UID:21807-1739556000-1739563200@www.alliance-francaise.nl
SUMMARY:Broderie / Borduurwerk - Ik doe ik leer #1
DESCRIPTION:Ik doe ik leer n°1 \nEn compagnie de Rose\, nous découvrons les techniques de base de la broderie. Cet atelier de 2 heures est réalisé en français facile. Il est pensé dans une démarche pédagogique pour pratiquer son français en participant à une activité artistique : Ik doe ik leer (je fais\, j’apprends). \nMet Rose ontdekken we de basistechnieken van borduren. Deze 2 uur durende workshop is in eenvoudig Frans. Het is bedoeld als een manier om Frans te oefenen en tegelijkertijd deel te nemen aan een artistieke activiteit: Ik doe ik leer.  \nTicket individuel : 20 euros.
URL:https://www.alliance-francaise.nl/utrecht/events/broderie-borduurwerk-ik-doe-ik-leer-1/
CATEGORIES:Cultuur,Frans spreken,Workshops
ATTACH;FMTTYPE=image/png:https://www.alliance-francaise.nl/utrecht/wp-content/uploads/sites/6/2025/01/Ik-doe-ik-leer-Broderie-14.02.25.png
END:VEVENT
BEGIN:VEVENT
DTSTART;TZID=Europe/Amsterdam:20250219T100000
DTEND;TZID=Europe/Amsterdam:20250219T110000
DTSTAMP:20260422T133236
CREATED:20250205T142000Z
LAST-MODIFIED:20250205T142000Z
UID:21970-1739959200-1739962800@www.alliance-francaise.nl
SUMMARY:Café poussette - 19.02
DESCRIPTION:Êtes-vous un jeune parent francophone à Utrecht ? Nous avons une excellente nouvelle pour vous ! \nL’Alliance Française Utrecht (AFU) en collaboration avec l’association En Famille\, vous invite à partager un moment convivial autour d’un café ou d’un thé et gâteaux entre parents et jeunes enfants (moins de 3 ans). \nCes rencontres se déroulent au Pieterskerkhof 5\, de 10h à 11h\, et cela un mercredi par mois. \nHolly\, notre professeure\, présente diverses activités\, comptines et histoires pour vos tout-petits. Puis\, vous êtes libres de rester et de discuter avec les autres parents participants. \nVenez créer des souvenirs inoubliables avec vos enfants en partageant et en apprenant dans l’ambiance chaleureuse et féconde de notre communauté. \nTickets
URL:https://www.alliance-francaise.nl/utrecht/events/cafe-poussette-19-02/
LOCATION:Pieterskerkhof 5\, Pieterskerkhof 5\, Utrecht\, Netherlands
CATEGORIES:Frans spreken
ATTACH;FMTTYPE=image/png:https://www.alliance-francaise.nl/utrecht/wp-content/uploads/sites/6/2024/05/Visuels-cours-site-1.png
ORGANIZER;CN="AFU":MAILTO:culture.utrecht@afpb.nl
END:VEVENT
BEGIN:VEVENT
DTSTART;TZID=Europe/Amsterdam:20250220T183000
DTEND;TZID=Europe/Amsterdam:20250220T193000
DTSTAMP:20260422T133236
CREATED:20241017T122656Z
LAST-MODIFIED:20250220T140949Z
UID:21203-1740076200-1740079800@www.alliance-francaise.nl
SUMMARY:ANNULATION /Apéro conversation - février 2025
DESCRIPTION:A partir du niveau A2.\nGratuit pour les membres et les élèves de nos cours de français.\n6 euros pour les autres à payer sur place par transfert avec QRcode.\nBoissons à votre charge. \nVanaf niveau A2.\nGratis voor onze leden/studenten.\n6€ voor niet-leden\, betaling ter plaatse met QR code.\nDrankjes zijn op eigen kosten. 
URL:https://www.alliance-francaise.nl/utrecht/events/apero-conversation-fevrier-2025/
CATEGORIES:Frans spreken
ATTACH;FMTTYPE=image/png:https://www.alliance-francaise.nl/utrecht/wp-content/uploads/sites/6/2024/12/Apero-conv-20-fevrier.png
ORGANIZER;CN="AFU":MAILTO:culture.utrecht@afpb.nl
END:VEVENT
BEGIN:VEVENT
DTSTART;TZID=Europe/Amsterdam:20250220T200000
DTEND;TZID=Europe/Amsterdam:20250220T210000
DTSTAMP:20260422T133236
CREATED:20240723T114552Z
LAST-MODIFIED:20240723T114552Z
UID:20568-1740081600-1740085200@www.alliance-francaise.nl
SUMMARY:Conférence Oh - Les arts de la table
DESCRIPTION:Les Alliances Françaises du Portugal\, d’Espagne\, de Pologne\, de Belgique\, des Pays-Bas ainsi que l’Accueil de la Haye sont heureuses de s’unir de nouveau afin de vous présenter une nouvelle rencontre d’un cycle de conférences sur les incontournables de la culture française. Laissez-vous guider par Giulia FRANCESCHINI lors d’une conférence en ligne sur Les Arts de la table\, le jeudi 20 février 2025\, à 20h00. \n \n\nDresser une table\, mettre le couvert : des expressions quotidiennes qui font référence à des habitudes perdues\, mais lesquelles ? Et aussi\, pourquoi avons-nous\ndésormais un service à la russe et non pas un service à la française ? Découvrez ou redécouvrez l’évolution des arts de la table au fil du temps\, de l’Histoire et de nos habitudes alimentaires.\n\n\nDeze videoconferentie\, gepresenteerd door Giulia Franceschini\, biedt inzicht in de kunst van het tafelen. Ontdek of herontdek de evolutie van de tafelkunst in de loop van de tijd\, de geschiedenis en onze eetgewoonten. \nTijd: 20:00 uur – 21:00 uur \nKlik hier om je in te schrijven.
URL:https://www.alliance-francaise.nl/utrecht/events/conference-oh-les-arts-de-la-table/
LOCATION:Online
CATEGORIES:Conferenties
ATTACH;FMTTYPE=image/png:https://www.alliance-francaise.nl/utrecht/wp-content/uploads/sites/6/2024/07/3.png
END:VEVENT
END:VCALENDAR