BEGIN:VCALENDAR
VERSION:2.0
PRODID:-//Alliance Francaise Utrecht - ECPv6.15.20//NONSGML v1.0//EN
CALSCALE:GREGORIAN
METHOD:PUBLISH
X-WR-CALNAME:Alliance Francaise Utrecht
X-ORIGINAL-URL:https://www.alliance-francaise.nl/utrecht
X-WR-CALDESC:Events for Alliance Francaise Utrecht
REFRESH-INTERVAL;VALUE=DURATION:PT1H
X-Robots-Tag:noindex
X-PUBLISHED-TTL:PT1H
BEGIN:VTIMEZONE
TZID:Europe/Amsterdam
BEGIN:DAYLIGHT
TZOFFSETFROM:+0100
TZOFFSETTO:+0200
TZNAME:CEST
DTSTART:20240331T010000
END:DAYLIGHT
BEGIN:STANDARD
TZOFFSETFROM:+0200
TZOFFSETTO:+0100
TZNAME:CET
DTSTART:20241027T010000
END:STANDARD
BEGIN:DAYLIGHT
TZOFFSETFROM:+0100
TZOFFSETTO:+0200
TZNAME:CEST
DTSTART:20250330T010000
END:DAYLIGHT
BEGIN:STANDARD
TZOFFSETFROM:+0200
TZOFFSETTO:+0100
TZNAME:CET
DTSTART:20251026T010000
END:STANDARD
BEGIN:DAYLIGHT
TZOFFSETFROM:+0100
TZOFFSETTO:+0200
TZNAME:CEST
DTSTART:20260329T010000
END:DAYLIGHT
BEGIN:STANDARD
TZOFFSETFROM:+0200
TZOFFSETTO:+0100
TZNAME:CET
DTSTART:20261025T010000
END:STANDARD
END:VTIMEZONE
BEGIN:VEVENT
DTSTART;TZID=Europe/Amsterdam:20250108T190000
DTEND;TZID=Europe/Amsterdam:20250108T210000
DTSTAMP:20260422T151204
CREATED:20241127T144357Z
LAST-MODIFIED:20241212T140354Z
UID:21479-1736362800-1736370000@www.alliance-francaise.nl
SUMMARY:Cinéforum France - L'histoire de Souleymane
DESCRIPTION:Tandis qu’il pédale dans les rues de Paris pour livrer des repas\, Souleymane répète son histoire. Dans deux jours\, il doit passer son entretien de demande d’asile\, le sésame pour obtenir des papiers. Mais Souleymane n’est pas prêt. \n  \nTerwijl hij door de straten van Parijs fietst om maaltijden af te leveren\, herhaalt Souleymane zijn verhaal. Over twee dagen moet hij naar zijn asielgesprek\, de sleutel tot het verkrijgen van papieren. Maar Souleymane is er nog niet klaar voor. \n  \nWoensdag 8 Januari \nTijd: 19.00 uur \n9€ voor AFU-leden en studenten
URL:https://www.alliance-francaise.nl/utrecht/events/cineforum-france-lhistoire-de-souleymane/
LOCATION:Café Slachtstraat\, Slachtstraat 5\, Utrecht
CATEGORIES:Cinema
ATTACH;FMTTYPE=image/png:https://www.alliance-francaise.nl/utrecht/wp-content/uploads/sites/6/2024/11/Cineforum-France-janviers-2025.png
END:VEVENT
BEGIN:VEVENT
DTSTART;TZID=Europe/Amsterdam:20250112T133000
DTEND;TZID=Europe/Amsterdam:20250112T153000
DTSTAMP:20260422T151204
CREATED:20241118T122939Z
LAST-MODIFIED:20241118T140931Z
UID:21410-1736688600-1736695800@www.alliance-francaise.nl
SUMMARY:Le film du dimanche - Astérix et Obélix Mission Cléopâtre
DESCRIPTION:Cléopâtre (Monica Belucci)\, la reine d’Égypte\, décide\, pour prouver à Jules César (Alain Chabat) la grandeur de la civilisation égyptienne\, de construire un palais en plein désert en l’espace de trois mois. Pour cela\, elle fait appel à l’architecte Numérobis (Jamel Debbouze). Numérobis décide de se rendre en Gaule pour demander de l’aide à un vieil ami\, le druide gaulois Panoramix (Claude Rich)\, détenteur du secret de la potion magique\, ainsi qu’à ses amis\, Astérix (Christian Clavier) et Obélix (Gérard Depardieu).  \nGratuit pour les membres de l’AFU et pour les étudiants des cours de français.\n6 euros pour les autres (paiement sur place)\nFilm en français avec des sous-titres en français.\nVeuillez noter que le nombre de places est limité et qu’il y a des escaliers pour accéder à la salle. \nInscription ici \nOm Julius Caesar (Alain Chabat) de grootsheid van de Egyptische beschaving te bewijzen\, besluit Cleopatra (Monica Belucci)\, koningin van Egypte\, in drie maanden tijd een paleis midden in de woestijn te bouwen. Hiervoor doet ze een beroep op de architect Edifis (Jamel Debbouze). Edifis besluit naar Gallië te reizen om de hulp in te roepen van een oude vriend\, de Gallische druïde Panoramix (Claude Rich)\, die het geheim van de toverdrank bezit\, en zijn vrienden Asterix (Christian Clavier) en Obelix (Gérard Depardieu). \nGratis voor AFU-leden en studenten die Frans studeren.\n6 euro voor alle anderen (betaling ter plaatse)\nFilm in het Frans met Franse ondertiteling.\nLet op: de plaatsen zijn beperkt en er is een trap om de zaal te bereiken. \nRegistratie er \n  \nNous organisons un événement GALETTES DES ROIS à la suite du visionnage du film. L’événement commence à 15h30.\nPour plus d’informations et pour vous inscrire\, suivez ce lien.
URL:https://www.alliance-francaise.nl/utrecht/events/le-film-du-dimanche-asterix-et-obelix-mission-cleopatre/
LOCATION:AFU\, Pieterskerkhof 5\, Utrecht\, Utrecht\, 3512JR\, Netherlands
CATEGORIES:Cinema,Cultuur,Feest
ATTACH;FMTTYPE=image/png:https://www.alliance-francaise.nl/utrecht/wp-content/uploads/sites/6/2024/11/Film-dimanche-12-janvier-2025.png
ORGANIZER;CN="AFU":MAILTO:culture.utrecht@afpb.nl
END:VEVENT
BEGIN:VEVENT
DTSTART;TZID=Europe/Amsterdam:20250112T153000
DTEND;TZID=Europe/Amsterdam:20250112T170000
DTSTAMP:20260422T151204
CREATED:20241118T123803Z
LAST-MODIFIED:20241118T140943Z
UID:21413-1736695800-1736701200@www.alliance-francaise.nl
SUMMARY:Galettes des Rois
DESCRIPTION:Venez déguster des Galettes des Rois à l’Alliance Française Utrecht ! \nVous pouvez participer de deux façon : \n\nVous faites une galette et l’amenez pour le concours : entrée gratuite\nVous mangez des galettes et participez à l’élection de la meilleure galette : 5 euros\n\nL’Alliance vous accueille avec thé et café pour l’occasion. \nJulia vous prépare une galette végane et Eugénie cuisine une galette sans-gluten. \nPour vous inscrire\, cliquez ici. (Paiement sur place par QRcode) \n  \nKom Galettes des Rois proeven bij de Alliance Française Utrecht! \nJe kunt op twee manieren meedoen: \n\nJe maakt een galette en brengt deze mee naar de wedstrijd: gratis toegang\nJe eet een aantal galettes en doet mee aan de verkiezing van de beste galette: 5 euro\n\nL’Alliance verwelkomt je voor de gelegenheid met koffie en thee. \nJulia zal een veganistische galette bereiden en Eugénie een glutenvrije galette. \nKlik hier om te registreren. (Betaling ter plaatse via QR-code)
URL:https://www.alliance-francaise.nl/utrecht/events/galettes-des-rois/
LOCATION:AFU\, Pieterskerkhof 5\, Utrecht\, Utrecht\, 3512JR\, Netherlands
CATEGORIES:Cultuur,Feest
ATTACH;FMTTYPE=image/png:https://www.alliance-francaise.nl/utrecht/wp-content/uploads/sites/6/2024/11/Concours-galettes-2025.png
ORGANIZER;CN="AFU":MAILTO:culture.utrecht@afpb.nl
END:VEVENT
BEGIN:VEVENT
DTSTART;TZID=Europe/Amsterdam:20250130T183000
DTEND;TZID=Europe/Amsterdam:20250130T193000
DTSTAMP:20260422T151204
CREATED:20241017T122049Z
LAST-MODIFIED:20241204T153107Z
UID:21196-1738261800-1738265400@www.alliance-francaise.nl
SUMMARY:Apéro conversation - janvier 2025
DESCRIPTION:Retrouvez-nous pour le premier apéro de 2025 ! De 18h30 à 19h30 \nKom naar het eerste aperitief van 2025! Van 18.30 tot 19.30 \nCliquez pour vous inscrire/Klik hier om je in te schrijven : Ici! \nA partir du niveau A2.\nGratuit pour les membres et les élèves de nos cours de français.\n6 euros pour les autres à payer sur place par transfert avec QRcode.\nBoissons à votre charge. \nVanaf niveau A2.\nGratis voor onze leden/studenten.\n6€ voor niet-leden\, betaling ter plaatse met QR code.\nDrankjes zijn op eigen kosten. 
URL:https://www.alliance-francaise.nl/utrecht/events/apero-conversation-janvier-2025/
LOCATION:Café Slachtstraat\, Slachtstraat 5\, Utrecht
CATEGORIES:Frans spreken
ATTACH;FMTTYPE=image/png:https://www.alliance-francaise.nl/utrecht/wp-content/uploads/sites/6/2024/12/Apero-conv-30-janvier.png
ORGANIZER;CN="AFU":MAILTO:culture.utrecht@afpb.nl
END:VEVENT
END:VCALENDAR