BEGIN:VCALENDAR
VERSION:2.0
PRODID:-//Alliance Francaise Utrecht - ECPv6.15.20//NONSGML v1.0//EN
CALSCALE:GREGORIAN
METHOD:PUBLISH
X-WR-CALNAME:Alliance Francaise Utrecht
X-ORIGINAL-URL:https://www.alliance-francaise.nl/utrecht
X-WR-CALDESC:Events for Alliance Francaise Utrecht
REFRESH-INTERVAL;VALUE=DURATION:PT1H
X-Robots-Tag:noindex
X-PUBLISHED-TTL:PT1H
BEGIN:VTIMEZONE
TZID:Europe/Amsterdam
BEGIN:DAYLIGHT
TZOFFSETFROM:+0100
TZOFFSETTO:+0200
TZNAME:CEST
DTSTART:20230326T010000
END:DAYLIGHT
BEGIN:STANDARD
TZOFFSETFROM:+0200
TZOFFSETTO:+0100
TZNAME:CET
DTSTART:20231029T010000
END:STANDARD
BEGIN:DAYLIGHT
TZOFFSETFROM:+0100
TZOFFSETTO:+0200
TZNAME:CEST
DTSTART:20240331T010000
END:DAYLIGHT
BEGIN:STANDARD
TZOFFSETFROM:+0200
TZOFFSETTO:+0100
TZNAME:CET
DTSTART:20241027T010000
END:STANDARD
BEGIN:DAYLIGHT
TZOFFSETFROM:+0100
TZOFFSETTO:+0200
TZNAME:CEST
DTSTART:20250330T010000
END:DAYLIGHT
BEGIN:STANDARD
TZOFFSETFROM:+0200
TZOFFSETTO:+0100
TZNAME:CET
DTSTART:20251026T010000
END:STANDARD
END:VTIMEZONE
BEGIN:VEVENT
DTSTART;TZID=Europe/Amsterdam:20241008T113000
DTEND;TZID=Europe/Amsterdam:20241008T123000
DTSTAMP:20260422T201215
CREATED:20240723T121448Z
LAST-MODIFIED:20240723T121549Z
UID:20579-1728387000-1728390600@www.alliance-francaise.nl
SUMMARY:Café conversation en français
DESCRIPTION:Rejoignez-nous pour un café du matin en français animé par Cora ! Un moment convivial en prévision mais également l’occasion parfaite de pratiquer votre français en tant qu’apprenants et de rencontrer des francophones installés à Utrecht. \nKom naar een Frans ochtendcafé onder leiding van Cora! Het is de perfecte gelegenheid om als cursist uw Frans te oefenen en andere Franstaligen te ontmoeten die in Utrecht wonen. \nGratis voor onze leden/studenten\, alleen drankjes zijn voor eigen rekening\, en €6 voor niet-leden*\, betaling ter plekke. \nVanaf niveau A2. \n11:30 – 12:30 \nKlik hier om je in te schrijven. \n 
URL:https://www.alliance-francaise.nl/utrecht/events/cafe-conversation-en-francais-4/
LOCATION:Café Slachtstraat\, Slachtstraat 5\, Utrecht
CATEGORIES:Frans spreken
ATTACH;FMTTYPE=image/png:https://www.alliance-francaise.nl/utrecht/wp-content/uploads/sites/6/2024/07/Cafe-conversation-oct-2024.png
ORGANIZER;CN="AFU":MAILTO:culture.utrecht@afpb.nl
END:VEVENT
BEGIN:VEVENT
DTSTART;TZID=Europe/Amsterdam:20241013T150000
DTEND;TZID=Europe/Amsterdam:20241013T180000
DTSTAMP:20260422T201215
CREATED:20240724T065406Z
LAST-MODIFIED:20240923T130633Z
UID:20605-1728831600-1728842400@www.alliance-francaise.nl
SUMMARY:Théâtre : "Du paillasson considéré du point de vue des hérissons"
DESCRIPTION:Dans le cadre d’une tournée aux Pays-Bas et d’un partenariat inter-Alliance\, la compagnie de théâtre amateur de l’Alliance française de La Haye\, le Théâtre de l’Avalanche passera par Utrecht\, le dimanche 13 octobre\, à 15h\, au Theater Wittevrouwen.\nLaissez-vous tenter par : « Du paillasson considéré du point de vue des hérissons »\, une pièce de Matéi Visniec\, adaptée et mise en scène par Pascal Milard et interprétée par 12 acteurs français\, néerlandais et internationaux.\nIl s’agit d’une comédie en français qui propose une dizaine de saynètes dans lesquelles circule une joyeuse folie douce et communicative. Si l’absurde est au rendez-vous\, il n’est pas sans laisser un message poétique que l’on peut attraper au vol. Le ton de la pièce oscille volontairement entre des moments touchants et des vagues de purs délires.\nEntrée du public à partir de 14h30. Début du spectacle à 15h. \nSpectacle tout public \nTarif unique : 15 € \nRéserver uniquement sur le site de l’Alliance française de La Haye\, ici. \nIn het kader van een tournee door Nederland en een samenwerkingsverband tussen de Alliance française de La Haye\, maakt het amateurtheatergezelschap Théâtre de l’Avalanche op zondag 13 oktober om 15.00 uur een tussenstop in Utrecht in Theater Wittevrouwen. \nLaat je verleiden door : “Du paillasson considéré du point de vue des hérissons”\, een toneelstuk van Matéi Visniec\, bewerkt en geregisseerd door Pascal Milard en gespeeld door 12 Franse\, Nederlandse en internationale acteurs. \nHet is een Franstalige komedie met een tiental sketches waarin een vrolijke\, zachte en aanstekelijke gekte rondgaat. Terwijl het absurde voor iedereen te zien is\, laat het ook een poëtische boodschap achter die je zo kunt opvangen. De toon van het stuk schommelt bewust tussen ontroerende momenten en golven van puur delirium. \nToegang voor publiek vanaf 14.30 uur. Show begint om 15.00 uur \nVoor iedereen toegankelijk \nPrijs enkeltje: €15 \nAlleen reserveren op de website van de Alliance française de La Haye\, hier. \n 
URL:https://www.alliance-francaise.nl/utrecht/events/theatre-du-paillasson-considere-du-point-de-vue-du-herisson/
LOCATION:ZIMIHC theater Wittevrouwen\, Bouwstraat 55\, utrecht\, Netherlands
CATEGORIES:Cultuur
ATTACH;FMTTYPE=image/png:https://www.alliance-francaise.nl/utrecht/wp-content/uploads/sites/6/2024/07/Theatre-oct-2024-1.png
END:VEVENT
END:VCALENDAR