BEGIN:VCALENDAR
VERSION:2.0
PRODID:-//Alliance Francaise Utrecht - ECPv6.15.20//NONSGML v1.0//EN
CALSCALE:GREGORIAN
METHOD:PUBLISH
X-WR-CALNAME:Alliance Francaise Utrecht
X-ORIGINAL-URL:https://www.alliance-francaise.nl/utrecht
X-WR-CALDESC:Events for Alliance Francaise Utrecht
REFRESH-INTERVAL;VALUE=DURATION:PT1H
X-Robots-Tag:noindex
X-PUBLISHED-TTL:PT1H
BEGIN:VTIMEZONE
TZID:Europe/Amsterdam
BEGIN:DAYLIGHT
TZOFFSETFROM:+0100
TZOFFSETTO:+0200
TZNAME:CEST
DTSTART:20230326T010000
END:DAYLIGHT
BEGIN:STANDARD
TZOFFSETFROM:+0200
TZOFFSETTO:+0100
TZNAME:CET
DTSTART:20231029T010000
END:STANDARD
BEGIN:DAYLIGHT
TZOFFSETFROM:+0100
TZOFFSETTO:+0200
TZNAME:CEST
DTSTART:20240331T010000
END:DAYLIGHT
BEGIN:STANDARD
TZOFFSETFROM:+0200
TZOFFSETTO:+0100
TZNAME:CET
DTSTART:20241027T010000
END:STANDARD
BEGIN:DAYLIGHT
TZOFFSETFROM:+0100
TZOFFSETTO:+0200
TZNAME:CEST
DTSTART:20250330T010000
END:DAYLIGHT
BEGIN:STANDARD
TZOFFSETFROM:+0200
TZOFFSETTO:+0100
TZNAME:CET
DTSTART:20251026T010000
END:STANDARD
END:VTIMEZONE
BEGIN:VEVENT
DTSTART;TZID=Europe/Amsterdam:20240512T133000
DTEND;TZID=Europe/Amsterdam:20240512T163000
DTSTAMP:20260423T040111
CREATED:20240327T105355Z
LAST-MODIFIED:20240507T071747Z
UID:19538-1715520600-1715531400@www.alliance-francaise.nl
SUMMARY:Le film du dimanche - ANNULÉ
DESCRIPTION:Compte tenu du beau temps annoncé et du long week-end possible avec le jeudi 9 mai férié\, nous sommes contraints d’annuler cette séance. Toutes nos excuses et merci à ceux qui s’étaient inscrits ! \nEn partenariat avec l’Institut Français du Cinéma\, nous vous proposons nous vous proposons le 12 mai\, une aventure sucrée au travers du film “À la belle étoile” de Sébastien Tulard !\nImaginez un enfant\, Yazid\, qui trouve du réconfort dans le doux parfum de la pâtisserie et la magie des créations sucrées. De famille d’accueil en foyer\, son existence n’a pas été un glaçage à la vanille. Mais son amour pour la pâtisserie reste sa boussole\, son étoile du nord qui brille même dans les nuits les plus sombres.\nYazid a un rêve – un rêve couronné d’une cerise\, noyé dans le chocolat et enrobé de pâte feuilletée – travailler avec les plus grands chefs pâtissiers de la planète et figurer au panthéon des meilleurs.\nSoyez prêts à dévorer “À la belle étoile”! \n  \nOp 12 mei bieden we je\, in samenwerking met het Institut Français du Cinéma\, een zoet avontuur aan met de film “À la belle étoile” van Sébastien Tulard!\nStel je een kind voor\, Yazid\, die troost vindt in de zoete geur van gebak en de magie van zoete creaties. Van pleeggezin naar tehuis\, zijn leven is er niet een van vanille glazuur. Maar zijn liefde voor patisserie blijft zijn kompas\, zijn Poolster die zelfs door de donkerste nachten schijnt. \nYazid heeft een droom – een droom bekroond met een kers\, verdronken in chocolade en bedekt met bladerdeeg – om te werken met ‘s werelds grootste patissiers en in het pantheon van de besten te staan.\nMaak je klaar om “À la belle étoile” te verorberen! \nGratis thee\, koffie en gebak. \nGratis voor leden/studenten\, €6 voor niet-leden/studenten. QR-code betaling ter plaatse \nVanaf niveau B1. In het Frans. \nLet op: de plaatsen zijn beperkt en er is een trap om de zaal te bereiken. \n 
URL:https://www.alliance-francaise.nl/utrecht/events/le-film-du-dimanche-5/
LOCATION:AFU\, Pieterskerkhof 5\, Utrecht\, Utrecht\, 3512JR\, Netherlands
CATEGORIES:Cinema
ATTACH;FMTTYPE=image/png:https://www.alliance-francaise.nl/utrecht/wp-content/uploads/sites/6/2024/03/Le-film-du-dimanche-mai-1.png
ORGANIZER;CN="AFU":MAILTO:culture.utrecht@afpb.nl
END:VEVENT
BEGIN:VEVENT
DTSTART;TZID=Europe/Amsterdam:20240515T190000
DTEND;TZID=Europe/Amsterdam:20240515T220000
DTSTAMP:20260423T040111
CREATED:20240327T111426Z
LAST-MODIFIED:20240327T111426Z
UID:19540-1715799600-1715810400@www.alliance-francaise.nl
SUMMARY:Cinéforum France - Voorpremière
DESCRIPTION:Rejoignez-nous au Cinéforum France en partenariat avec le Slachtstraat Filmtheater pour la projection du film “Bolero” d’Anne Fontaine en avant-première. Découvrez la vie passionnante du compositeur français Maurice Ravel et sa consécration internationale pour son œuvre du Boléro de 1928. La projection sera précédée d’une introduction et suivie d’un débat conduits par l’Alliance Française d’Utrecht.  \nKom naar Cinéforum France in samenwerking met het Slachtstraat Filmtheater voor een voorvertoning van Anne Fontaine’s film “Bolero”. Ontdek het fascinerende leven van de Franse componist Maurice Ravel en zijn internationale erkenning voor zijn Bolero uit 1928. De vertoning wordt voorafgegaan door een inleiding en gevolgd door een debat onder leiding van de Alliance Française d’Utrecht.  \nMet Nederlandse ondertiteling. \nKlik  hier om je in te schrijven.
URL:https://www.alliance-francaise.nl/utrecht/events/cineforum-france-voorpremiere-2/
LOCATION:Slachtstraat Filmtheater\, Slachtstraat 5\, Utrecht\, 3512 BC\, Netherlands
CATEGORIES:Cinema
ATTACH;FMTTYPE=image/png:https://www.alliance-francaise.nl/utrecht/wp-content/uploads/sites/6/2024/03/Cineforum-Bolero.png
END:VEVENT
BEGIN:VEVENT
DTSTART;TZID=Europe/Amsterdam:20240517T190000
DTEND;TZID=Europe/Amsterdam:20240517T210000
DTSTAMP:20260423T040111
CREATED:20240118T122736Z
LAST-MODIFIED:20240430T113959Z
UID:18863-1715972400-1715979600@www.alliance-francaise.nl
SUMMARY:Atelier Histoires d'amour
DESCRIPTION:Célébrez l’amour littéraire en plongeant dans l’univers de “Toujours l’amour” de Henk Steenhuis lors de notre atelier Histoires d’amour ! Nous vous garantissons un voyage à travers les idylles des milieux culturels et politiques français du XIXème siècle à nos jours grâce à cet atelier exceptionnel co-animé par l’auteur lui-même et Anja-Hélène van Zandwijk\, professeure de littérature française moderne. \nVier de literaire liefde door een duik te nemen in de wereld van Henk Steenhuis’ “Toujours l’amour” tijdens onze workshop Liefdesverhalen! Deze bijzondere workshop\, mede georganiseerd door de auteur zelf en Anja-Hélène van Zandwijk\, docente moderne Franse literatuur\, neemt je mee op reis door de idylles van de Franse culturele en politieke kringen van de 19e eeuw tot nu. \nGratis voor leden/studenten\, €10 voor niet-leden/studenten. \nVanaf niveau B1. \nKlik hier om je in te schrijven.
URL:https://www.alliance-francaise.nl/utrecht/events/atelier-histoires-damour/
LOCATION:Pieterskerkhof 5\, Pieterskerkhof 5\, Utrecht\, Netherlands
CATEGORIES:Literatuur,Workshops
ATTACH;FMTTYPE=image/png:https://www.alliance-francaise.nl/utrecht/wp-content/uploads/sites/6/2024/03/Atelier-histoires-damour-DATE-CHANGEE-1705.png
END:VEVENT
BEGIN:VEVENT
DTSTART;TZID=Europe/Amsterdam:20240524T160000
DTEND;TZID=Europe/Amsterdam:20240524T170000
DTSTAMP:20260423T040111
CREATED:20240327T110011Z
LAST-MODIFIED:20240327T110011Z
UID:19542-1716566400-1716570000@www.alliance-francaise.nl
SUMMARY:Café du monde
DESCRIPTION:Prenez votre café avec les étudiants et les membres des Alliances françaises d’ailleurs pour une conversation interculturelle en petits groupes et en ligne. C’est Lionne Koens\, du comité culturel qui vous accompagnera. Inscrivez-vous rapidement : les places sont limitées ! Les hôtes du café-conversation sont des membres de l’équipe d’une Alliance française différente dans le monde chaque mois. \nDrink koffie met de studenten en leden van de Alliances françaises van elders voor een intercultureel gesprek in kleine groepjes en online. Lionne Koens van de Culturele Commissie zal je vergezellen. Schrijf je vroeg in: de plaatsen zijn beperkt! De gastheren van het cafégesprek zijn teamleden van een andere Alliance française over de hele wereld. \nOnline en gratis \nNiveaux B1/B2 en C1/C2 \nKlik hier om je in te schrijven.
URL:https://www.alliance-francaise.nl/utrecht/events/cafe-du-monde-4/
LOCATION:AF Chicago\, United States
CATEGORIES:Frans spreken
ATTACH;FMTTYPE=image/png:https://www.alliance-francaise.nl/utrecht/wp-content/uploads/sites/6/2024/03/cafe-du-monde-mai.png
END:VEVENT
END:VCALENDAR