BEGIN:VCALENDAR
VERSION:2.0
PRODID:-//Alliance Francaise Utrecht - ECPv6.15.20//NONSGML v1.0//EN
CALSCALE:GREGORIAN
METHOD:PUBLISH
X-WR-CALNAME:Alliance Francaise Utrecht
X-ORIGINAL-URL:https://www.alliance-francaise.nl/utrecht
X-WR-CALDESC:Events for Alliance Francaise Utrecht
REFRESH-INTERVAL;VALUE=DURATION:PT1H
X-Robots-Tag:noindex
X-PUBLISHED-TTL:PT1H
BEGIN:VTIMEZONE
TZID:Europe/Amsterdam
BEGIN:DAYLIGHT
TZOFFSETFROM:+0100
TZOFFSETTO:+0200
TZNAME:CEST
DTSTART:20230326T010000
END:DAYLIGHT
BEGIN:STANDARD
TZOFFSETFROM:+0200
TZOFFSETTO:+0100
TZNAME:CET
DTSTART:20231029T010000
END:STANDARD
BEGIN:DAYLIGHT
TZOFFSETFROM:+0100
TZOFFSETTO:+0200
TZNAME:CEST
DTSTART:20240331T010000
END:DAYLIGHT
BEGIN:STANDARD
TZOFFSETFROM:+0200
TZOFFSETTO:+0100
TZNAME:CET
DTSTART:20241027T010000
END:STANDARD
BEGIN:DAYLIGHT
TZOFFSETFROM:+0100
TZOFFSETTO:+0200
TZNAME:CEST
DTSTART:20250330T010000
END:DAYLIGHT
BEGIN:STANDARD
TZOFFSETFROM:+0200
TZOFFSETTO:+0100
TZNAME:CET
DTSTART:20251026T010000
END:STANDARD
END:VTIMEZONE
BEGIN:VEVENT
DTSTART;TZID=Europe/Amsterdam:20240409T110000
DTEND;TZID=Europe/Amsterdam:20240409T120000
DTSTAMP:20260423T054521
CREATED:20240228T192512Z
LAST-MODIFIED:20240408T075925Z
UID:19374-1712660400-1712664000@www.alliance-francaise.nl
SUMMARY:Café conversation en français
DESCRIPTION:Rejoignez-nous pour un café du matin en français animé par Cora ! Un moment convivial en prévision mais également l’occasion parfaite de pratiquer votre français en tant qu’apprenants et de rencontrer des francophones installés à Utrecht. \nKom naar een Frans ochtendcafé onder leiding van Cora! Het is de perfecte gelegenheid om als cursist uw Frans te oefenen en andere Franstaligen te ontmoeten die in Utrecht wonen. \n  \nGratis voor onze leden/studenten\, alleen drankjes zijn voor eigen rekening\, en €6 voor niet-leden*\, betaling ter plekke. \nVanaf niveau A2. \nKlik hier  om je in te schrijven. \n 
URL:https://www.alliance-francaise.nl/utrecht/events/cafe-conversation-en-francais-2/
LOCATION:Cafe Le Postillon\, Lijnmarkt 50\, Utrecht\, Netherlands
CATEGORIES:Frans spreken
ATTACH;FMTTYPE=image/png:https://www.alliance-francaise.nl/utrecht/wp-content/uploads/sites/6/2024/02/cafe-conversation-avril-NL-2.png
ORGANIZER;CN="AFU":MAILTO:culture.utrecht@afpb.nl
END:VEVENT
BEGIN:VEVENT
DTSTART;TZID=Europe/Amsterdam:20240414T133000
DTEND;TZID=Europe/Amsterdam:20240414T163000
DTSTAMP:20260423T054521
CREATED:20240313T102607Z
LAST-MODIFIED:20240315T143652Z
UID:19478-1713101400-1713112200@www.alliance-francaise.nl
SUMMARY:Le film du dimanche
DESCRIPTION:En partenariat avec l’Institut Français du cinéma\, nous vous proposons le visionnage de “Tant que le soleil frappe”\, un film réalisé par Philippe Petit et paru en 2023. Swann Arlaud\, accompagné par Sarah Adler et Grégoire Oestermann\, y incarne un paysagiste engagé se battant pour la création d’espaces verts sauvages en plein cœur de la métropole. Ce projet représente pour lui la dernière chance d’offrir de l’oxygène aux habitants qui suffoquent dans un enfer urbain\, sous le soleil qui frappe. La séance est suivie d’un débat en français\, avec boissons chaudes et gâteaux. \nIn samenwerking met het Institut Français du Cinéma nodigen we je uit om “Tant que le soleil frappe” te bekijken\, een film geregisseerd door Philippe Petit en uitgebracht in 2023). Swann Arlaud\, begeleid door Sarah Adler en Grégoire Oestermann\, speelt een geëngageerde landschapsarchitect die vecht voor de aanleg van wilde groene ruimten in het hart van de stad. Voor hem is dit project de laatste kans om zuurstof te bieden aan de inwoners\, die stikken in een stedelijke hel onder de brandende zon. De vertoning wordt gevolgd door een debat in het Frans\, met warme dranken en gebak. \nGratis thee\, koffie en gebak. \nGratis voor leden/studenten\, €6 voor niet-leden/studenten. QR-code betaling ter plaatse \nVanaf niveau B1. In het Frans. \nLet op: de plaatsen zijn beperkt en er is een trap om de zaal te bereiken. \nKlik hier om te registreren
URL:https://www.alliance-francaise.nl/utrecht/events/le-film-du-dimanche-4/
LOCATION:AFU\, Pieterskerkhof 5\, Utrecht\, Utrecht\, 3512JR\, Netherlands
CATEGORIES:Cinema
ATTACH;FMTTYPE=image/png:https://www.alliance-francaise.nl/utrecht/wp-content/uploads/sites/6/2024/03/Le-film-du-dimanche-04-2.png
ORGANIZER;CN="AFU":MAILTO:culture.utrecht@afpb.nl
END:VEVENT
BEGIN:VEVENT
DTSTART;TZID=Europe/Amsterdam:20240417T190000
DTEND;TZID=Europe/Amsterdam:20240417T220000
DTSTAMP:20260423T054521
CREATED:20240313T093702Z
LAST-MODIFIED:20240322T161912Z
UID:19381-1713380400-1713391200@www.alliance-francaise.nl
SUMMARY:Cinéforum France - Voorpremière
DESCRIPTION:Rejoignez-nous au Cinéforum France en partenariat avec le Slachtstraat Filmtheater pour la projection du film “L’Abbé Pierre” de Frédéric Tellier en avant-première. Un film sur la vie d’Henri Grouès\, plus connu sous le nom d'”Abbé Pierre”\, un héros populaire français connu pour sa résistance pendant la Seconde Guerre mondiale et sa lutte contre la pauvreté en France. La projection sera précédée d’une introduction et suivie d’un débat conduits par l’Alliance Française d’Utrecht.  \nKom naar Cinéforum France in samenwerking met Slachtstraat Filmtheater voor een voorpremière van Marie Amachoukeli’s film “L’Abbé Pierre”. Een film over het leven van Henri Grouès\, beter bekend als ‘Abbé Pierre\,’ een Franse volksheld bekend voor zijn verzet in de tweede wereldoorlog en zijn strijd tegen armoede in Frankrijk. De vertoning wordt voorafgegaan door een inleiding en gevolgd door een debat onder leiding van de Alliance Française d’Utrecht. \nMet Nederlandse ondertiteling. \nKlik  hier om je in te schrijven.
URL:https://www.alliance-francaise.nl/utrecht/events/cineforum-france-voorpremiere/
LOCATION:Slachtstraat Filmtheater\, Slachtstraat 5\, Utrecht\, 3512 BC\, Netherlands
CATEGORIES:Cinema
ATTACH;FMTTYPE=image/png:https://www.alliance-francaise.nl/utrecht/wp-content/uploads/sites/6/2024/03/Cineforum-LAbbe-Pierre.png
END:VEVENT
BEGIN:VEVENT
DTSTART;TZID=Europe/Amsterdam:20240418T203000
DTEND;TZID=Europe/Amsterdam:20240418T220000
DTSTAMP:20260423T054521
CREATED:20240320T151036Z
LAST-MODIFIED:20240320T151205Z
UID:19499-1713472200-1713477600@www.alliance-francaise.nl
SUMMARY:Conférence Oh - Antoine Watteau
DESCRIPTION:Éveillez votre passion pour l’art avec la prochaine Conférence Oh! qui aura lieu jeudi 18 avril \, fruit d’un partenariat entre les Alliances Françaises du Portugal\, d’Espagne\, de Pologne\, de Belgique et des Pays-Bas. Explorez l’univers envoûtant d’Antoine Watteau\, peintre français de la période rococo connu principalement pour ses représentations des “fêtes galantes”\, des peintures colorées d’un monde de rêve. Cet événement en visioconférence animé par Giulia Franceschini est une fenêtre ouverte sur son héritage artistique. Inscrivez-vous gratuitement à partir du lien ci-dessous. \nPrikkel je passie voor kunst met de volgende Oh! conferentie op donderdag 18 april\, het resultaat van een samenwerking tussen de Alliances Françaises van Portugal\, Spanje\, Polen\, België en Nederland. Ontdek de betoverende wereld van Antoine Watteau\, de Franse schilder uit de rococo-periode die het meest bekend staat om zijn afbeeldingen van ‘fêtes galantes’\, kleurrijke schilderijen van een droomwereld. Deze videoconferentie wordt gegeven door Giulia Franceschini en biedt een blik op zijn artistieke nalatenschap.  \nKlik hier om je in te schrijven. Gratis
URL:https://www.alliance-francaise.nl/utrecht/events/conference-oh-antoine-watteau/
LOCATION:Online
CATEGORIES:Conferenties
ATTACH;FMTTYPE=image/png:https://www.alliance-francaise.nl/utrecht/wp-content/uploads/sites/6/2024/03/4.png
END:VEVENT
BEGIN:VEVENT
DTSTART;TZID=Europe/Amsterdam:20240423T100000
DTEND;TZID=Europe/Amsterdam:20240423T100000
DTSTAMP:20260423T054521
CREATED:20240222T133249Z
LAST-MODIFIED:20240222T133336Z
UID:19353-1713866400-1713866400@www.alliance-francaise.nl
SUMMARY:Café poussette - Nouveau !
DESCRIPTION:Vous êtes parent d’un enfant de moins de trois ans et vous parlez français ?\nVous voulez rencontrer d’autres parents francophones\, partager une activité avec bébé et papoter en français ?\nVous êtes bienvenu.e.s à notre café poussette !\n\nL’Alliance Française Utrecht\, en partenariat avec l’association En Famille\, organise un temps d’échange convivial autour d’un café pour les parents de jeunes enfants francophones.\nNotre professeure Margot vous accueillera et animera 20 minutes de comptines\, histoires et activités pour bébé.\nVous pourrez ensuite prendre un café et échanger avec les autres parents participants. Alors rejoignez-nous !\n\nInformations pratiques :\n\n– Langue d’échange : français\n– Gratuit mais inscription ici.\n 
URL:https://www.alliance-francaise.nl/utrecht/events/cafe-poussette-nouveau/
LOCATION:Pieterskerkhof 5\, Pieterskerkhof 5\, Utrecht\, Netherlands
CATEGORIES:Frans spreken
ATTACH;FMTTYPE=image/png:https://www.alliance-francaise.nl/utrecht/wp-content/uploads/sites/6/2024/02/Atelier-histoires-damour-DATE-CHANGEE-1705.png
ORGANIZER;CN="AFU":MAILTO:culture.utrecht@afpb.nl
END:VEVENT
BEGIN:VEVENT
DTSTART;TZID=Europe/Amsterdam:20240424T183000
DTEND;TZID=Europe/Amsterdam:20240424T213000
DTSTAMP:20260423T054521
CREATED:20240315T143108Z
LAST-MODIFIED:20240412T104654Z
UID:19490-1713983400-1713994200@www.alliance-francaise.nl
SUMMARY:Restaurant c'est ça
DESCRIPTION:Retrouvons-nous pour notre diner annuel avec un menu français spécialement préparé par le chef du Restaurant c’est ça au prix de 40€. Merci de régler le menu sur notre site. Les boissons seront à votre charge le soir de l’évènement. Attention les places sont limitées et les conditions d’annulation sont strictes. Des frais de 20€ seront appliquées si vous ne prévenez pas 48h à l’avance. \nLaten we samenkomen voor ons jaarlijkse diner met een Frans menu speciaal bereid door de chef-kok van Restaurant c’est ça voor €40. Betaal het menu op onze website. Voor drankjes wordt gezorgd op de avond van het evenement. Houd er rekening mee dat de plaatsen beperkt zijn en dat het annuleringsbeleid strikt is. Er wordt een bedrag van €20 in rekening gebracht als je ons niet 48 uur van tevoren op de hoogte stelt. \nKlik hier om je in te schrijven. \n  \nIL RESTE 6 PLACES
URL:https://www.alliance-francaise.nl/utrecht/events/restaurant-cest-ca/
LOCATION:restaurant c’est ca\, Bollenhofsestraat 142\, Utrecht\, 3572 VT\, Netherlands
CATEGORIES:Feestavonden - Soirées festives,Frans spreken
ATTACH;FMTTYPE=image/png:https://www.alliance-francaise.nl/utrecht/wp-content/uploads/sites/6/2024/03/Diner-FR.png
END:VEVENT
BEGIN:VEVENT
DTSTART;TZID=Europe/Amsterdam:20240426T160000
DTEND;TZID=Europe/Amsterdam:20240426T170000
DTSTAMP:20260423T054521
CREATED:20240217T160628Z
LAST-MODIFIED:20240228T085252Z
UID:19221-1714147200-1714150800@www.alliance-francaise.nl
SUMMARY:Café du monde
DESCRIPTION:Prenez votre café avec les étudiants et les membres des Alliances françaises d’ailleurs pour une conversation interculturelle en petits groupes et en ligne. C’est Lionne Koens\, du comité culturel qui vous accompagnera. Inscrivez-vous rapidement : les places sont limitées ! Les hôtes du café-conversation sont des membres de l’équipe d’une Alliance française différente dans le monde chaque mois. \nDrink koffie met de studenten en leden van de Alliances françaises van elders voor een intercultureel gesprek in kleine groepjes en online. Lionne Koens van de Culturele Commissie zal je vergezellen. Schrijf je vroeg in: de plaatsen zijn beperkt! De gastheren van het cafégesprek zijn teamleden van een andere Alliance française over de hele wereld. \nOnline en gratis \nNiveaux B1/B2 en C1/C2 \nKlik hier om je in te schrijven.
URL:https://www.alliance-francaise.nl/utrecht/events/cafe-du-monde-3/
LOCATION:AF Chicago\, United States
CATEGORIES:Frans spreken
ATTACH;FMTTYPE=image/png:https://www.alliance-francaise.nl/utrecht/wp-content/uploads/sites/6/2024/02/Cafe-du-monde-avril.png
END:VEVENT
BEGIN:VEVENT
DTSTART;TZID=Europe/Amsterdam:20240430T190000
DTEND;TZID=Europe/Amsterdam:20240430T200000
DTSTAMP:20260423T054521
CREATED:20240228T193335Z
LAST-MODIFIED:20240327T111551Z
UID:19378-1714503600-1714507200@www.alliance-francaise.nl
SUMMARY:Apéro conversation en français
DESCRIPTION:Notre apéro conversation est de retour ce mois-ci ! Une belle opportunité pour vous de progresser en français en discutant de sujets variés\, autour d’un verre et entourés d’autres francophones sympathiques ! \nOnze apéro conversatie is weer terug deze maand! Het is een geweldige kans om uw Frans te verbeteren door het bespreken van verschillende onderwerpen onder het genot van een drankje\, omringd door andere vriendelijke studenten! \nGratis voor leden/studenten\, 6€ voor niet-leden\, betaling ter plaatse met QR code.  \nDrankjes zijn op eigen kosten. Vanaf niveau A2. \nKlik hier  om je in te schrijven. \n 
URL:https://www.alliance-francaise.nl/utrecht/events/apero-conversation-en-francais-2/
LOCATION:Slachtstraat Filmtheater\, Slachtstraat 5\, Utrecht\, 3512 BC\, Netherlands
CATEGORIES:Frans spreken
ATTACH;FMTTYPE=image/png:https://www.alliance-francaise.nl/utrecht/wp-content/uploads/sites/6/2024/02/Apero-conversation-avril.png
ORGANIZER;CN="AFU":MAILTO:culture.utrecht@afpb.nl
END:VEVENT
END:VCALENDAR