BEGIN:VCALENDAR
VERSION:2.0
PRODID:-//Alliance Francaise Utrecht - ECPv6.15.20//NONSGML v1.0//EN
CALSCALE:GREGORIAN
METHOD:PUBLISH
X-ORIGINAL-URL:https://www.alliance-francaise.nl/utrecht
X-WR-CALDESC:Events for Alliance Francaise Utrecht
REFRESH-INTERVAL;VALUE=DURATION:PT1H
X-Robots-Tag:noindex
X-PUBLISHED-TTL:PT1H
BEGIN:VTIMEZONE
TZID:Europe/Amsterdam
BEGIN:DAYLIGHT
TZOFFSETFROM:+0100
TZOFFSETTO:+0200
TZNAME:CEST
DTSTART:20230326T010000
END:DAYLIGHT
BEGIN:STANDARD
TZOFFSETFROM:+0200
TZOFFSETTO:+0100
TZNAME:CET
DTSTART:20231029T010000
END:STANDARD
BEGIN:DAYLIGHT
TZOFFSETFROM:+0100
TZOFFSETTO:+0200
TZNAME:CEST
DTSTART:20240331T010000
END:DAYLIGHT
BEGIN:STANDARD
TZOFFSETFROM:+0200
TZOFFSETTO:+0100
TZNAME:CET
DTSTART:20241027T010000
END:STANDARD
BEGIN:DAYLIGHT
TZOFFSETFROM:+0100
TZOFFSETTO:+0200
TZNAME:CEST
DTSTART:20250330T010000
END:DAYLIGHT
BEGIN:STANDARD
TZOFFSETFROM:+0200
TZOFFSETTO:+0100
TZNAME:CET
DTSTART:20251026T010000
END:STANDARD
END:VTIMEZONE
BEGIN:VEVENT
DTSTART;TZID=Europe/Amsterdam:20240310T133000
DTEND;TZID=Europe/Amsterdam:20240310T163000
DTSTAMP:20260423T071618
CREATED:20240217T163333Z
LAST-MODIFIED:20240217T163637Z
UID:19233-1710077400-1710088200@www.alliance-francaise.nl
SUMMARY:Le film du dimanche
DESCRIPTION:A l’occasion de la journée internationale des droits des femmes (8 mars) et du mois de la francophonie\, nous vous proposons de visionner six courts-métrages qui célèbrent les femmes autonomes et indépendantes. La séance est suivie d’un débat en français\, avec boissons chaudes et gâteaux.  \nTer gelegenheid van de Internationale Dag van de Rechten van de Vrouw (8 maart) en de Francofoniemaand nodigen we je uit om zes korte films over autonome en onafhankelijke vrouwen te bekijken.De vertoning wordt gevolgd door een discussie in het Frans. \nGratis thee\, koffie en gebak. \nGratis voor leden/studenten\, €6 voor niet-leden/studenten. QR-code betaling ter plaatse \nVanaf niveau B1. In het Frans. \nLet op: de plaatsen zijn beperkt en er is een trap om de zaal te bereiken. \nKlik hier om te registreren
URL:https://www.alliance-francaise.nl/utrecht/events/le-film-du-dimanche-3/
LOCATION:AFU\, Pieterskerkhof 5\, Utrecht\, Utrecht\, 3512JR\, Netherlands
CATEGORIES:Cinema
ATTACH;FMTTYPE=image/png:https://www.alliance-francaise.nl/utrecht/wp-content/uploads/sites/6/2024/02/Journee-internationale-des-droits-des-femmes-08_03.png
ORGANIZER;CN="AFU":MAILTO:culture.utrecht@afpb.nl
END:VEVENT
BEGIN:VEVENT
DTSTART;TZID=Europe/Amsterdam:20240320T190000
DTEND;TZID=Europe/Amsterdam:20240320T220000
DTSTAMP:20260423T071618
CREATED:20240217T161929Z
LAST-MODIFIED:20240315T142116Z
UID:19225-1710961200-1710972000@www.alliance-francaise.nl
SUMMARY:Cinéforum France - Voorpremière
DESCRIPTION:Rejoignez-nous au Cinéforum France en partenariat avec le Slachtstraat Filmtheater pour la projection du film “Ama Gloria” de Marie Amachoukeli en avant-première. Aussi poignant que délicat\, l’histoire d’amour entre une nounou cap-verdienne qui doit retourner dans son pays\, et la petite fille qu’elle a élevée\, \nLa projection sera précédée d’une introduction et suivie d’un débat conduits par l’Alliance Française d’Utrecht.  \nKom naar Cinéforum France in samenwerking met Slachtstraat Filmtheater voor een voorpremière van Marie Amachoukeli’s film “Ama Gloria”. Deze even aangrijpende als delicate film vertelt het liefdesverhaal van een Kaapverdische kinderjuf die moet terugkeren naar haar land\, en het kleine meisje dat ze heeft grootgebracht\, \nDe vertoning wordt voorafgegaan door een inleiding en gevolgd door een debat onder leiding van de Alliance Française d’Utrecht. \nMet Nederlandse ondertiteling. \nKlik  hier om je in te schrijven.
URL:https://www.alliance-francaise.nl/utrecht/events/cineforum-france-4/
LOCATION:Slachtstraat Filmtheater\, Slachtstraat 5\, Utrecht\, 3512 BC\, Netherlands
CATEGORIES:Cinema
ATTACH;FMTTYPE=image/png:https://www.alliance-francaise.nl/utrecht/wp-content/uploads/sites/6/2024/02/Cineforum-France-2003.png
END:VEVENT
BEGIN:VEVENT
DTSTART;TZID=Europe/Amsterdam:20240324T153000
DTEND;TZID=Europe/Amsterdam:20240324T203000
DTSTAMP:20260423T071618
CREATED:20240305T084200Z
LAST-MODIFIED:20240313T105611Z
UID:19407-1711294200-1711312200@www.alliance-francaise.nl
SUMMARY:Après-midi francophone
DESCRIPTION:En ce mois de la francophonie\, nous vous proposons de la fêter avec une après-midi dédiée ! Le thème sera “sans frontières” et cet évènement se déroulera en deux parties. \nde 15h30 à 18h30 :  \nL’équipe France de Francophonie Sans Frontières animera une visioconférence\, qui sera suivie de lectures : extraits de livres et productions écrites de nos étudiants\, puis de la diffusion d’un court métrage avec un moment d’échanges. \nde 18h30 à 20h30 : Seconde partie avec participation de 15€ \nPrenez part à un karaoké francophone avant de partager ensemble un délicieux buffet maghrébin ! \nAttention\, il y a un escalier pour accéder à la salle. \nIn deze maand van de Francofonie vieren we dat met een speciale middag! Het thema zal “sans frontières” (zonder grenzen) zijn en het evenement zal in twee delen plaatsvinden. \nvan 15u30 tot 18u30: Eerste deel\nHet Francophonie Sans Frontières team in Frankrijk zal een videoconferentie organiseren\, gevolgd door lezingen: uittreksels uit boeken en geschreven werken van onze studenten\, vervolgens de vertoning van een korte film en een discussiebijeenkomst. \n van 18u30 tot 20u30: Tweede deel met een bijdrage van €15\nNeem deel aan een Franstalige karaokesessie en geniet daarna van een heerlijk Maghreb buffet! \nHoud er rekening mee dat er een trap is om de kamer te bereiken. \nGratis voor de leesworkshop. 15€ voor het diner \nKlik hier om je in te schrijven.
URL:https://www.alliance-francaise.nl/utrecht/events/apres-midi-francophone/
LOCATION:Pieterskerkhof 5\, Pieterskerkhof 5\, Utrecht\, Netherlands
CATEGORIES:Cultuur,Feest,Feestavonden - Soirées festives
ATTACH;FMTTYPE=image/png:https://www.alliance-francaise.nl/utrecht/wp-content/uploads/sites/6/2024/03/Francophonie-mars.png
END:VEVENT
BEGIN:VEVENT
DTSTART;TZID=Europe/Amsterdam:20240326T103000
DTEND;TZID=Europe/Amsterdam:20240331T190000
DTSTAMP:20260423T071618
CREATED:20240321T105550Z
LAST-MODIFIED:20240321T105550Z
UID:19504-1711449000-1711911600@www.alliance-francaise.nl
SUMMARY:Exposition photo : Oh les beaux jours
DESCRIPTION:Du 26 au 31 mars\, nous vous proposons de soutenir une de nos membres\,  la talentueuse Carole Rey\, photographe française installée aux Pays-Bas et vous rendre à la Galerie Waterbolk d’Utrecht pour découvrir l’exposition “Oh les beaux jours”. À ne pas manquer ! \nVan 26 tot 31 maart bieden we je de kans om een van onze leden\, de getalenteerde Franse fotografe Carole Rey\, die in Nederland woont\, te steunen en een bezoek te brengen aan Galerie Waterbolk in Utrecht om de tentoonstelling “Oh les beaux jours” te bekijken. Niet te missen! \nInformatie: \n26-03: 10.30 t/m 19.00 \n27-03: 11.00 t/m 19.00 \n28-03: 11.00 t/m 21.00 \n29-03: 11.00 t/m 21.00 \n30-03: 10.30 t/m 21.00 \n31-03: 12.00 t/m 17.00 \n\n 
URL:https://www.alliance-francaise.nl/utrecht/events/exposition-photo-oh-les-beaux-jours/
LOCATION:Galerie Waterbolk\, Schoutenstraat 10\, Utrecht\, Netherlands
CATEGORIES:Cultuur
ATTACH;FMTTYPE=image/png:https://www.alliance-francaise.nl/utrecht/wp-content/uploads/sites/6/2024/03/Affiche_Oh-les-beaux-jours-Galerie_Waterbolk.png
END:VEVENT
BEGIN:VEVENT
DTSTART;TZID=Europe/Amsterdam:20240326T190000
DTEND;TZID=Europe/Amsterdam:20240326T200000
DTSTAMP:20260423T071618
CREATED:20240217T160438Z
LAST-MODIFIED:20240217T163402Z
UID:19218-1711479600-1711483200@www.alliance-francaise.nl
SUMMARY:Apéro conversation en français
DESCRIPTION:Notre apéro conversation est de retour ce mois-ci ! Une belle opportunité pour vous de progresser en français en discutant de sujets variés\, autour d’un verre et entourés d’autres francophones sympathiques ! \nOnze apéro conversatie is weer terug deze maand! Het is een geweldige kans om uw Frans te verbeteren door het bespreken van verschillende onderwerpen onder het genot van een drankje\, omringd door andere vriendelijke studenten! \nGratis voor leden/studenten\, 6€ voor niet-leden\, betaling ter plaatse met QR code.  \nDrankjes zijn op eigen kosten. Vanaf niveau A2. \nKlik hier  om je in te schrijven. \n 
URL:https://www.alliance-francaise.nl/utrecht/events/apero-conversation-en-francais-3/
LOCATION:Slachtstraat Filmtheater\, Slachtstraat 5\, Utrecht\, 3512 BC\, Netherlands
CATEGORIES:Frans spreken
ATTACH;FMTTYPE=image/png:https://www.alliance-francaise.nl/utrecht/wp-content/uploads/sites/6/2024/02/Apero-conversation-mars.png
ORGANIZER;CN="AFU":MAILTO:culture.utrecht@afpb.nl
END:VEVENT
END:VCALENDAR