BEGIN:VCALENDAR
VERSION:2.0
PRODID:-//Alliance Francaise Utrecht - ECPv6.15.20//NONSGML v1.0//EN
CALSCALE:GREGORIAN
METHOD:PUBLISH
X-ORIGINAL-URL:https://www.alliance-francaise.nl/utrecht
X-WR-CALDESC:Events for Alliance Francaise Utrecht
REFRESH-INTERVAL;VALUE=DURATION:PT1H
X-Robots-Tag:noindex
X-PUBLISHED-TTL:PT1H
BEGIN:VTIMEZONE
TZID:Europe/Amsterdam
BEGIN:DAYLIGHT
TZOFFSETFROM:+0100
TZOFFSETTO:+0200
TZNAME:CEST
DTSTART:20230326T010000
END:DAYLIGHT
BEGIN:STANDARD
TZOFFSETFROM:+0200
TZOFFSETTO:+0100
TZNAME:CET
DTSTART:20231029T010000
END:STANDARD
BEGIN:DAYLIGHT
TZOFFSETFROM:+0100
TZOFFSETTO:+0200
TZNAME:CEST
DTSTART:20240331T010000
END:DAYLIGHT
BEGIN:STANDARD
TZOFFSETFROM:+0200
TZOFFSETTO:+0100
TZNAME:CET
DTSTART:20241027T010000
END:STANDARD
BEGIN:DAYLIGHT
TZOFFSETFROM:+0100
TZOFFSETTO:+0200
TZNAME:CEST
DTSTART:20250330T010000
END:DAYLIGHT
BEGIN:STANDARD
TZOFFSETFROM:+0200
TZOFFSETTO:+0100
TZNAME:CET
DTSTART:20251026T010000
END:STANDARD
END:VTIMEZONE
BEGIN:VEVENT
DTSTART;TZID=Europe/Amsterdam:20240207T154500
DTEND;TZID=Europe/Amsterdam:20240207T170000
DTSTAMP:20260423T091129
CREATED:20231215T145324Z
LAST-MODIFIED:20240129T141620Z
UID:18558-1707320700-1707325200@www.alliance-francaise.nl
SUMMARY:Yin yoga in het Frans
DESCRIPTION:Devant le succès de nos séances de yin yoga en français\, nous vous proposons de continuer en janvier\, soit en vous inscrivant à l’unité\, soit en choisissant la formule 5 séances. C’est Anna Kureina\, professeure de yoga et française qui nous enseigne cette forme de yoga accessible à tous. \nGezien het succes van onze Franstalige yinyoga sessies stellen we voor deze voort te zetten  in januari\, hetzij door u  in te schrijven voor een enkele sessie of door te kiezen voor een pakket van 5 sessies. Anna\, een Franse yogadocente\, zal ons deze zeer toegankelijke vorm van yoga leren. \n15€ voor 1 sessie. \nKlik hier om je in te schrijven.
URL:https://www.alliance-francaise.nl/utrecht/events/yin-yoga-in-het-frans-3/
LOCATION:YogaPoint\, Oudegracht 44\, Utrecht\, Netherlands
CATEGORIES:Workshops
ATTACH;FMTTYPE=image/png:https://www.alliance-francaise.nl/utrecht/wp-content/uploads/sites/6/2023/12/yin-yoga-dec-NL-4.png
ORGANIZER;CN="Anna Kureina":MAILTO:annakurenai.yoga@gmail.com
END:VEVENT
BEGIN:VEVENT
DTSTART;TZID=Europe/Amsterdam:20240211T133000
DTEND;TZID=Europe/Amsterdam:20240211T163000
DTSTAMP:20260423T091129
CREATED:20240118T093302Z
LAST-MODIFIED:20240118T093302Z
UID:18856-1707658200-1707669000@www.alliance-francaise.nl
SUMMARY:Le film du dimanche
DESCRIPTION:En partenariat avec l’Institut Français du cinéma\, nous vous proposons de visionner “La croisade”\, un film de Louis Garrel paru en 2021\, avec Lionel Dray et Laetitia Casta à l’affiche. Dans ce film\, deux parents découvrent avec stupeur que leur fils de 13 ans\, Joseph\, vend secrètement leurs biens les plus précieux. Ils comprennent rapidement que Joseph est en fait associé à des centaines d’enfants à travers le monde  pour financer un mystérieux projet et ayant pour mission de sauver la planète. La séance est suivie d’un débat en français\, avec boissons chaudes et gâteaux. \nIn samenwerking met het Institut Français du Cinéma nodigen we je uit om “La croisade” te bekijken\, een film van Louis Garrel uit 2021 met Lionel Dray en Laetitia Casta in de hoofdrollen. In deze film zijn twee ouders geschokt als ze ontdekken dat hun 13-jarige zoon Joseph in het geheim hun meest waardevolle bezittingen verkoopt. Ze realiseren zich al snel dat Joseph in feite samenwerkt met honderden kinderen over de hele wereld om een mysterieus project te financieren om de planeet te redden. De vertoning wordt gevolgd door een discussie in het Frans\, met warme dranken en gebak. \nGratis thee\, koffie en gebak. \nGratis voor leden/studenten\, €6 voor niet-leden/studenten. QR-code betaling ter plaatse \nVanaf niveau B1. In het Frans. \nLet op: de plaatsen zijn beperkt en er is een trap om de zaal te bereiken. \nKlik hier om te registreren
URL:https://www.alliance-francaise.nl/utrecht/events/le-film-du-dimanche-2/
LOCATION:AFU\, Pieterskerkhof 5\, Utrecht\, Utrecht\, 3512JR\, Netherlands
CATEGORIES:Cinema
ATTACH;FMTTYPE=image/png:https://www.alliance-francaise.nl/utrecht/wp-content/uploads/sites/6/2024/01/Le-film-du-dimanche-1102-1.png
ORGANIZER;CN="AFU":MAILTO:culture.utrecht@afpb.nl
END:VEVENT
BEGIN:VEVENT
DTSTART;TZID=Europe/Amsterdam:20240211T160000
DTEND;TZID=Europe/Amsterdam:20240211T180000
DTSTAMP:20260423T091129
CREATED:20240208T120200Z
LAST-MODIFIED:20240208T120259Z
UID:19195-1707667200-1707674400@www.alliance-francaise.nl
SUMMARY:Voorpremière - Io Capitano - Slachtstraatfilmtheater
DESCRIPTION:En avant-première avec @slachtstraatfilmtheater\, découvrez un voyage cinématographique vécu à travers les yeux de deux adolescents prêts à tout pour une vie meilleure dans “Io Capitano”\, une réalisation poignante de Matteo Garrone\, réalisateur de renom des films acclamés “Gomorrah” et “Dogman”. Inspiré par des mythes et des histoires vraies\, Garrone nous émeut profondément en dépeignant une odyssée des temps modernes qui commence au Sénégal et s’étend à travers le désert aride et la mer tumultueuse pour atteindre l’Europe. \nAprès la projection\, nous invitons le public à une séance de questions-réponses passionnante avec l’un des personnages principaux du film. Cette discussion sera animée par notre professeure de français Gabrielle. \n  \nGeïnspireerd op mythen en waargebeurde verhalen neemt regisseur Matteo Garrone (Gomorra\, Dogman) de kijker in Io Capitano mee op een diep ontroerende tocht van twee tienerjongens\, die hun familie in Senegal verlaten om hun ​​droom van een beter leven in Europa na te jagen. Hun hedendaagse Odyssee voert hen door de verstikkende woestijn en over de onstuimige zee. Ze beginnen hun reis als mens\, maar transformeren al snel tot handelswaar voor de mensensmokkelaars waarbij hun dromen\, hoop en ambities ruimte moeten maken voor een strijd om te overleven. \nNa de film zal er een Q&A zijn met één van de hoofdpersonen in het Frans en Engels. Deze discussie wordt geleid door onze docente Frans Gabrielle. \nMet Nederlandse ondertiteling. \n  \nKlik  hier om je in te schrijven.
URL:https://www.alliance-francaise.nl/utrecht/events/voorpremiere-io-capitano-slachtstraatfilmtheater/
LOCATION:Slachtstraat Filmtheater\, Slachtstraat 5\, Utrecht\, 3512 BC\, Netherlands
CATEGORIES:Cinema
ATTACH;FMTTYPE=image/png:https://www.alliance-francaise.nl/utrecht/wp-content/uploads/sites/6/2024/02/Avant-premier-Fev-NL.png
END:VEVENT
BEGIN:VEVENT
DTSTART;TZID=Europe/Amsterdam:20240213T110000
DTEND;TZID=Europe/Amsterdam:20240213T120000
DTSTAMP:20260423T091129
CREATED:20240118T093733Z
LAST-MODIFIED:20240118T093733Z
UID:18858-1707822000-1707825600@www.alliance-francaise.nl
SUMMARY:Café conversation en français
DESCRIPTION:Rejoignez-nous pour un café du matin en français animé par Cora ! Un moment convivial en prévision mais également l’occasion parfaite de pratiquer votre français en tant qu’apprenants et de rencontrer des francophones installés à Utrecht. \nKom naar een Frans ochtendcafé onder leiding van Cora! Het is de perfecte gelegenheid om als cursist uw Frans te oefenen en andere Franstaligen te ontmoeten die in Utrecht wonen. \n  \nGratis voor onze leden/studenten\, alleen drankjes zijn voor eigen rekening\, en €6 voor niet-leden*\, betaling ter plekke. \nVanaf niveau A2. \nKlik hier  om je in te schrijven. \n 
URL:https://www.alliance-francaise.nl/utrecht/events/cafe-conversation-en-francais/
LOCATION:Cafe Le Postillon\, Lijnmarkt 50\, Utrecht\, Netherlands
CATEGORIES:Frans spreken
ATTACH;FMTTYPE=image/png:https://www.alliance-francaise.nl/utrecht/wp-content/uploads/sites/6/2024/01/Cafe-conversation-1302-1.png
ORGANIZER;CN="AFU":MAILTO:culture.utrecht@afpb.nl
END:VEVENT
BEGIN:VEVENT
DTSTART;TZID=Europe/Amsterdam:20240215T203000
DTEND;TZID=Europe/Amsterdam:20240215T213000
DTSTAMP:20260423T091129
CREATED:20240118T095639Z
LAST-MODIFIED:20240118T095652Z
UID:18870-1708029000-1708032600@www.alliance-francaise.nl
SUMMARY:Conférence Oh! Ary Scheffer
DESCRIPTION:Éveillez votre passion pour l’art avec la prochaine Conférence Oh! qui aura lieu jeudi 15 février à 20h30\, le fruit d’un partenariat entre les Alliances Françaises du Portugal\, d’Espagne\, de Pologne\, de Belgique et des Pays-Bas. Explorez l’univers envoûtant d’Ary Scheffer\, un maître néerlandais du XIXe siècle qui a conquis la scène artistique parisienne. Plongez dans l’effervescence des salons littéraires de l’époque\, où Scheffer brillait en tant que “le plus français des peintres néerlandais”. Cet événement en visioconférence animé par Giulia Franceschini est une fenêtre ouverte sur son héritage artistique. Inscrivez-vous gratuitement à partir du lien ci-dessous. \n  \nPrikkel uw passie voor kunst met de volgende Oh! Conferentie op donderdag 15 februari om 20.30 uur\, het resultaat van een samenwerking tussen de Alliances Françaises van Portugal\, Spanje\, Polen\, België en Nederland. Ontdek de betoverende wereld van Ary Scheffer\, een 19e-eeuwse Nederlandse meester die de Parijse kunstscène veroverde. Dompel uzelf onder in de levendigheid van de literaire salons van die tijd\, toen Scheffer schitterde als “de meest Franse van de Nederlandse schilders”. Deze videoconferentie is een venster op zijn artistieke nalatenschap. Registreer u gratis via onderstaande link. \nGratis. Online \nKlik hier om je in te schrijven.
URL:https://www.alliance-francaise.nl/utrecht/events/conference-oh-ary-scheffer/
LOCATION:Online
CATEGORIES:Conferenties,Cultuur
ATTACH;FMTTYPE=image/png:https://www.alliance-francaise.nl/utrecht/wp-content/uploads/sites/6/2024/01/Agenda-culturel-2023-2024-1.png
END:VEVENT
BEGIN:VEVENT
DTSTART;TZID=Europe/Amsterdam:20240218T200000
DTEND;TZID=Europe/Amsterdam:20240218T213000
DTSTAMP:20260423T091129
CREATED:20240130T153827Z
LAST-MODIFIED:20240130T153920Z
UID:19131-1708286400-1708291800@www.alliance-francaise.nl
SUMMARY:Journée de la musique baroque française : Ensemble Correspondances
DESCRIPTION:Nous avons le plaisir de vous présenter notre nouveau partenaire : Tivoli Vredenburg ! À l’occasion de la Journée du baroque français le 18 février\, profitez d’un code de réduction de 20% à l’achat d’un billet pour le concert de “Ensemble Correspondances”. Vous pouvez insérez le code suivant au moment du paiement sur le site de Tivoli : ALFR1802. \nLe concert commencera à 20h00 et se tiendra dans la ” Grote Zaal ” de Tivoli.  \nA partir de 33€ \nMet veel plezier introduceren wij onze nieuwe partner: Tivoli Vredenburg! Ter gelegenheid van Franse Barokdag op 18 februari kunt u profiteren van een kortingscode van 20% bij aankoop van een kaartje voor het concert “Ensemble Correspondances”. U kunt de volgende code invoeren bij de betaling op de website van Tivoli: ALFR1802. \nHet concert begint om 20.00 uur en wordt gehouden in de Grote Zaal in Tivoli.  \nVanaf €33
URL:https://www.alliance-francaise.nl/utrecht/events/journee-de-la-musique-baroque-francaise-ensemble-correspondances/
LOCATION:Tivolivredenburg\, Vredenburgkade 11\, Utrecht\, Utrecht\, 3511WC\, Netherlands
CATEGORIES:Cultuur
ATTACH;FMTTYPE=image/png:https://www.alliance-francaise.nl/utrecht/wp-content/uploads/sites/6/2024/01/Partenariat-Tivoli-concert-18-fevrier-2.png
END:VEVENT
BEGIN:VEVENT
DTSTART;TZID=Europe/Amsterdam:20240220T203000
DTEND;TZID=Europe/Amsterdam:20240220T230000
DTSTAMP:20260423T091129
CREATED:20240118T095828Z
LAST-MODIFIED:20240118T095828Z
UID:18837-1708461000-1708470000@www.alliance-francaise.nl
SUMMARY:Dam qui rit Comedy Club
DESCRIPTION:Ne manquez pas la prochaine représentation à Utrecht du premier groupe de stand up francophone des Pays-Bas ! \n9€ pour les membres et étudiants de l’AFU\, 10€ pour les non membres de l’AFU \nWil je jonge Franse comedians ontdekken? De Dam qui Rit Comedy Club uit Amsterdam komt op 20 februari 2024 naar Utrecht in samenwerking met de AFU. Wij waren afgelopen november bij hun eerste avond in Utrecht. En we hadden een geweldige tijd. Aarzel niet om te komen en een avond met vrienden door te brengen. Je zygoma zal het onthouden! Meer informatie volgt. \n9€ voor leden/studenten\, €10 voor niet-leden/studenten. \nVanaf niveau B2 \nklik hier om te registeren.
URL:https://www.alliance-francaise.nl/utrecht/events/dam-qui-rit-comedy-club-2/
LOCATION:Comedy Cafe\, Oudegracht 205\, Utrecht\, Netherlands
CATEGORIES:Feestavonden - Soirées festives,Frans spreken
ATTACH;FMTTYPE=image/png:https://www.alliance-francaise.nl/utrecht/wp-content/uploads/sites/6/2024/01/Dam-qui-rit-20_02-e1705481971995.png
END:VEVENT
BEGIN:VEVENT
DTSTART;TZID=Europe/Amsterdam:20240221T190000
DTEND;TZID=Europe/Amsterdam:20240221T220000
DTSTAMP:20260423T091129
CREATED:20240118T100227Z
LAST-MODIFIED:20240118T100227Z
UID:18874-1708542000-1708552800@www.alliance-francaise.nl
SUMMARY:Cinéforum France
DESCRIPTION:Rejoignez-nous au prochain Cinéforum France en partenariat avec le Slachtstraat Filmtheater pour la projection du film “Bâtiment 5” de Ladj Ly. Cette œuvre cinématographique puissante et engagée met en lumière un combat socio-politique mené par une jeune femme dévouée à sa communauté et la préservation de son lieu de vie\, tandis que le maire de sa commune semble être aux antipodes des réalités de cette population. Une histoire poignante à ne pas manquer ! La projection sera précédée d’une introduction et suivie d’un débat conduits par la directrice de l’Alliance Française d’Utrecht\, Sophie Longlade. Nous vous proposons également de prendre un verre ensemble dans une salle reservée pour l’AFU. \nKom naar het volgende Cinéforum France in samenwerking met het Slachtstraat Filmtheater voor een vertoning van Ladj Ly’s film “Bâtiment 5”. Deze krachtige en boeiende film belicht een sociaal-politieke strijd onder leiding van een jonge vrouw die toegewijd is aan haar gemeenschap en het behoud van de plek waar ze woont\, terwijl de burgemeester van haar gemeente geen voeling lijkt te hebben met de realiteit van deze bevolking. Een aangrijpend verhaal dat je niet mag missen! De vertoning wordt voorafgegaan door een inleiding en gevolgd door een discussie onder leiding van Sophie Longlade\, directeur van de Alliance Française d’Utrecht. We nodigen u ook uit voor een drankje in een zaal gereserveerd voor de AFU. \nMet Nederlandse ondertiteling. \nDrankjes zijn op eigen kosten.  \nKlik  hier om je in te schrijven.
URL:https://www.alliance-francaise.nl/utrecht/events/cineforum-france-3/
LOCATION:Slachtstraat Filmtheater\, Slachtstraat 5\, Utrecht\, 3512 BC\, Netherlands
CATEGORIES:Cinema
ATTACH;FMTTYPE=image/png:https://www.alliance-francaise.nl/utrecht/wp-content/uploads/sites/6/2024/01/Cineforum-Batiment-5-1.png
END:VEVENT
BEGIN:VEVENT
DTSTART;TZID=Europe/Amsterdam:20240223T160000
DTEND;TZID=Europe/Amsterdam:20240223T170000
DTSTAMP:20260423T091129
CREATED:20240118T095308Z
LAST-MODIFIED:20240129T140445Z
UID:18905-1708704000-1708707600@www.alliance-francaise.nl
SUMMARY:Café du monde
DESCRIPTION:Prenez votre café avec les étudiants et les membres des Alliances françaises d’ailleurs pour une conversation interculturelle en petits groupes et en ligne. C’est Lionne Koens\, du comité culturel qui vous accompagnera. Inscrivez-vous rapidement : les places sont limitées ! Les hôtes du café-conversation sont des membres de l’équipe d’une Alliance française différente dans le monde chaque mois. \nDrink koffie met de studenten en leden van de Alliances françaises van elders voor een intercultureel gesprek in kleine groepjes en online. Lionne Koens van de Culturele Commissie zal je vergezellen. Schrijf je vroeg in: de plaatsen zijn beperkt! De gastheren van het cafégesprek zijn teamleden van een andere Alliance française over de hele wereld. \nOnline en gratis \nNiveaux B1/B2 en C1/C2 \nKlik hier om je in te schrijven.
URL:https://www.alliance-francaise.nl/utrecht/events/cafe-du-monde-2/
LOCATION:AF Chicago\, United States
CATEGORIES:Frans spreken
ATTACH;FMTTYPE=image/png:https://www.alliance-francaise.nl/utrecht/wp-content/uploads/sites/6/2024/01/Cafe-du-monde-Fev.png
END:VEVENT
BEGIN:VEVENT
DTSTART;TZID=Europe/Amsterdam:20240228T190000
DTEND;TZID=Europe/Amsterdam:20240228T213000
DTSTAMP:20260423T091129
CREATED:20240118T101621Z
LAST-MODIFIED:20240223T085604Z
UID:18878-1709146800-1709155800@www.alliance-francaise.nl
SUMMARY:Soirée Broese autour de  Colette
DESCRIPTION:Venez prendre part à une soirée tout à fait exceptionnelle\, soigneusement orchestrée par l’Alliance française d’Utrecht et la librairie Broese\, en célébration des 150 ans de la naissance de Colette\, une femme de lettres française dont l’empreinte littéraire est tout simplement extraordinaire!  Plongez dans l’univers fascinant de cette icône de la littérature lors d’une soirée dédiée à l’exploration de son œuvre. Un événement mêlant discussion autour de l’univers de l’auteure et lecture de traductions de ses travaux. Des boissons chaudes seront à votre disposition. La conférence sera en néerlandais. \nKom en beleef een uitzonderlijke avond\, zorgvuldig georkestreerd door de Alliance française d’Utrecht en boekhandel Broese\, ter ere van de 150e geboortedag van Colette\, een Franse letterkundige wiens literaire stempel gewoonweg buitengewoon is!  Dompel uzelf onder in de fascinerende wereld van dit literaire icoon tijdens een avond gewijd aan het verkennen van haar werk. Een evenement dat discussie over de wereld van de auteur combineert met het lezen van vertalingen van haar werk. Warme dranken zijn verkrijgbaar. De conferentie is in het Nederlands. \n  \n€7\,50  \nVanaf niveau B1 \nInformatie : hier \nTe registreren schrijven naar klantenservice@broese.nl
URL:https://www.alliance-francaise.nl/utrecht/events/soiree-broese-autour-de-colette/
LOCATION:Librairie Broese\, Oudegracht 112B\, Utrecht\, Netherlands
CATEGORIES:Literatuur,Workshops
ATTACH;FMTTYPE=image/png:https://www.alliance-francaise.nl/utrecht/wp-content/uploads/sites/6/2024/01/Soiree-Colette-Broese-2802-1.png
END:VEVENT
END:VCALENDAR