BEGIN:VCALENDAR
VERSION:2.0
PRODID:-//Alliance Francaise Utrecht - ECPv6.15.20//NONSGML v1.0//EN
CALSCALE:GREGORIAN
METHOD:PUBLISH
X-ORIGINAL-URL:https://www.alliance-francaise.nl/utrecht
X-WR-CALDESC:Events for Alliance Francaise Utrecht
REFRESH-INTERVAL;VALUE=DURATION:PT1H
X-Robots-Tag:noindex
X-PUBLISHED-TTL:PT1H
BEGIN:VTIMEZONE
TZID:Europe/Amsterdam
BEGIN:DAYLIGHT
TZOFFSETFROM:+0100
TZOFFSETTO:+0200
TZNAME:CEST
DTSTART:20250330T010000
END:DAYLIGHT
BEGIN:STANDARD
TZOFFSETFROM:+0200
TZOFFSETTO:+0100
TZNAME:CET
DTSTART:20251026T010000
END:STANDARD
BEGIN:DAYLIGHT
TZOFFSETFROM:+0100
TZOFFSETTO:+0200
TZNAME:CEST
DTSTART:20260329T010000
END:DAYLIGHT
BEGIN:STANDARD
TZOFFSETFROM:+0200
TZOFFSETTO:+0100
TZNAME:CET
DTSTART:20261025T010000
END:STANDARD
BEGIN:DAYLIGHT
TZOFFSETFROM:+0100
TZOFFSETTO:+0200
TZNAME:CEST
DTSTART:20270328T010000
END:DAYLIGHT
BEGIN:STANDARD
TZOFFSETFROM:+0200
TZOFFSETTO:+0100
TZNAME:CET
DTSTART:20271031T010000
END:STANDARD
END:VTIMEZONE
BEGIN:VEVENT
DTSTART;TZID=Europe/Amsterdam:20260327T190000
DTEND;TZID=Europe/Amsterdam:20260327T220000
DTSTAMP:20260421T210741
CREATED:20260302T085736Z
LAST-MODIFIED:20260305T122610Z
UID:25809-1774638000-1774648800@www.alliance-francaise.nl
SUMMARY:Soirée Francophonie
DESCRIPTION:Le 27 mars\, nous célébrons la francophonie à l’occasion d’une soirée spéciale placée sous le signe du partage et de la découverte. \nÀ 19h\, nous aurons l’honneur d’accueillir Ieme van der Poel\, professeure émérite de l’Université d’Amsterdam\, qui nous parlera de la littérature francophone de la diaspora marocaine et proposera un parallèle avec la littérature néerlandophone marocaine. \nLa soirée se poursuivra autour d’une dégustation de boissons et de pâtisseries marocaines\, un moment convivial pour prolonger les échanges. \nEnfin\, à partir de 20h30\, la scène sera ouverte aux musiciens désireux de partager leur talent avec le public. N’hésitez pas à venir avec vos instruments et votre belle voix pour faire vibrer la soirée ! \nPrix pour les membres : 12 euros. \nPrix pour les non membres : 15 euros.  \nLieu : In de 3 Krone\, Oudegracht 227\, 3511 NJ Utrecht \nOp 27 maart vieren wij de francofonie met een bijzondere avond in het teken van ontmoeting en ontdekking. \nOm 19.00 uur verwelkomen wij met veel plezier Ieme van der Poel\, emeritus hoogleraar aan de Universiteit van Amsterdam. Zij zal spreken over de Franstalige literatuur van de Marokkaanse diaspora en een interessante vergelijking maken met de Nederlandstalige Marokkaanse literatuur. \nNa de lezing kunt u genieten van Marokkaanse thee en zoetigheden — een gezellig moment om samen na te praten en ideeën uit te wisselen. \nVanaf 20.30 uur is het podium vrij voor muzikanten die hun talent met het publiek willen delen. Neem gerust uw instrument mee of laat uw stem horen en draag bij aan een sfeervolle avond! \nPrijs voor leden: 12 euro. \nPrijs voor niet leden: 15 euro.  \nAdres: In de 3 Krone\, Oudegracht 227\, 3511 NJ Utrecht
URL:https://www.alliance-francaise.nl/utrecht/events/soiree-francophonie/
LOCATION:In de 3 Krone\, Oudegracht 227\, 3511 NJ Utrecht
ATTACH;FMTTYPE=image/png:https://www.alliance-francaise.nl/utrecht/wp-content/uploads/sites/6/2026/03/Francophonie-2026-carree-1.png
END:VEVENT
BEGIN:VEVENT
DTSTART;TZID=Europe/Amsterdam:20260407T153000
DTEND;TZID=Europe/Amsterdam:20260407T163000
DTSTAMP:20260421T210741
CREATED:20260225T142406Z
LAST-MODIFIED:20260324T154613Z
UID:25790-1775575800-1775579400@www.alliance-francaise.nl
SUMMARY:Conte plurilingue - 07.04 français + nederlands
DESCRIPTION:Het “meertalige verhaal” nodigt kinderen uit om vertrouwd te raken met talen en hun nieuwe klanken. Ze zullen hun nieuwsgierigheid ontwikkelen. Alle verhalen zijn in het Frans en Nederlands. De kinderen spelen meertalige spelletjes. In elke workshop komen drie van de volgende talen aan bod: Arabisch\, Nederlands\, Engels\, Frans en Spaans. \nLe “conte plurilingue” invite les enfants à se familiariser avec les langues et leurs nouvelles sonorités. Ils développeront leur curiosité. Toutes les histoires sont en français et en néerlandais.\nLes enfants jouent à des jeux multilingues. Chaque atelier couvre trois des langues suivantes : anglais\, arabe\, espagnol\, français et néerlandais. \n\nThe “multilingual tale” invites children to familiarise themselves with languages and their new sounds. They will develop their curiosity. All the stories will be in French and other languages. The children will play multilingual games. Each workshop will feature three of the following languages: Arabic\, Dutch\, English\, French and Spanish. \n\n  \nGratis / Gratuit / Free\nInscription : https://forms.gle/9xCFHWtnGe8uLhMz9  \nEmail : direction.utrecht@afpb.nl \n\n\n– mardi 10 mars : français et néerlandais avec Griet\n– mardi 24 mars : français et néerlandais avec Griet\n– mardi 7 avril : français et néerlandais avec Griet\n\n\nLieu / Plaats / Location : Pieterskerkhof 5\, 3512 JR Utrecht
URL:https://www.alliance-francaise.nl/utrecht/events/conte-plurilingue-07-04-francais-nederlands/
LOCATION:AFU\, Pieterskerkhof 5\, Utrecht\, Utrecht\, 3512JR\, Netherlands
CATEGORIES:Frans spreken
ATTACH;FMTTYPE=image/jpeg:https://www.alliance-francaise.nl/utrecht/wp-content/uploads/sites/6/2024/07/Mascotte-clementinelatron-1.jpg
ORGANIZER;CN="AFU":MAILTO:culture.utrecht@afpb.nl
END:VEVENT
BEGIN:VEVENT
DTSTART;TZID=Europe/Amsterdam:20260408T190000
DTEND;TZID=Europe/Amsterdam:20260408T210000
DTSTAMP:20260421T210741
CREATED:20260317T094959Z
LAST-MODIFIED:20260317T094959Z
UID:25870-1775674800-1775682000@www.alliance-francaise.nl
SUMMARY:Cinéforum France : L'Engloutie
DESCRIPTION:L’Engloutie\, premier long métrage saisissant de la réalisatrice Louise Hémon \, nous transporte au cœur d’un village de montagne enneigé en 1899\, un monde mystique où foi et tradition se heurtent à la force brute. Galatéa Bellugi incarne avec brio l’idéaliste Aimée\, entourée de Matthieu Lucci \, Samuel Kircher \, Oscar Pons et Sharif Andoura\, qui apportent chacun une profondeur et une intensité remarquables à cet ensemble tout en nuances. Le titre désigne l’immersion totale et l’effacement de l’institutrice Aimée\, métaphoriquement “engloutie” par l’isolement extrême\, les superstitions et le désir charnel au sein d’un hameau de montagne en 1899. Un chef-d’œuvre visuel et émotionnel qui confirme le talent de Louise Hémon\, l’une des voix les plus passionnantes du cinéma contemporain. \nL’Engloutie is het adembenemende filmdebuut van regisseur Louise Hémon en neemt je mee naar het hart van een besneeuwd bergdorp in 1899\, een mystieke wereld waar geloof en traditie met brute kracht botsen. In de hoofdrollen schitteren Galatéa Bellugi als de idealistische Aimée\, samen met sterke vertolkingen van Matthieu Lucci\, Samuel Kircher\, Oscar Pons en Sharif Andoura\, die elk diepgang geven aan een ensemble vol nuance en intensiteit. De titel verwijst naar de totale onderdompeling en het geleidelijke verdwijnen van onderwijzeres Aimée\, die als het ware wordt “opgeslokt” (engloutie) door extreme afzondering\, bijgeloof en lichamelijk verlangen in een afgelegen berggehucht in 1899. Een visueel en emotioneel meesterwerk dat de visie van Louise Hémon bevestigt als één van de meest opwindende stemmen in de moderne cinema. \nhttps://slachtstraat.nl/films/lengloutie/
URL:https://www.alliance-francaise.nl/utrecht/events/cineforum-france-lengloutie/
LOCATION:Café Slachtstraat\, Slachtstraat 5\, Utrecht
CATEGORIES:Cinema
ATTACH;FMTTYPE=image/jpeg:https://www.alliance-francaise.nl/utrecht/wp-content/uploads/sites/6/2026/03/Carre-2026.jpg
ORGANIZER;CN="AFU":MAILTO:culture.utrecht@afpb.nl
END:VEVENT
BEGIN:VEVENT
DTSTART;TZID=Europe/Amsterdam:20260414T113000
DTEND;TZID=Europe/Amsterdam:20260414T123000
DTSTAMP:20260421T210741
CREATED:20250514T134845Z
LAST-MODIFIED:20250514T134845Z
UID:23354-1776166200-1776169800@www.alliance-francaise.nl
SUMMARY:Café conversation
DESCRIPTION:Rejoignez-nous pour un café du matin en français animé par Cora ! Un moment convivial en prévision mais également l’occasion parfaite de pratiquer votre français en tant qu’apprenants et de rencontrer des francophones installés à Utrecht. \nKom naar een Frans ochtendcafé onder leiding van Cora! Het is de perfecte gelegenheid om als cursist uw Frans te oefenen en andere Franstaligen te ontmoeten die in Utrecht wonen. \nGratis voor onze leden/studenten\, alleen drankjes zijn voor eigen rekening\, en €6 voor niet-leden*\, betaling ter plekke. \nVanaf niveau A2. \n11:30 – 12:30 \nKlik hier om je in te schrijven. Inscription ici \n  \n 
URL:https://www.alliance-francaise.nl/utrecht/events/cafe-conversation-6/
LOCATION:Slachtstraat Filmtheater\, Slachtstraat 5\, Utrecht\, 3512 BC\, Netherlands
CATEGORIES:Frans spreken
ATTACH;FMTTYPE=image/jpeg:https://www.alliance-francaise.nl/utrecht/wp-content/uploads/sites/6/2025/05/visuel-cafe-25-26-sans-date.jpg
END:VEVENT
BEGIN:VEVENT
DTSTART;TZID=Europe/Amsterdam:20260419T133000
DTEND;TZID=Europe/Amsterdam:20260419T153000
DTSTAMP:20260421T210741
CREATED:20250602T135005Z
LAST-MODIFIED:20250602T135005Z
UID:23863-1776605400-1776612600@www.alliance-francaise.nl
SUMMARY:Comme un fils - Film du dimanche
DESCRIPTION:Film de Nicolas Boukhrief – 1h45 \nJacques Romand est un professeur qui a perdu sa vocation. Témoin d’une agression dans une épicerie de quartier\, il permet l’arrestation de l’un des voleurs : Victor\, 14 ans. Mais en découvrant le sort de ce gamin déscolarisé que l’on force à voler pour survivre\, Jacques va tout mettre en œuvre pour venir en aide à ce jeune parti sur de si mauvais rails. (synopsis d’Allociné) \nGratuit pour les membres et les élèves de l’AFU\n6 euros pour le public extérieur\nFilm en français et en anglais avec des sous-titres en français\nAttention : la salle est au premier étage\, pas d’ascenseur. \nInscriptions ici\nRegistratie er \nJacques Romand is een leraar die zijn roeping kwijt is. Als hij getuige is van een overval in een plaatselijke kruidenierszaak\, helpt hij een van de dieven te arresteren: de 14-jarige Victor. Maar wanneer hij de benarde situatie van deze schoolverlater ontdekt\, die gedwongen wordt om te stelen om te overleven\, doet Jacques er alles aan om de jongere\, die op het verkeerde pad terecht is gekomen\, te helpen. \nGratis voor AFU-leden en cursisten\n6 euro voor alle anderen.\nFilm in het Frans met Franse ondertiteling.\nLet op: de plaatsen zijn beperkt en er is een trap om de zaal te bereiken.
URL:https://www.alliance-francaise.nl/utrecht/events/comme-un-fils-film-du-dimanche/
LOCATION:Utrecht
CATEGORIES:Cinema,Cultuur,Frans spreken
ATTACH;FMTTYPE=image/png:https://www.alliance-francaise.nl/utrecht/wp-content/uploads/sites/6/2025/06/Film-dimanche-19.04.26.png
END:VEVENT
BEGIN:VEVENT
DTSTART;TZID=Europe/Amsterdam:20260423T183000
DTEND;TZID=Europe/Amsterdam:20260423T193000
DTSTAMP:20260421T210741
CREATED:20250514T132840Z
LAST-MODIFIED:20250514T132840Z
UID:23335-1776969000-1776972600@www.alliance-francaise.nl
SUMMARY:Apéro conversation
DESCRIPTION:Retrouvez-nous pour un nouvel apéro conversation ! De 18h30 à 19h30. \nKom bij ons voor een ander aperitiefgesprek! Van 18.30 tot 19.30. \nCliquez pour vous inscrire/Klik hier om je in te schrijven : Ici! \nA partir du niveau A2.\nGratuit pour les membres et les élèves de nos cours de français.\n6 euros pour les autres à payer sur place par transfert avec QRcode.\nBoissons à votre charge. \nVanaf niveau A2.\nGratis voor onze leden/studenten.\n6€ voor niet-leden\, betaling ter plaatse met QR code.\nDrankjes zijn op eigen kosten.  \n 
URL:https://www.alliance-francaise.nl/utrecht/events/apero-conversation-7/
LOCATION:Slachtstraat Filmtheater\, Slachtstraat 5\, Utrecht\, 3512 BC\, Netherlands
CATEGORIES:Feest,Frans spreken
ATTACH;FMTTYPE=image/jpeg:https://www.alliance-francaise.nl/utrecht/wp-content/uploads/sites/6/2025/05/visuel-apero-25-26-sans-date.jpg
END:VEVENT
BEGIN:VEVENT
DTSTART;TZID=Europe/Amsterdam:20260512T113000
DTEND;TZID=Europe/Amsterdam:20260512T123000
DTSTAMP:20260421T210741
CREATED:20250514T134916Z
LAST-MODIFIED:20250514T134916Z
UID:23356-1778585400-1778589000@www.alliance-francaise.nl
SUMMARY:Café conversation
DESCRIPTION:Rejoignez-nous pour un café du matin en français animé par Cora ! Un moment convivial en prévision mais également l’occasion parfaite de pratiquer votre français en tant qu’apprenants et de rencontrer des francophones installés à Utrecht. \nKom naar een Frans ochtendcafé onder leiding van Cora! Het is de perfecte gelegenheid om als cursist uw Frans te oefenen en andere Franstaligen te ontmoeten die in Utrecht wonen. \nGratis voor onze leden/studenten\, alleen drankjes zijn voor eigen rekening\, en €6 voor niet-leden*\, betaling ter plekke. \nVanaf niveau A2. \n11:30 – 12:30 \nKlik hier om je in te schrijven. Inscription ici \n  \n 
URL:https://www.alliance-francaise.nl/utrecht/events/cafe-conversation-7/
LOCATION:Slachtstraat Filmtheater\, Slachtstraat 5\, Utrecht\, 3512 BC\, Netherlands
CATEGORIES:Frans spreken
ATTACH;FMTTYPE=image/jpeg:https://www.alliance-francaise.nl/utrecht/wp-content/uploads/sites/6/2025/05/visuel-cafe-25-26-sans-date.jpg
END:VEVENT
BEGIN:VEVENT
DTSTART;TZID=Europe/Amsterdam:20260512T153000
DTEND;TZID=Europe/Amsterdam:20260512T163000
DTSTAMP:20260421T210741
CREATED:20260407T085228Z
LAST-MODIFIED:20260407T085228Z
UID:25907-1778599800-1778603400@www.alliance-francaise.nl
SUMMARY:Conte plurilingue - 12.05 français + nederlands -
DESCRIPTION:Het “meertalige verhaal” nodigt kinderen uit om vertrouwd te raken met talen en hun nieuwe klanken. Ze zullen hun nieuwsgierigheid ontwikkelen. Alle verhalen zijn in het Frans en Nederlands. De kinderen spelen meertalige spelletjes. In elke workshop komen drie van de volgende talen aan bod: Arabisch\, Nederlands\, Engels\, Frans en Spaans. \nLe “conte plurilingue” invite les enfants à se familiariser avec les langues et leurs nouvelles sonorités. Ils développeront leur curiosité. Toutes les histoires sont en français et en néerlandais.\nLes enfants jouent à des jeux multilingues. Chaque atelier couvre trois des langues suivantes : anglais\, arabe\, espagnol\, français et néerlandais. \n\nThe “multilingual tale” invites children to familiarise themselves with languages and their new sounds. They will develop their curiosity. All the stories will be in French and other languages. The children will play multilingual games. Each workshop will feature three of the following languages: Arabic\, Dutch\, English\, French and Spanish. \n\nGratis / Gratuit / Free\nInscription : https://forms.gle/9xCFHWtnGe8uLhMz9  \nEmail : direction.utrecht@afpb.nl \n\n\n– mardi 12 mai : français et néerlandais avec Holly\n– mardi 19 mai : français et néerlandais avec Holly\n– mardi 2 juin : français et néerlandais avec Holly\n\n– mardi 30 juin : français et néerlandais avec Holly\n– mardi 14 juillet : français et néerlandais avec Holly\n\nLieu / Plaats / Location : Pieterskerkhof 5\, 3512 JR Utrecht
URL:https://www.alliance-francaise.nl/utrecht/events/conte-plurilingue-12-05-francais-nederlands/
LOCATION:AFU\, Pieterskerkhof 5\, Utrecht\, Utrecht\, 3512JR\, Netherlands
CATEGORIES:Frans spreken
ATTACH;FMTTYPE=image/jpeg:https://www.alliance-francaise.nl/utrecht/wp-content/uploads/sites/6/2024/07/Mascotte-clementinelatron-1.jpg
ORGANIZER;CN="AFU":MAILTO:culture.utrecht@afpb.nl
END:VEVENT
BEGIN:VEVENT
DTSTART;TZID=Europe/Amsterdam:20260519T153000
DTEND;TZID=Europe/Amsterdam:20260519T163000
DTSTAMP:20260421T210741
CREATED:20260407T111339Z
LAST-MODIFIED:20260407T111339Z
UID:25910-1779204600-1779208200@www.alliance-francaise.nl
SUMMARY:Conte plurilingue - 19.05 français + nederlands
DESCRIPTION:Het “meertalige verhaal” nodigt kinderen uit om vertrouwd te raken met talen en hun nieuwe klanken. Ze zullen hun nieuwsgierigheid ontwikkelen. Alle verhalen zijn in het Frans en Nederlands. De kinderen spelen meertalige spelletjes. In elke workshop komen drie van de volgende talen aan bod: Arabisch\, Nederlands\, Engels\, Frans en Spaans. \nLe “conte plurilingue” invite les enfants à se familiariser avec les langues et leurs nouvelles sonorités. Ils développeront leur curiosité. Toutes les histoires sont en français et en néerlandais.\nLes enfants jouent à des jeux multilingues. Chaque atelier couvre trois des langues suivantes : anglais\, arabe\, espagnol\, français et néerlandais. \n\nThe “multilingual tale” invites children to familiarise themselves with languages and their new sounds. They will develop their curiosity. All the stories will be in French and other languages. The children will play multilingual games. Each workshop will feature three of the following languages: Arabic\, Dutch\, English\, French and Spanish. \n\nGratis / Gratuit / Free\nInscription : https://forms.gle/9xCFHWtnGe8uLhMz9  \nEmail : direction.utrecht@afpb.nl \n\n\n– mardi 19 mai : français et néerlandais avec Holly\n– mardi 2 juin : français et néerlandais avec Holly\n\n– mardi 30 juin : français et néerlandais avec Holly\n– mardi 14 juillet : français et néerlandais avec Holly\n\nLieu / Plaats / Location : Pieterskerkhof 5\, 3512 JR Utrecht
URL:https://www.alliance-francaise.nl/utrecht/events/conte-plurilingue-19-05-francais-nederlands/
LOCATION:AFU\, Pieterskerkhof 5\, Utrecht\, Utrecht\, 3512JR\, Netherlands
CATEGORIES:Frans spreken
ATTACH;FMTTYPE=image/jpeg:https://www.alliance-francaise.nl/utrecht/wp-content/uploads/sites/6/2024/07/Mascotte-clementinelatron-1.jpg
ORGANIZER;CN="AFU":MAILTO:culture.utrecht@afpb.nl
END:VEVENT
BEGIN:VEVENT
DTSTART;TZID=Europe/Amsterdam:20260528T183000
DTEND;TZID=Europe/Amsterdam:20260528T193000
DTSTAMP:20260421T210741
CREATED:20250514T132920Z
LAST-MODIFIED:20250514T132920Z
UID:23337-1779993000-1779996600@www.alliance-francaise.nl
SUMMARY:Apéro conversation
DESCRIPTION:Retrouvez-nous pour un nouvel apéro conversation ! De 18h30 à 19h30. \nKom bij ons voor een ander aperitiefgesprek! Van 18.30 tot 19.30. \nCliquez pour vous inscrire/Klik hier om je in te schrijven : Ici! \nA partir du niveau A2.\nGratuit pour les membres et les élèves de nos cours de français.\n6 euros pour les autres à payer sur place par transfert avec QRcode.\nBoissons à votre charge. \nVanaf niveau A2.\nGratis voor onze leden/studenten.\n6€ voor niet-leden\, betaling ter plaatse met QR code.\nDrankjes zijn op eigen kosten.  \n 
URL:https://www.alliance-francaise.nl/utrecht/events/apero-conversation-8/
LOCATION:Slachtstraat Filmtheater\, Slachtstraat 5\, Utrecht\, 3512 BC\, Netherlands
CATEGORIES:Feest,Frans spreken
ATTACH;FMTTYPE=image/jpeg:https://www.alliance-francaise.nl/utrecht/wp-content/uploads/sites/6/2025/05/visuel-apero-25-26-sans-date.jpg
END:VEVENT
BEGIN:VEVENT
DTSTART;TZID=Europe/Amsterdam:20260602T153000
DTEND;TZID=Europe/Amsterdam:20260602T163000
DTSTAMP:20260421T210741
CREATED:20260407T111448Z
LAST-MODIFIED:20260407T111448Z
UID:25912-1780414200-1780417800@www.alliance-francaise.nl
SUMMARY:Conte plurilingue - 02.06 français + nederlands
DESCRIPTION:Het “meertalige verhaal” nodigt kinderen uit om vertrouwd te raken met talen en hun nieuwe klanken. Ze zullen hun nieuwsgierigheid ontwikkelen. Alle verhalen zijn in het Frans en Nederlands. De kinderen spelen meertalige spelletjes. In elke workshop komen drie van de volgende talen aan bod: Arabisch\, Nederlands\, Engels\, Frans en Spaans. \nLe “conte plurilingue” invite les enfants à se familiariser avec les langues et leurs nouvelles sonorités. Ils développeront leur curiosité. Toutes les histoires sont en français et en néerlandais.\nLes enfants jouent à des jeux multilingues. Chaque atelier couvre trois des langues suivantes : anglais\, arabe\, espagnol\, français et néerlandais. \n\nThe “multilingual tale” invites children to familiarise themselves with languages and their new sounds. They will develop their curiosity. All the stories will be in French and other languages. The children will play multilingual games. Each workshop will feature three of the following languages: Arabic\, Dutch\, English\, French and Spanish. \n\nGratis / Gratuit / Free\nInscription : https://forms.gle/9xCFHWtnGe8uLhMz9  \nEmail : direction.utrecht@afpb.nl \n\n\n– mardi 2 juin : français et néerlandais avec Holly\n\n– mardi 30 juin : français et néerlandais avec Holly\n– mardi 14 juillet : français et néerlandais avec Holly\n\nLieu / Plaats / Location : Pieterskerkhof 5\, 3512 JR Utrecht
URL:https://www.alliance-francaise.nl/utrecht/events/conte-plurilingue-02-06-francais-nederlands/
LOCATION:AFU\, Pieterskerkhof 5\, Utrecht\, Utrecht\, 3512JR\, Netherlands
CATEGORIES:Frans spreken
ATTACH;FMTTYPE=image/jpeg:https://www.alliance-francaise.nl/utrecht/wp-content/uploads/sites/6/2024/07/Mascotte-clementinelatron-1.jpg
ORGANIZER;CN="AFU":MAILTO:culture.utrecht@afpb.nl
END:VEVENT
BEGIN:VEVENT
DTSTART;TZID=Europe/Amsterdam:20260602T190000
DTEND;TZID=Europe/Amsterdam:20260602T203000
DTSTAMP:20260421T210741
CREATED:20260416T113818Z
LAST-MODIFIED:20260416T113818Z
UID:25941-1780426800-1780432200@www.alliance-francaise.nl
SUMMARY:Concert Les Moulins de mon coeur
DESCRIPTION:18:30 Doorloop (repetitie) / Répétition\n19:00 Inloop bezoekers\, bar open / Arrivée du public et ouverture du bar\n19:30 Concert van half uur / Concert d’une demi-heure\n20:00 Bar open voor drankje nadien / Bar ouvert après le spectacle \nLieu : https://maps.app.goo.gl/S4YcnyLFndhDkeNz5 De Berenkuil\, Utrecht
URL:https://www.alliance-francaise.nl/utrecht/events/concert-les-moulins-de-mon-coeur-2/
LOCATION:De berenkuil
ATTACH;FMTTYPE=image/png:https://www.alliance-francaise.nl/utrecht/wp-content/uploads/sites/6/2023/06/Visuels-cours-site-1.png
END:VEVENT
BEGIN:VEVENT
DTSTART;TZID=Europe/Amsterdam:20260609T113000
DTEND;TZID=Europe/Amsterdam:20260609T123000
DTSTAMP:20260421T210741
CREATED:20250514T134948Z
LAST-MODIFIED:20250514T134948Z
UID:23358-1781004600-1781008200@www.alliance-francaise.nl
SUMMARY:Café conversation
DESCRIPTION:Rejoignez-nous pour un café du matin en français animé par Cora ! Un moment convivial en prévision mais également l’occasion parfaite de pratiquer votre français en tant qu’apprenants et de rencontrer des francophones installés à Utrecht. \nKom naar een Frans ochtendcafé onder leiding van Cora! Het is de perfecte gelegenheid om als cursist uw Frans te oefenen en andere Franstaligen te ontmoeten die in Utrecht wonen. \nGratis voor onze leden/studenten\, alleen drankjes zijn voor eigen rekening\, en €6 voor niet-leden*\, betaling ter plekke. \nVanaf niveau A2. \n11:30 – 12:30 \nKlik hier om je in te schrijven. Inscription ici \n  \n 
URL:https://www.alliance-francaise.nl/utrecht/events/cafe-conversation-8/
LOCATION:Slachtstraat Filmtheater\, Slachtstraat 5\, Utrecht\, 3512 BC\, Netherlands
CATEGORIES:Frans spreken
ATTACH;FMTTYPE=image/jpeg:https://www.alliance-francaise.nl/utrecht/wp-content/uploads/sites/6/2025/05/visuel-cafe-25-26-sans-date.jpg
END:VEVENT
BEGIN:VEVENT
DTSTART;TZID=Europe/Amsterdam:20260630T153000
DTEND;TZID=Europe/Amsterdam:20260630T163000
DTSTAMP:20260421T210741
CREATED:20260407T111636Z
LAST-MODIFIED:20260407T111807Z
UID:25915-1782833400-1782837000@www.alliance-francaise.nl
SUMMARY:Conte plurilingue - 30.06 français + nederlands
DESCRIPTION:Het “meertalige verhaal” nodigt kinderen uit om vertrouwd te raken met talen en hun nieuwe klanken. Ze zullen hun nieuwsgierigheid ontwikkelen. Alle verhalen zijn in het Frans en Nederlands. De kinderen spelen meertalige spelletjes. In elke workshop komen drie van de volgende talen aan bod: Arabisch\, Nederlands\, Engels\, Frans en Spaans. \nLe “conte plurilingue” invite les enfants à se familiariser avec les langues et leurs nouvelles sonorités. Ils développeront leur curiosité. Toutes les histoires sont en français et en néerlandais.\nLes enfants jouent à des jeux multilingues. Chaque atelier couvre trois des langues suivantes : anglais\, arabe\, espagnol\, français et néerlandais. \n\nThe “multilingual tale” invites children to familiarise themselves with languages and their new sounds. They will develop their curiosity. All the stories will be in French and other languages. The children will play multilingual games. Each workshop will feature three of the following languages: Arabic\, Dutch\, English\, French and Spanish. \n\nGratis / Gratuit / Free\nInscription : https://forms.gle/9xCFHWtnGe8uLhMz9  \nEmail : direction.utrecht@afpb.nl \n\n– mardi 30 juin : français et néerlandais avec Holly\n– mardi 14 juillet : français et néerlandais avec Holly\n\nLieu / Plaats / Location : Pieterskerkhof 5\, 3512 JR Utrecht
URL:https://www.alliance-francaise.nl/utrecht/events/conte-plurilingue-30-06-francais-nederlands/
LOCATION:AFU\, Pieterskerkhof 5\, Utrecht\, Utrecht\, 3512JR\, Netherlands
CATEGORIES:Frans spreken
ATTACH;FMTTYPE=image/jpeg:https://www.alliance-francaise.nl/utrecht/wp-content/uploads/sites/6/2024/07/Mascotte-clementinelatron-1.jpg
ORGANIZER;CN="AFU":MAILTO:culture.utrecht@afpb.nl
END:VEVENT
BEGIN:VEVENT
DTSTART;TZID=Europe/Amsterdam:20260714T153000
DTEND;TZID=Europe/Amsterdam:20260714T163000
DTSTAMP:20260421T210741
CREATED:20260407T111741Z
LAST-MODIFIED:20260407T111741Z
UID:25917-1784043000-1784046600@www.alliance-francaise.nl
SUMMARY:Conte plurilingue - 14.07 français + nederlands
DESCRIPTION:Het “meertalige verhaal” nodigt kinderen uit om vertrouwd te raken met talen en hun nieuwe klanken. Ze zullen hun nieuwsgierigheid ontwikkelen. Alle verhalen zijn in het Frans en Nederlands. De kinderen spelen meertalige spelletjes. In elke workshop komen drie van de volgende talen aan bod: Arabisch\, Nederlands\, Engels\, Frans en Spaans. \nLe “conte plurilingue” invite les enfants à se familiariser avec les langues et leurs nouvelles sonorités. Ils développeront leur curiosité. Toutes les histoires sont en français et en néerlandais.\nLes enfants jouent à des jeux multilingues. Chaque atelier couvre trois des langues suivantes : anglais\, arabe\, espagnol\, français et néerlandais. \n\nThe “multilingual tale” invites children to familiarise themselves with languages and their new sounds. They will develop their curiosity. All the stories will be in French and other languages. The children will play multilingual games. Each workshop will feature three of the following languages: Arabic\, Dutch\, English\, French and Spanish. \n\nGratis / Gratuit / Free\nInscription : https://forms.gle/9xCFHWtnGe8uLhMz9  \nEmail : direction.utrecht@afpb.nl \n\n– mardi 14 juillet : français et néerlandais avec Holly\n\nLieu / Plaats / Location : Pieterskerkhof 5\, 3512 JR Utrecht
URL:https://www.alliance-francaise.nl/utrecht/events/conte-plurilingue-14-07-francais-nederlands/
LOCATION:AFU\, Pieterskerkhof 5\, Utrecht\, Utrecht\, 3512JR\, Netherlands
CATEGORIES:Frans spreken
ATTACH;FMTTYPE=image/jpeg:https://www.alliance-francaise.nl/utrecht/wp-content/uploads/sites/6/2024/07/Mascotte-clementinelatron-1.jpg
ORGANIZER;CN="AFU":MAILTO:culture.utrecht@afpb.nl
END:VEVENT
END:VCALENDAR