BEGIN:VCALENDAR
VERSION:2.0
PRODID:-//Alliance Francaise Utrecht - ECPv6.15.20//NONSGML v1.0//EN
CALSCALE:GREGORIAN
METHOD:PUBLISH
X-ORIGINAL-URL:https://www.alliance-francaise.nl/utrecht
X-WR-CALDESC:Events for Alliance Francaise Utrecht
REFRESH-INTERVAL;VALUE=DURATION:PT1H
X-Robots-Tag:noindex
X-PUBLISHED-TTL:PT1H
BEGIN:VTIMEZONE
TZID:Europe/Amsterdam
BEGIN:DAYLIGHT
TZOFFSETFROM:+0100
TZOFFSETTO:+0200
TZNAME:CEST
DTSTART:20240331T010000
END:DAYLIGHT
BEGIN:STANDARD
TZOFFSETFROM:+0200
TZOFFSETTO:+0100
TZNAME:CET
DTSTART:20241027T010000
END:STANDARD
BEGIN:DAYLIGHT
TZOFFSETFROM:+0100
TZOFFSETTO:+0200
TZNAME:CEST
DTSTART:20250330T010000
END:DAYLIGHT
BEGIN:STANDARD
TZOFFSETFROM:+0200
TZOFFSETTO:+0100
TZNAME:CET
DTSTART:20251026T010000
END:STANDARD
BEGIN:DAYLIGHT
TZOFFSETFROM:+0100
TZOFFSETTO:+0200
TZNAME:CEST
DTSTART:20260329T010000
END:DAYLIGHT
BEGIN:STANDARD
TZOFFSETFROM:+0200
TZOFFSETTO:+0100
TZNAME:CET
DTSTART:20261025T010000
END:STANDARD
END:VTIMEZONE
BEGIN:VEVENT
DTSTART;TZID=Europe/Amsterdam:20250214T180000
DTEND;TZID=Europe/Amsterdam:20250214T200000
DTSTAMP:20260421T223937
CREATED:20250120T165117Z
LAST-MODIFIED:20250121T150438Z
UID:21807-1739556000-1739563200@www.alliance-francaise.nl
SUMMARY:Broderie / Borduurwerk - Ik doe ik leer #1
DESCRIPTION:Ik doe ik leer n°1 \nEn compagnie de Rose\, nous découvrons les techniques de base de la broderie. Cet atelier de 2 heures est réalisé en français facile. Il est pensé dans une démarche pédagogique pour pratiquer son français en participant à une activité artistique : Ik doe ik leer (je fais\, j’apprends). \nMet Rose ontdekken we de basistechnieken van borduren. Deze 2 uur durende workshop is in eenvoudig Frans. Het is bedoeld als een manier om Frans te oefenen en tegelijkertijd deel te nemen aan een artistieke activiteit: Ik doe ik leer.  \nTicket individuel : 20 euros.
URL:https://www.alliance-francaise.nl/utrecht/events/broderie-borduurwerk-ik-doe-ik-leer-1/
LOCATION:Utrecht
CATEGORIES:Cultuur,Frans spreken,Workshops
ATTACH;FMTTYPE=image/png:https://www.alliance-francaise.nl/utrecht/wp-content/uploads/sites/6/2025/01/Ik-doe-ik-leer-Broderie-14.02.25.png
END:VEVENT
END:VCALENDAR