BEGIN:VCALENDAR
VERSION:2.0
PRODID:-//Alliance Francaise Utrecht - ECPv6.15.20//NONSGML v1.0//EN
CALSCALE:GREGORIAN
METHOD:PUBLISH
X-WR-CALNAME:Alliance Francaise Utrecht
X-ORIGINAL-URL:https://www.alliance-francaise.nl/utrecht
X-WR-CALDESC:Events for Alliance Francaise Utrecht
REFRESH-INTERVAL;VALUE=DURATION:PT1H
X-Robots-Tag:noindex
X-PUBLISHED-TTL:PT1H
BEGIN:VTIMEZONE
TZID:Europe/Amsterdam
BEGIN:DAYLIGHT
TZOFFSETFROM:+0100
TZOFFSETTO:+0200
TZNAME:CEST
DTSTART:20230326T010000
END:DAYLIGHT
BEGIN:STANDARD
TZOFFSETFROM:+0200
TZOFFSETTO:+0100
TZNAME:CET
DTSTART:20231029T010000
END:STANDARD
BEGIN:DAYLIGHT
TZOFFSETFROM:+0100
TZOFFSETTO:+0200
TZNAME:CEST
DTSTART:20240331T010000
END:DAYLIGHT
BEGIN:STANDARD
TZOFFSETFROM:+0200
TZOFFSETTO:+0100
TZNAME:CET
DTSTART:20241027T010000
END:STANDARD
BEGIN:DAYLIGHT
TZOFFSETFROM:+0100
TZOFFSETTO:+0200
TZNAME:CEST
DTSTART:20250330T010000
END:DAYLIGHT
BEGIN:STANDARD
TZOFFSETFROM:+0200
TZOFFSETTO:+0100
TZNAME:CET
DTSTART:20251026T010000
END:STANDARD
END:VTIMEZONE
BEGIN:VEVENT
DTSTART;TZID=Europe/Amsterdam:20240126T190000
DTEND;TZID=Europe/Amsterdam:20240126T210000
DTSTAMP:20260422T221940
CREATED:20231215T145403Z
LAST-MODIFIED:20240129T141827Z
UID:18572-1706295600-1706302800@www.alliance-francaise.nl
SUMMARY:Atelier Colette\, un esprit libre
DESCRIPTION:Romancière\, vedette de music-hall\, journaliste\, publicitaire\, Colette (1873-1954) a mis dans son œuvre\, ainsi que dans les multiples facettes de son existence\, la sensualité et le plaisir aux commandes. A l’occasion du 70ème anniversaire de sa mort\, Anja-Hélène van Zandwijk nous propose un atelier autour de Colette\, sa personnalité et ses oeuvres\, à l’aide de quelques images et des extraits pris dans Chéri (1020) et La chatte (1933). \nRomanschrijfster\, musicalster\, journaliste en reclamemaker Colette (1873-1954) stelde sensualiteit en plezier centraal in haar werk en in de vele facetten van haar leven. Ter gelegenheid van haar 70e sterfdag organiseert Anja-Hélène van Zandwijk een workshop over Colette\, haar persoonlijkheid en haar werken\, aan de hand van enkele afbeeldingen en fragmenten uit Chéri (1020) en La chatte (1933).  \nGratis voor leden/studenten\, €10 voor niet-leden/studenten. \nVanaf niveau B1 \nKlik hier om je in te schrijven.
URL:https://www.alliance-francaise.nl/utrecht/events/atelier-colette-un-esprit-libre/
LOCATION:Slachtstraat Filmtheater\, Slachtstraat 5\, Utrecht\, 3512 BC\, Netherlands
CATEGORIES:Literatuur,Workshops
ATTACH;FMTTYPE=image/png:https://www.alliance-francaise.nl/utrecht/wp-content/uploads/sites/6/2023/12/Atelier-Colette-jan-NL-1.png
END:VEVENT
END:VCALENDAR