BEGIN:VCALENDAR
VERSION:2.0
PRODID:-//Alliance Francaise Utrecht - ECPv6.15.20//NONSGML v1.0//EN
CALSCALE:GREGORIAN
METHOD:PUBLISH
X-WR-CALNAME:Alliance Francaise Utrecht
X-ORIGINAL-URL:https://www.alliance-francaise.nl/utrecht
X-WR-CALDESC:Events for Alliance Francaise Utrecht
REFRESH-INTERVAL;VALUE=DURATION:PT1H
X-Robots-Tag:noindex
X-PUBLISHED-TTL:PT1H
BEGIN:VTIMEZONE
TZID:Europe/Amsterdam
BEGIN:DAYLIGHT
TZOFFSETFROM:+0100
TZOFFSETTO:+0200
TZNAME:CEST
DTSTART:20230326T010000
END:DAYLIGHT
BEGIN:STANDARD
TZOFFSETFROM:+0200
TZOFFSETTO:+0100
TZNAME:CET
DTSTART:20231029T010000
END:STANDARD
BEGIN:DAYLIGHT
TZOFFSETFROM:+0100
TZOFFSETTO:+0200
TZNAME:CEST
DTSTART:20240331T010000
END:DAYLIGHT
BEGIN:STANDARD
TZOFFSETFROM:+0200
TZOFFSETTO:+0100
TZNAME:CET
DTSTART:20241027T010000
END:STANDARD
BEGIN:DAYLIGHT
TZOFFSETFROM:+0100
TZOFFSETTO:+0200
TZNAME:CEST
DTSTART:20250330T010000
END:DAYLIGHT
BEGIN:STANDARD
TZOFFSETFROM:+0200
TZOFFSETTO:+0100
TZNAME:CET
DTSTART:20251026T010000
END:STANDARD
END:VTIMEZONE
BEGIN:VEVENT
DTSTART;TZID=Europe/Amsterdam:20240906T190000
DTEND;TZID=Europe/Amsterdam:20240906T220000
DTSTAMP:20260422T053001
CREATED:20240724T073716Z
LAST-MODIFIED:20240724T073805Z
UID:20616-1725649200-1725660000@www.alliance-francaise.nl
SUMMARY:Britta Maria\, Maurits Fondse - Heb het leven lief
DESCRIPTION:Retrouvez Britta Maria et Maurits Fondse dans leur spectacle “Heb het leven lief” avec le soutien de l’AFU. \nA partir du 06 septembre 2024 pour de nombreuses dates. \n  \nDoe mee met Britta Maria en Maurits Fondse in hun show “Heb het leven lief” met steun van de AFU. \nVanaf 06 september 2024 voor talloze data. \n 
URL:https://www.alliance-francaise.nl/utrecht/events/britta-maria-maurits-fondse-heb-het-leven-lief/
LOCATION:Theater de Vest Alkmaar\, Alkmaar\, Netherlands
CATEGORIES:Feestavonden - Soirées festives
ATTACH;FMTTYPE=application/pdf:https://www.alliance-francaise.nl/utrecht/wp-content/uploads/sites/6/2024/07/Britta-Maria-Maurits-Fondse-Heb-het-leven-lief-A5-v2-1-2-1.pdf
END:VEVENT
END:VCALENDAR