BEGIN:VCALENDAR
VERSION:2.0
PRODID:-//Alliance Francaise Utrecht - ECPv6.15.20//NONSGML v1.0//EN
CALSCALE:GREGORIAN
METHOD:PUBLISH
X-WR-CALNAME:Alliance Francaise Utrecht
X-ORIGINAL-URL:https://www.alliance-francaise.nl/utrecht
X-WR-CALDESC:Events for Alliance Francaise Utrecht
REFRESH-INTERVAL;VALUE=DURATION:PT1H
X-Robots-Tag:noindex
X-PUBLISHED-TTL:PT1H
BEGIN:VTIMEZONE
TZID:Europe/Amsterdam
BEGIN:DAYLIGHT
TZOFFSETFROM:+0100
TZOFFSETTO:+0200
TZNAME:CEST
DTSTART:20230326T010000
END:DAYLIGHT
BEGIN:STANDARD
TZOFFSETFROM:+0200
TZOFFSETTO:+0100
TZNAME:CET
DTSTART:20231029T010000
END:STANDARD
BEGIN:DAYLIGHT
TZOFFSETFROM:+0100
TZOFFSETTO:+0200
TZNAME:CEST
DTSTART:20240331T010000
END:DAYLIGHT
BEGIN:STANDARD
TZOFFSETFROM:+0200
TZOFFSETTO:+0100
TZNAME:CET
DTSTART:20241027T010000
END:STANDARD
BEGIN:DAYLIGHT
TZOFFSETFROM:+0100
TZOFFSETTO:+0200
TZNAME:CEST
DTSTART:20250330T010000
END:DAYLIGHT
BEGIN:STANDARD
TZOFFSETFROM:+0200
TZOFFSETTO:+0100
TZNAME:CET
DTSTART:20251026T010000
END:STANDARD
END:VTIMEZONE
BEGIN:VEVENT
DTSTART;TZID=Europe/Amsterdam:20240424T183000
DTEND;TZID=Europe/Amsterdam:20240424T213000
DTSTAMP:20260422T133909
CREATED:20240315T143108Z
LAST-MODIFIED:20240412T104654Z
UID:19490-1713983400-1713994200@www.alliance-francaise.nl
SUMMARY:Restaurant c'est ça
DESCRIPTION:Retrouvons-nous pour notre diner annuel avec un menu français spécialement préparé par le chef du Restaurant c’est ça au prix de 40€. Merci de régler le menu sur notre site. Les boissons seront à votre charge le soir de l’évènement. Attention les places sont limitées et les conditions d’annulation sont strictes. Des frais de 20€ seront appliquées si vous ne prévenez pas 48h à l’avance. \nLaten we samenkomen voor ons jaarlijkse diner met een Frans menu speciaal bereid door de chef-kok van Restaurant c’est ça voor €40. Betaal het menu op onze website. Voor drankjes wordt gezorgd op de avond van het evenement. Houd er rekening mee dat de plaatsen beperkt zijn en dat het annuleringsbeleid strikt is. Er wordt een bedrag van €20 in rekening gebracht als je ons niet 48 uur van tevoren op de hoogte stelt. \nKlik hier om je in te schrijven. \n  \nIL RESTE 6 PLACES
URL:https://www.alliance-francaise.nl/utrecht/events/restaurant-cest-ca/
LOCATION:restaurant c’est ca\, Bollenhofsestraat 142\, Utrecht\, 3572 VT\, Netherlands
CATEGORIES:Feestavonden - Soirées festives,Frans spreken
ATTACH;FMTTYPE=image/png:https://www.alliance-francaise.nl/utrecht/wp-content/uploads/sites/6/2024/03/Diner-FR.png
END:VEVENT
END:VCALENDAR