BEGIN:VCALENDAR
VERSION:2.0
PRODID:-//Alliance Francaise Utrecht - ECPv6.15.20//NONSGML v1.0//EN
CALSCALE:GREGORIAN
METHOD:PUBLISH
X-ORIGINAL-URL:https://www.alliance-francaise.nl/utrecht
X-WR-CALDESC:Events for Alliance Francaise Utrecht
REFRESH-INTERVAL;VALUE=DURATION:PT1H
X-Robots-Tag:noindex
X-PUBLISHED-TTL:PT1H
BEGIN:VTIMEZONE
TZID:Europe/Amsterdam
BEGIN:DAYLIGHT
TZOFFSETFROM:+0100
TZOFFSETTO:+0200
TZNAME:CEST
DTSTART:20240331T010000
END:DAYLIGHT
BEGIN:STANDARD
TZOFFSETFROM:+0200
TZOFFSETTO:+0100
TZNAME:CET
DTSTART:20241027T010000
END:STANDARD
BEGIN:DAYLIGHT
TZOFFSETFROM:+0100
TZOFFSETTO:+0200
TZNAME:CEST
DTSTART:20250330T010000
END:DAYLIGHT
BEGIN:STANDARD
TZOFFSETFROM:+0200
TZOFFSETTO:+0100
TZNAME:CET
DTSTART:20251026T010000
END:STANDARD
BEGIN:DAYLIGHT
TZOFFSETFROM:+0100
TZOFFSETTO:+0200
TZNAME:CEST
DTSTART:20260329T010000
END:DAYLIGHT
BEGIN:STANDARD
TZOFFSETFROM:+0200
TZOFFSETTO:+0100
TZNAME:CET
DTSTART:20261025T010000
END:STANDARD
END:VTIMEZONE
BEGIN:VEVENT
DTSTART;TZID=Europe/Amsterdam:20250619T200000
DTEND;TZID=Europe/Amsterdam:20250619T210000
DTSTAMP:20260421T155217
CREATED:20240723T115708Z
LAST-MODIFIED:20240723T120021Z
UID:20572-1750363200-1750366800@www.alliance-francaise.nl
SUMMARY:Conférence Oh - Le peintre Gustave CAILLEBOTTE
DESCRIPTION:Les Alliances Françaises du Portugal\, d’Espagne\, de Pologne\, de Belgique\, des Pays-Bas ainsi que l’Accueil de la Haye sont heureuses de s’unir de nouveau afin de vous présenter une nouvelle rencontre d’un cycle de conférences sur les incontournables de la culture française. Laissez-vous guider par Giulia FRANCESCHINI lors d’une conférence en ligne sur le peintre Gustave Caillebotte (1848-1894)\, le jeudi 19 juin 2025\, à 20h00.\n\n\n\nIssu d’une famille aisée\, Caillebotte fut longtemps connu plus comme mécène des Impressionnistes que comme peintre. Il peint en plein-air\, en faisant aussi beaucoup d’esquisses\, et aussi la vie dans les boulevards Haussmanniens\, en donnant le beau rôle à l’architecture. Une heure pour découvrir ou redécouvrir ce peintre de la deuxième moitié du 19 e siècle.\n\n\n\nDeze videoconferentie\, gepresenteerd door Giulia Franceschini\, biedt inzicht in de schilder Gustave Caillebotte\, een mecenas van de impressionisten en een schilder in zijn eigen recht. \nTijd: 20:00 uur – 21:00 uur \nKlik hier om je in te schrijven.
URL:https://www.alliance-francaise.nl/utrecht/events/conference-oh-le-peintre-gustave-caillebotte/
LOCATION:Online
CATEGORIES:Conferenties
ATTACH;FMTTYPE=image/png:https://www.alliance-francaise.nl/utrecht/wp-content/uploads/sites/6/2024/07/5.png
END:VEVENT
END:VCALENDAR