BEGIN:VCALENDAR
VERSION:2.0
PRODID:-//Alliance Francaise Utrecht - ECPv6.15.20//NONSGML v1.0//EN
CALSCALE:GREGORIAN
METHOD:PUBLISH
X-WR-CALNAME:Alliance Francaise Utrecht
X-ORIGINAL-URL:https://www.alliance-francaise.nl/utrecht
X-WR-CALDESC:Events for Alliance Francaise Utrecht
REFRESH-INTERVAL;VALUE=DURATION:PT1H
X-Robots-Tag:noindex
X-PUBLISHED-TTL:PT1H
BEGIN:VTIMEZONE
TZID:Europe/Amsterdam
BEGIN:DAYLIGHT
TZOFFSETFROM:+0100
TZOFFSETTO:+0200
TZNAME:CEST
DTSTART:20240331T010000
END:DAYLIGHT
BEGIN:STANDARD
TZOFFSETFROM:+0200
TZOFFSETTO:+0100
TZNAME:CET
DTSTART:20241027T010000
END:STANDARD
BEGIN:DAYLIGHT
TZOFFSETFROM:+0100
TZOFFSETTO:+0200
TZNAME:CEST
DTSTART:20250330T010000
END:DAYLIGHT
BEGIN:STANDARD
TZOFFSETFROM:+0200
TZOFFSETTO:+0100
TZNAME:CET
DTSTART:20251026T010000
END:STANDARD
BEGIN:DAYLIGHT
TZOFFSETFROM:+0100
TZOFFSETTO:+0200
TZNAME:CEST
DTSTART:20260329T010000
END:DAYLIGHT
BEGIN:STANDARD
TZOFFSETFROM:+0200
TZOFFSETTO:+0100
TZNAME:CET
DTSTART:20261025T010000
END:STANDARD
END:VTIMEZONE
BEGIN:VEVENT
DTSTART;TZID=Europe/Amsterdam:20250417T200000
DTEND;TZID=Europe/Amsterdam:20250417T210000
DTSTAMP:20260421T192733
CREATED:20240723T115241Z
LAST-MODIFIED:20240723T120402Z
UID:20570-1744920000-1744923600@www.alliance-francaise.nl
SUMMARY:Conférence Oh - Le peintre Jean-Honoré FRAGONARD
DESCRIPTION:Les Alliances Françaises du Portugal\, d’Espagne\, de Pologne\, de Belgique\, des Pays-Bas ainsi que l’Accueil de la Haye sont heureuses de s’unir de nouveau afin de vous présenter une nouvelle rencontre d’un cycle de conférences sur les incontournables de la culture française. Laissez-vous guider par Giulia FRANCESCHINI lors d’une conférence en ligne sur le peintre Jean-Honoré Fragonard\, le jeudi 17 avril 2025\, à 20h00.\n\n\n\nPeintre d’histoire et de genre\, il est l’un des majeurs représentants du rococo français. Il est considéré comme le peintre de la frivolité\, bien qu’il ait peint dans de nombreux autres registres : grands paysages inspirés de peintres hollandais\, peintures religieuses ou mythologiques\, ou encore scène de bonheur familial. d’un trait virtuose\, il savait montrer le tourbillonnement du monde par des gestes expressifs et gracieux ou des drapés pleins de vigueur.\n\n\nDeze videoconferentie\, gepresenteerd door Giulia Franceschini\, geeft een overzicht van de schilder Jean-Honoré Fragonard\, een van de belangrijkste exponenten van de ‘Franse rococo’. \nTijd: 20:00 uur – 21:00 uur \nKlik hier om je in te schrijven.
URL:https://www.alliance-francaise.nl/utrecht/events/conference-oh-le-peintre-jean-honore-fragonard/
LOCATION:Online
CATEGORIES:Conferenties
ATTACH;FMTTYPE=image/png:https://www.alliance-francaise.nl/utrecht/wp-content/uploads/sites/6/2024/07/4.png
END:VEVENT
END:VCALENDAR