BEGIN:VCALENDAR
VERSION:2.0
PRODID:-//Alliance Francaise Utrecht - ECPv6.15.20//NONSGML v1.0//EN
CALSCALE:GREGORIAN
METHOD:PUBLISH
X-WR-CALNAME:Alliance Francaise Utrecht
X-ORIGINAL-URL:https://www.alliance-francaise.nl/utrecht
X-WR-CALDESC:Events for Alliance Francaise Utrecht
REFRESH-INTERVAL;VALUE=DURATION:PT1H
X-Robots-Tag:noindex
X-PUBLISHED-TTL:PT1H
BEGIN:VTIMEZONE
TZID:Europe/Amsterdam
BEGIN:DAYLIGHT
TZOFFSETFROM:+0100
TZOFFSETTO:+0200
TZNAME:CEST
DTSTART:20230326T010000
END:DAYLIGHT
BEGIN:STANDARD
TZOFFSETFROM:+0200
TZOFFSETTO:+0100
TZNAME:CET
DTSTART:20231029T010000
END:STANDARD
BEGIN:DAYLIGHT
TZOFFSETFROM:+0100
TZOFFSETTO:+0200
TZNAME:CEST
DTSTART:20240331T010000
END:DAYLIGHT
BEGIN:STANDARD
TZOFFSETFROM:+0200
TZOFFSETTO:+0100
TZNAME:CET
DTSTART:20241027T010000
END:STANDARD
BEGIN:DAYLIGHT
TZOFFSETFROM:+0100
TZOFFSETTO:+0200
TZNAME:CEST
DTSTART:20250330T010000
END:DAYLIGHT
BEGIN:STANDARD
TZOFFSETFROM:+0200
TZOFFSETTO:+0100
TZNAME:CET
DTSTART:20251026T010000
END:STANDARD
END:VTIMEZONE
BEGIN:VEVENT
DTSTART;TZID=Europe/Amsterdam:20241121T200000
DTEND;TZID=Europe/Amsterdam:20241121T210000
DTSTAMP:20260422T035240
CREATED:20240723T113936Z
LAST-MODIFIED:20240723T113936Z
UID:20566-1732219200-1732222800@www.alliance-francaise.nl
SUMMARY:Conférence Oh - Pierre-Paul RUBENS
DESCRIPTION:Les Alliances Françaises du Portugal\, d’Espagne\, de Pologne\, de Belgique\, des Pays-Bas ainsi que l’Accueil de la Haye sont heureuses de s’unir afin de vous présenter une nouvelle rencontre d’un cycle de conférences sur les incontournables de la culture française. Laissez-vous guider par Giulia FRANCESCHINI lors d’une conférence en ligne sur le peintre Pierre Paul Rubens (1577 – 1640)\, le jeudi 21 novembre\, à 20h00.\n\n \n\nDécouvrez ou redécouvrez la vie et l’œuvre d’un des plus grands artistes de l’art européen : peintre\, dessinateur\, designer\, collectionneur\, il avait un des ateliers les plus actifs et prospères du 17 e siècle. Mais Rubens ne fut pas simplement un artiste de talent\, il fut aussi un diplomate hors norme qui a œuvré pour la paix entre les Pays-Bas espagnols et la République des Provinces unies.\n\n\nDeze videoconferentie\, gepresenteerd door Giulia Franceschini\, biedt inzicht in het leven en werk van een van de grootste kunstenaars van de Europese kunst: Pierre-Paul Rubens. Registreer je gratis door op de onderstaande link te klikken. \nTijd: 20:00 uur – 21:00 uur \nKlik hier om je in te schrijven.
URL:https://www.alliance-francaise.nl/utrecht/events/conference-oh-pierre-paul-rubens/
LOCATION:Online
CATEGORIES:Conferenties
ATTACH;FMTTYPE=image/png:https://www.alliance-francaise.nl/utrecht/wp-content/uploads/sites/6/2024/07/2.png
END:VEVENT
END:VCALENDAR