BEGIN:VCALENDAR
VERSION:2.0
PRODID:-//Alliance Francaise Utrecht - ECPv6.15.20//NONSGML v1.0//EN
CALSCALE:GREGORIAN
METHOD:PUBLISH
X-WR-CALNAME:Alliance Francaise Utrecht
X-ORIGINAL-URL:https://www.alliance-francaise.nl/utrecht
X-WR-CALDESC:Events for Alliance Francaise Utrecht
REFRESH-INTERVAL;VALUE=DURATION:PT1H
X-Robots-Tag:noindex
X-PUBLISHED-TTL:PT1H
BEGIN:VTIMEZONE
TZID:Europe/Amsterdam
BEGIN:DAYLIGHT
TZOFFSETFROM:+0100
TZOFFSETTO:+0200
TZNAME:CEST
DTSTART:20230326T010000
END:DAYLIGHT
BEGIN:STANDARD
TZOFFSETFROM:+0200
TZOFFSETTO:+0100
TZNAME:CET
DTSTART:20231029T010000
END:STANDARD
BEGIN:DAYLIGHT
TZOFFSETFROM:+0100
TZOFFSETTO:+0200
TZNAME:CEST
DTSTART:20240331T010000
END:DAYLIGHT
BEGIN:STANDARD
TZOFFSETFROM:+0200
TZOFFSETTO:+0100
TZNAME:CET
DTSTART:20241027T010000
END:STANDARD
BEGIN:DAYLIGHT
TZOFFSETFROM:+0100
TZOFFSETTO:+0200
TZNAME:CEST
DTSTART:20250330T010000
END:DAYLIGHT
BEGIN:STANDARD
TZOFFSETFROM:+0200
TZOFFSETTO:+0100
TZNAME:CET
DTSTART:20251026T010000
END:STANDARD
END:VTIMEZONE
BEGIN:VEVENT
DTSTART;TZID=Europe/Amsterdam:20240919T200000
DTEND;TZID=Europe/Amsterdam:20240919T210000
DTSTAMP:20260422T070012
CREATED:20240723T112740Z
LAST-MODIFIED:20240723T120630Z
UID:20559-1726776000-1726779600@www.alliance-francaise.nl
SUMMARY:Conférence Oh - L'impressionnisme fête ses 150 ans
DESCRIPTION:Les Alliances Françaises du Portugal\, d’Espagne\, de Pologne\, de Belgique\, des Pays-Bas ainsi que l’Accueil de la Haye sont heureuses de s’unir de nouveau afin de vous présenter une nouvelle rencontre d’un cycle de conférences sur les incontournables de la culture française. Laissez-vous guider par Giulia FRANCESCHINI lors d’une conférence en ligne sur L’Impressionnisme a 150 ans ! \n \n\nLe 15 avril 1874 s’ouvrait à Paris une exposition qui allait changer les donnes de l’histoire de l’art : celle des Impressionnistes. Un groupe d’artistes assez hétéroclite\, poussé par une même soif de succès et d’innovation\, qui expose des œuvres sortant du moule académique. Ils vont mettre en route une révolution dans la peinture occidentale et créer des œuvres qui continuent de nous interpeler à 150 ans de distance.Le 15 avril 1874 s’ouvrait à Paris une exposition qui allait changer les donnes de l’histoire de l’art : celle des Impressionnistes. Un groupe d’artistes assez hétéroclite\, poussé par une même soif de succès et d’innovation\, qui expose des œuvres sortant du moule académique. Ils vont mettre en route une révolution dans la peinture occidentale et créer des œuvres qui continuent de nous interpeler à 150 ans dedistance.\n\nPrikkel je passie voor kunst met de volgende Oh! conferentie op Donderdag 19 september het resultaat van een samenwerking tussen de Alliances Françaises van Portugal\, Spanje\, Polen\, België en Nederland. Ontdek de geschiedenis van het impressionisme\, dat 150 jaar bestaat. Deze videoconferentie wordt gepresenteerd door Giulia Franceschini en biedt een overzicht van deze artistieke revolutie in de westerse schilderkunst. Registreer gratis door op de onderstaande link te klikken. \nTijd: 20:00 uur – 21:00 uur \nKlik hier om je in te schrijven.
URL:https://www.alliance-francaise.nl/utrecht/events/conference-oh-limpressionnisme-fete-ses-150-ans/
LOCATION:Online
CATEGORIES:Conferenties
ATTACH;FMTTYPE=image/png:https://www.alliance-francaise.nl/utrecht/wp-content/uploads/sites/6/2024/07/1-1.png
END:VEVENT
END:VCALENDAR