BEGIN:VCALENDAR
VERSION:2.0
PRODID:-//Alliance Francaise Utrecht - ECPv6.15.20//NONSGML v1.0//EN
CALSCALE:GREGORIAN
METHOD:PUBLISH
X-WR-CALNAME:Alliance Francaise Utrecht
X-ORIGINAL-URL:https://www.alliance-francaise.nl/utrecht
X-WR-CALDESC:Events for Alliance Francaise Utrecht
REFRESH-INTERVAL;VALUE=DURATION:PT1H
X-Robots-Tag:noindex
X-PUBLISHED-TTL:PT1H
BEGIN:VTIMEZONE
TZID:Europe/Amsterdam
BEGIN:DAYLIGHT
TZOFFSETFROM:+0100
TZOFFSETTO:+0200
TZNAME:CEST
DTSTART:20230326T010000
END:DAYLIGHT
BEGIN:STANDARD
TZOFFSETFROM:+0200
TZOFFSETTO:+0100
TZNAME:CET
DTSTART:20231029T010000
END:STANDARD
BEGIN:DAYLIGHT
TZOFFSETFROM:+0100
TZOFFSETTO:+0200
TZNAME:CEST
DTSTART:20240331T010000
END:DAYLIGHT
BEGIN:STANDARD
TZOFFSETFROM:+0200
TZOFFSETTO:+0100
TZNAME:CET
DTSTART:20241027T010000
END:STANDARD
BEGIN:DAYLIGHT
TZOFFSETFROM:+0100
TZOFFSETTO:+0200
TZNAME:CEST
DTSTART:20250330T010000
END:DAYLIGHT
BEGIN:STANDARD
TZOFFSETFROM:+0200
TZOFFSETTO:+0100
TZNAME:CET
DTSTART:20251026T010000
END:STANDARD
END:VTIMEZONE
BEGIN:VEVENT
DTSTART;TZID=Europe/Amsterdam:20240702T190000
DTEND;TZID=Europe/Amsterdam:20240702T210000
DTSTAMP:20260422T101818
CREATED:20240612T084907Z
LAST-MODIFIED:20240614T073509Z
UID:20218-1719946800-1719954000@www.alliance-francaise.nl
SUMMARY:Vernissage exposition Saint-Exupéry
DESCRIPTION:Exposition Saint Exupéry\, aviateur et auteur du Petit Prince \nÀ l’occasion du 80e anniversaire du « Petit Prince »\, l’Alliance Française Utrecht et l’Église Wallonne Utrecht accueillent\, avec le soutien de l’Institut français NL et AD. Donker Rotterdam\, l’exposition “Saint-Exupéry\, aviateur et auteur du Petit Prince » . \nRejoignez-nous lors de la soirée de vernissage de l’exposition\, qui aura lieu le 2 juillet à partir de 19h\, en présence de Erik van Muiswinkel\, traducteur du Petit Prince en néerlandais\, et avec la participation de Uitgeverij AD. Donker Rotterdam. \nVous pourrez retrouver les œuvres dans l’Église Wallonne Utrecht du 2 au 31 juillet 2024. Entrée libre et gratuite du mardi au samedi\, de 11h à 17h. \nL’exposition “Antoine de Saint-Exupéry\, aviateur et auteur du Petit Prince” présente les œuvres de l’illustrateur et auteur de bandes dessinées français Cédric Fernandez\, inspirées de la trilogie Saint-Exupéry. \nDe 2014 à 2019\, Cédric Fernandez a consacré ses prouesses artistiques à la réalisation des trois volumes de la bande dessinée Saint-Exupéry. Avec une attention portée aux détails\, il capture les expériences de Saint-Exupéry ; ses émotions\, ses aventures et les idées profondes qui ont marqué sa vie et l’œuvre du célèbre auteur du Petit Prince. \nInscription à partir de ce lien : https://forms.gle/zxLcDaELLhhBx81M8 \n  \nTentoonstelling Saint Exupéry\, vliegenier en auteur van De Kleine Prins \nTer gelegenheid van de 80ste verjaardag van De Kleine Prins organiseren de Alliance Française Utrecht en de Waalse Kerk Utrecht\, met steun van het Fondation Antoine de Saint-Exupéry\, het Institut français NL en AFPB\, de tentoonstelling “Saint-Exupéry\, vliegenier en auteur van De Kleine Prins”. \nKom naar de preview van de tentoonstelling op 2 juli vanaf 19.00 uur\, in aanwezigheid van Erik van Muiswinkel\, vertaler van De Kleine Prins in het Nederlands\, en met medewerking van Uitgeverij AD. Donker Rotterdam. \nDe werken zullen te zien zijn in de Waalse Kerk in Utrecht van 02 tot en met 31 juli 2024. De toegang is gratis van dinsdag tot zaterdag\, van 11.00 tot 17.00 uur. \nDe tentoonstelling “Antoine de Saint-Exupéry\, vliegenier en schrijver van De Kleine Prins” toont werken van de Franse illustrator en striptekenaar Cédric Fernandez\, geïnspireerd op de Saint-Exupéry-trilogie. \nVan 2014 tot 2019 wijdde Cédric Fernandez zijn artistieke bekwaamheid aan de productie van de drie delen van het Saint-Exupéry-stripverhaal. Met oog voor detail legt hij de ervaringen van Saint-Exupéry vast; zijn emoties\, zijn avonturen en de diepgaande ideeën die zijn leven en het werk van de gevierde auteur van De kleine prins vorm gaven. \nOm u in te schrijven\, klik hier: https://forms.gle/zxLcDaELLhhBx81M8 \n 
URL:https://www.alliance-francaise.nl/utrecht/events/vernissage-exposition-saint-exupery/
LOCATION:De Waalse Kerk\, Pieterskerkhof 5\, Utrecht
CATEGORIES:Conferenties,Cultuur,Feest,Literatuur
ATTACH;FMTTYPE=image/png:https://www.alliance-francaise.nl/utrecht/wp-content/uploads/sites/6/2024/06/Invitation-vernissage-St-Ex-format-event.png
END:VEVENT
END:VCALENDAR