BEGIN:VCALENDAR
VERSION:2.0
PRODID:-//Alliance Française Stedendriehoek - ECPv6.15.20//NONSGML v1.0//EN
CALSCALE:GREGORIAN
METHOD:PUBLISH
X-WR-CALNAME:Alliance Française Stedendriehoek
X-ORIGINAL-URL:https://www.alliance-francaise.nl/stedendriehoek
X-WR-CALDESC:Evenementen voor Alliance Française Stedendriehoek
REFRESH-INTERVAL;VALUE=DURATION:PT1H
X-Robots-Tag:noindex
X-PUBLISHED-TTL:PT1H
BEGIN:VTIMEZONE
TZID:Europe/Amsterdam
BEGIN:DAYLIGHT
TZOFFSETFROM:+0100
TZOFFSETTO:+0200
TZNAME:CEST
DTSTART:20250330T010000
END:DAYLIGHT
BEGIN:STANDARD
TZOFFSETFROM:+0200
TZOFFSETTO:+0100
TZNAME:CET
DTSTART:20251026T010000
END:STANDARD
BEGIN:DAYLIGHT
TZOFFSETFROM:+0100
TZOFFSETTO:+0200
TZNAME:CEST
DTSTART:20260329T010000
END:DAYLIGHT
BEGIN:STANDARD
TZOFFSETFROM:+0200
TZOFFSETTO:+0100
TZNAME:CET
DTSTART:20261025T010000
END:STANDARD
BEGIN:DAYLIGHT
TZOFFSETFROM:+0100
TZOFFSETTO:+0200
TZNAME:CEST
DTSTART:20270328T010000
END:DAYLIGHT
BEGIN:STANDARD
TZOFFSETFROM:+0200
TZOFFSETTO:+0100
TZNAME:CET
DTSTART:20271031T010000
END:STANDARD
END:VTIMEZONE
BEGIN:VEVENT
DTSTART;TZID=Europe/Amsterdam:20260212T200000
DTEND;TZID=Europe/Amsterdam:20260212T220000
DTSTAMP:20260422T142552
CREATED:20250423T124755Z
LAST-MODIFIED:20260206T092026Z
UID:15657-1770926400-1770933600@www.alliance-francaise.nl
SUMMARY:GEANNULEERD: PubQuiz
DESCRIPTION:06-02-2026\nIn verband met onvoldoende aanmeldingen is de pubquiz helaas geannuleerd.\nEn raison d’un nombre insuffisant d’inscriptions\, le quiz du pub a malheureusement été annulé.
URL:https://www.alliance-francaise.nl/stedendriehoek/activiteit/pubquiz/
LOCATION:Station Royaal\, Stationsplein 4\, Apeldoorn\, 7311 NZ\, Nederland
CATEGORIES:Quiz
ATTACH;FMTTYPE=image/jpeg:https://www.alliance-francaise.nl/stedendriehoek/wp-content/uploads/sites/37/2023/04/Quiz.jpeg
END:VEVENT
END:VCALENDAR