BEGIN:VCALENDAR
VERSION:2.0
PRODID:-//Alliance Française Kennemerland - ECPv6.15.20//NONSGML v1.0//EN
CALSCALE:GREGORIAN
METHOD:PUBLISH
X-WR-CALNAME:Alliance Française Kennemerland
X-ORIGINAL-URL:https://www.alliance-francaise.nl/kennemerland
X-WR-CALDESC:Evenementen voor Alliance Française Kennemerland
REFRESH-INTERVAL;VALUE=DURATION:PT1H
X-Robots-Tag:noindex
X-PUBLISHED-TTL:PT1H
BEGIN:VTIMEZONE
TZID:Europe/Amsterdam
BEGIN:DAYLIGHT
TZOFFSETFROM:+0100
TZOFFSETTO:+0200
TZNAME:CEST
DTSTART:20240331T010000
END:DAYLIGHT
BEGIN:STANDARD
TZOFFSETFROM:+0200
TZOFFSETTO:+0100
TZNAME:CET
DTSTART:20241027T010000
END:STANDARD
BEGIN:DAYLIGHT
TZOFFSETFROM:+0100
TZOFFSETTO:+0200
TZNAME:CEST
DTSTART:20250330T010000
END:DAYLIGHT
BEGIN:STANDARD
TZOFFSETFROM:+0200
TZOFFSETTO:+0100
TZNAME:CET
DTSTART:20251026T010000
END:STANDARD
BEGIN:DAYLIGHT
TZOFFSETFROM:+0100
TZOFFSETTO:+0200
TZNAME:CEST
DTSTART:20260329T010000
END:DAYLIGHT
BEGIN:STANDARD
TZOFFSETFROM:+0200
TZOFFSETTO:+0100
TZNAME:CET
DTSTART:20261025T010000
END:STANDARD
END:VTIMEZONE
BEGIN:VEVENT
DTSTART;TZID=Europe/Amsterdam:20250922T090000
DTEND;TZID=Europe/Amsterdam:20250922T103000
DTSTAMP:20260422T004254
CREATED:20250828T084319Z
LAST-MODIFIED:20250828T084319Z
UID:12057-1758531600-1758537000@www.alliance-francaise.nl
SUMMARY:Start Conversatiecursus B2 maandag 9.00 Schakel
DESCRIPTION:Bij deze cursus staat het spreken van de Franse taal centraal. Onder begeleiding van een Franstalige docent leert u samen met uw medecursisten in het Frans te spreken over uiteenlopende thema’s. \nAls cursist wordt u automatisch ami(e) van Alliance Française Kennemerland\, waarmee u tegen gereduceerd tarief de culturele activiteiten kunt bijwonen. \n\nB2 Conversatie\, Maandag 9.00-10.30u Schakel\, docent Edouard\, 25 lessen\n\nINSCHRIJVEN
URL:https://www.alliance-francaise.nl/kennemerland/events/start-conversatiecursus-b2-maandag-9-00-schakel/
LOCATION:De Schakel\, Pijnboomstraat 17\, Haarlem\, 2023 VN
CATEGORIES:Aanvang Cursus
ATTACH;FMTTYPE=image/jpeg:https://www.alliance-francaise.nl/kennemerland/wp-content/uploads/sites/29/2024/05/ConversatieCursus-B2.jpg
END:VEVENT
BEGIN:VEVENT
DTSTART;TZID=Europe/Amsterdam:20250910T150000
DTEND;TZID=Europe/Amsterdam:20250910T180000
DTSTAMP:20260422T004254
CREATED:20250828T090042Z
LAST-MODIFIED:20250828T090042Z
UID:12070-1757516400-1757527200@www.alliance-francaise.nl
SUMMARY:Start cursussen: Cours de Français Langue Héritage
DESCRIPTION:L’Alliance Française Kennemerland propose un cours de français destiné aux enfants francophones âgés de 7 à 12 ans\, résidant aux Pays-Bas. Une condition importante pour y participer est de savoir lire\, écrire et comprendre le français oral. \nLes profils des élèves sont variés : certains ont un ou deux parents francophones\, d’autres ont vécu une partie de leur vie en France. \nIl est évident que parler français à la maison ne suffit pas pour bien maîtriser la langue à l’écrit et à l’oral. Pour relever ce défi\, l’Alliance Française Kennemerland a mis en place un cours qui combine des approches issues du Français Langue Étrangère (FLE)\, du Français Langue d’Héritage (FLH) et du Français Langue Maternelle (FLM). \n\nMercredi 15.00-16.00 h                     Niveau 1\, âge 7-8\nMercredi 16.00-17.00 h                     Niveau 2\, âge 7-9\nMercredi 17.00-18.00 h                     Niveau 3\, âge 8-11\n\n* Het Verhalenhuis\,  professeur Leïla\, 33 leçons. \nS’INSCRIRE
URL:https://www.alliance-francaise.nl/kennemerland/events/start-cursussen-cours-de-francais-langue-heritage/
LOCATION:Het Verhalenhuis\, van Egmondstraat 7\, Haarlem\, 2024 XL\, Nederland
CATEGORIES:Aanvang Cursus
ATTACH;FMTTYPE=image/png:https://www.alliance-francaise.nl/kennemerland/wp-content/uploads/sites/29/2025/06/Kindercursus.png
END:VEVENT
END:VCALENDAR